BEGIN:VCALENDAR
VERSION:2.0
PRODID:-//קהילת הראל - ECPv6.15.17//NONSGML v1.0//EN
CALSCALE:GREGORIAN
METHOD:PUBLISH
X-WR-CALNAME:קהילת הראל
X-ORIGINAL-URL:https://www.kharel.org.il
X-WR-CALDESC:Events for קהילת הראל
REFRESH-INTERVAL;VALUE=DURATION:PT1H
X-Robots-Tag:noindex
X-PUBLISHED-TTL:PT1H
BEGIN:VTIMEZONE
TZID:Europe/Helsinki
BEGIN:DAYLIGHT
TZOFFSETFROM:+0200
TZOFFSETTO:+0300
TZNAME:EEST
DTSTART:20250330T010000
END:DAYLIGHT
BEGIN:STANDARD
TZOFFSETFROM:+0300
TZOFFSETTO:+0200
TZNAME:EET
DTSTART:20251026T010000
END:STANDARD
BEGIN:DAYLIGHT
TZOFFSETFROM:+0200
TZOFFSETTO:+0300
TZNAME:EEST
DTSTART:20260329T010000
END:DAYLIGHT
BEGIN:STANDARD
TZOFFSETFROM:+0300
TZOFFSETTO:+0200
TZNAME:EET
DTSTART:20261025T010000
END:STANDARD
BEGIN:DAYLIGHT
TZOFFSETFROM:+0200
TZOFFSETTO:+0300
TZNAME:EEST
DTSTART:20270328T010000
END:DAYLIGHT
BEGIN:STANDARD
TZOFFSETFROM:+0300
TZOFFSETTO:+0200
TZNAME:EET
DTSTART:20271031T010000
END:STANDARD
END:VTIMEZONE
BEGIN:VEVENT
DTSTART;VALUE=DATE:20260425
DTEND;VALUE=DATE:20260426
DTSTAMP:20260425T035756
CREATED:20260319T185424Z
LAST-MODIFIED:20260319T185424Z
UID:17696-1777075200-1777161599@www.kharel.org.il
SUMMARY:אחרי-קדושים
DESCRIPTION:
URL:https://www.kharel.org.il/event/%d7%90%d7%97%d7%a8%d7%99-%d7%a7%d7%93%d7%95%d7%a9%d7%99%d7%9d/
END:VEVENT
BEGIN:VEVENT
DTSTART;TZID=Europe/Helsinki:20260425T093000
DTEND;TZID=Europe/Helsinki:20260425T113000
DTSTAMP:20260425T035756
CREATED:20260319T185953Z
LAST-MODIFIED:20260319T190003Z
UID:17720-1777109400-1777116600@www.kharel.org.il
SUMMARY:שחרית לשבת
DESCRIPTION:התפילה תתקיים בבית הכנסת. \nאתם/ן גם מוזמנים להתפלל איתנו באמצעות השידור הישיר של הקהילה בפייסבוק וביוטיוב.\nhttps://www.youtube.com/c/KehilatHarEl/live\nhttps://www.facebook.com/kehilat.har.el
URL:https://www.kharel.org.il/event/%d7%a9%d7%97%d7%a8%d7%99%d7%aa-%d7%9c%d7%a9%d7%91%d7%aa-15-copy-copy-copy-copy-copy-2-copy-copy-copy-copy-2-copy-copy-copy-copy-copy-copy-copy-copy-copy-copy-copy-copy-copy-copy-copy-copy-copy-copy-20/
LOCATION:קהילת הר-אל\, Israel
END:VEVENT
END:VCALENDAR