BEGIN:VCALENDAR
VERSION:2.0
PRODID:-//קהילת הראל - ECPv6.15.17//NONSGML v1.0//EN
CALSCALE:GREGORIAN
METHOD:PUBLISH
X-WR-CALNAME:קהילת הראל
X-ORIGINAL-URL:https://www.kharel.org.il
X-WR-CALDESC:Events for קהילת הראל
REFRESH-INTERVAL;VALUE=DURATION:PT1H
X-Robots-Tag:noindex
X-PUBLISHED-TTL:PT1H
BEGIN:VTIMEZONE
TZID:Europe/Helsinki
BEGIN:DAYLIGHT
TZOFFSETFROM:+0200
TZOFFSETTO:+0300
TZNAME:EEST
DTSTART:20250330T010000
END:DAYLIGHT
BEGIN:STANDARD
TZOFFSETFROM:+0300
TZOFFSETTO:+0200
TZNAME:EET
DTSTART:20251026T010000
END:STANDARD
BEGIN:DAYLIGHT
TZOFFSETFROM:+0200
TZOFFSETTO:+0300
TZNAME:EEST
DTSTART:20260329T010000
END:DAYLIGHT
BEGIN:STANDARD
TZOFFSETFROM:+0300
TZOFFSETTO:+0200
TZNAME:EET
DTSTART:20261025T010000
END:STANDARD
BEGIN:DAYLIGHT
TZOFFSETFROM:+0200
TZOFFSETTO:+0300
TZNAME:EEST
DTSTART:20270328T010000
END:DAYLIGHT
BEGIN:STANDARD
TZOFFSETFROM:+0300
TZOFFSETTO:+0200
TZNAME:EET
DTSTART:20271031T010000
END:STANDARD
END:VTIMEZONE
BEGIN:VEVENT
DTSTART;VALUE=DATE:20260422
DTEND;VALUE=DATE:20260423
DTSTAMP:20260422T014711
CREATED:20260319T185545Z
LAST-MODIFIED:20260319T185545Z
UID:17704-1776816000-1776902399@www.kharel.org.il
SUMMARY:יום העצמאות
DESCRIPTION:
URL:https://www.kharel.org.il/event/%d7%99%d7%95%d7%9d-%d7%94%d7%a2%d7%a6%d7%9e%d7%90%d7%95%d7%aa-6/
END:VEVENT
BEGIN:VEVENT
DTSTART;TZID=Europe/Helsinki:20260422T093000
DTEND;TZID=Europe/Helsinki:20260422T093000
DTSTAMP:20260422T014711
CREATED:20260409T190349Z
LAST-MODIFIED:20260409T190349Z
UID:17757-1776850200-1776850200@www.kharel.org.il
SUMMARY:שחרית ליום העצמאות
DESCRIPTION:יום ד'\, 22.4.26\, בשעה 09:30: תפילת שחרית ליום העצמאות. 
URL:https://www.kharel.org.il/event/%d7%a9%d7%97%d7%a8%d7%99%d7%aa-%d7%9c%d7%99%d7%95%d7%9d-%d7%94%d7%a2%d7%a6%d7%9e%d7%90%d7%95%d7%aa-3/
END:VEVENT
END:VCALENDAR