BEGIN:VCALENDAR
VERSION:2.0
PRODID:-//קהילת הראל - ECPv6.15.17//NONSGML v1.0//EN
CALSCALE:GREGORIAN
METHOD:PUBLISH
X-WR-CALNAME:קהילת הראל
X-ORIGINAL-URL:https://www.kharel.org.il
X-WR-CALDESC:Events for קהילת הראל
REFRESH-INTERVAL;VALUE=DURATION:PT1H
X-Robots-Tag:noindex
X-PUBLISHED-TTL:PT1H
BEGIN:VTIMEZONE
TZID:Europe/Helsinki
BEGIN:DAYLIGHT
TZOFFSETFROM:+0200
TZOFFSETTO:+0300
TZNAME:EEST
DTSTART:20220327T010000
END:DAYLIGHT
BEGIN:STANDARD
TZOFFSETFROM:+0300
TZOFFSETTO:+0200
TZNAME:EET
DTSTART:20221030T010000
END:STANDARD
BEGIN:DAYLIGHT
TZOFFSETFROM:+0200
TZOFFSETTO:+0300
TZNAME:EEST
DTSTART:20230326T010000
END:DAYLIGHT
BEGIN:STANDARD
TZOFFSETFROM:+0300
TZOFFSETTO:+0200
TZNAME:EET
DTSTART:20231029T010000
END:STANDARD
BEGIN:DAYLIGHT
TZOFFSETFROM:+0200
TZOFFSETTO:+0300
TZNAME:EEST
DTSTART:20240331T010000
END:DAYLIGHT
BEGIN:STANDARD
TZOFFSETFROM:+0300
TZOFFSETTO:+0200
TZNAME:EET
DTSTART:20241027T010000
END:STANDARD
END:VTIMEZONE
BEGIN:VEVENT
DTSTART;VALUE=DATE:20230915
DTEND;VALUE=DATE:20230916
DTSTAMP:20260421T113354
CREATED:20221113T141541Z
LAST-MODIFIED:20221113T141541Z
UID:14568-1694736000-1694822399@www.kharel.org.il
SUMMARY:כ״ט אלול
DESCRIPTION:
URL:https://www.kharel.org.il/event/%d7%9b%d7%b4%d7%98-%d7%90%d7%9c%d7%95%d7%9c/
END:VEVENT
BEGIN:VEVENT
DTSTART;VALUE=DATE:20230915
DTEND;VALUE=DATE:20230916
DTSTAMP:20260421T113354
CREATED:20221113T141541Z
LAST-MODIFIED:20221113T141541Z
UID:14569-1694736000-1694822399@www.kharel.org.il
SUMMARY:ערב ראש השנה
DESCRIPTION:
URL:https://www.kharel.org.il/event/%d7%a2%d7%a8%d7%91-%d7%a8%d7%90%d7%a9-%d7%94%d7%a9%d7%a0%d7%94-4/
END:VEVENT
BEGIN:VEVENT
DTSTART;TZID=Europe/Helsinki:20230915T180000
DTEND;TZID=Europe/Helsinki:20230915T191500
DTSTAMP:20260421T113354
CREATED:20230817T111213Z
LAST-MODIFIED:20230831T085941Z
UID:15036-1694800800-1694805300@www.kharel.org.il
SUMMARY:ערבית לראש השנה
DESCRIPTION:בהנחיית הרב עדה זבידוב והחזן אבן כהן.  דרשנית: רב הקהילה עדה זבידוב. \nאתם/ן גם מוזמנים להתפלל איתנו באמצעות השידור הישיר של הקהילה בפייסבוק וביוטיוב.\nhttps://www.youtube.com/c/KehilatHarEl/live\nhttps://www.facebook.com/kehilat.har.el
URL:https://www.kharel.org.il/event/%d7%a2%d7%a8%d7%91%d7%99%d7%aa-%d7%9c%d7%a8%d7%90%d7%a9-%d7%94%d7%a9%d7%a0%d7%94-3/
LOCATION:קהילת הר-אל\, רח' שמואל הנגיד 16\, ירולשים
END:VEVENT
END:VCALENDAR