BEGIN:VCALENDAR
VERSION:2.0
PRODID:-//קהילת הראל - ECPv6.15.17//NONSGML v1.0//EN
CALSCALE:GREGORIAN
METHOD:PUBLISH
X-WR-CALNAME:קהילת הראל
X-ORIGINAL-URL:https://www.kharel.org.il
X-WR-CALDESC:Events for קהילת הראל
REFRESH-INTERVAL;VALUE=DURATION:PT1H
X-Robots-Tag:noindex
X-PUBLISHED-TTL:PT1H
BEGIN:VTIMEZONE
TZID:Europe/Helsinki
BEGIN:DAYLIGHT
TZOFFSETFROM:+0200
TZOFFSETTO:+0300
TZNAME:EEST
DTSTART:20220327T010000
END:DAYLIGHT
BEGIN:STANDARD
TZOFFSETFROM:+0300
TZOFFSETTO:+0200
TZNAME:EET
DTSTART:20221030T010000
END:STANDARD
BEGIN:DAYLIGHT
TZOFFSETFROM:+0200
TZOFFSETTO:+0300
TZNAME:EEST
DTSTART:20230326T010000
END:DAYLIGHT
BEGIN:STANDARD
TZOFFSETFROM:+0300
TZOFFSETTO:+0200
TZNAME:EET
DTSTART:20231029T010000
END:STANDARD
BEGIN:DAYLIGHT
TZOFFSETFROM:+0200
TZOFFSETTO:+0300
TZNAME:EEST
DTSTART:20240331T010000
END:DAYLIGHT
BEGIN:STANDARD
TZOFFSETFROM:+0300
TZOFFSETTO:+0200
TZNAME:EET
DTSTART:20241027T010000
END:STANDARD
END:VTIMEZONE
BEGIN:VEVENT
DTSTART;VALUE=DATE:20230905
DTEND;VALUE=DATE:20230906
DTSTAMP:20260421T115219
CREATED:20221113T141451Z
LAST-MODIFIED:20221113T141451Z
UID:14554-1693872000-1693958399@www.kharel.org.il
SUMMARY:י״ט אלול
DESCRIPTION:
URL:https://www.kharel.org.il/event/%d7%99%d7%b4%d7%98-%d7%90%d7%9c%d7%95%d7%9c/
END:VEVENT
BEGIN:VEVENT
DTSTART;TZID=Europe/Helsinki:20230905T163000
DTEND;TZID=Europe/Helsinki:20230905T180000
DTSTAMP:20260421T115219
CREATED:20210519T072053Z
LAST-MODIFIED:20230727T181550Z
UID:13988-1693931400-1693936800@www.kharel.org.il
SUMMARY:בית מדרש באנגלית
DESCRIPTION:בהנחיית הרב הלן בר-יעקב
URL:https://www.kharel.org.il/event/%d7%91%d7%99%d7%aa-%d7%9e%d7%93%d7%a8%d7%a9-%d7%91%d7%90%d7%a0%d7%92%d7%9c%d7%99%d7%aa-4-2021-08-31-2021-10-05-2022-10-25-2023-09-05/
LOCATION:קהילת הר-אל\, רח' שמואל הנגיד 16\, ירולשים
END:VEVENT
END:VCALENDAR