BEGIN:VCALENDAR
VERSION:2.0
PRODID:-//קהילת הראל - ECPv6.15.17//NONSGML v1.0//EN
CALSCALE:GREGORIAN
METHOD:PUBLISH
X-WR-CALNAME:קהילת הראל
X-ORIGINAL-URL:https://www.kharel.org.il
X-WR-CALDESC:Events for קהילת הראל
REFRESH-INTERVAL;VALUE=DURATION:PT1H
X-Robots-Tag:noindex
X-PUBLISHED-TTL:PT1H
BEGIN:VTIMEZONE
TZID:Europe/Helsinki
BEGIN:DAYLIGHT
TZOFFSETFROM:+0200
TZOFFSETTO:+0300
TZNAME:EEST
DTSTART:20160327T010000
END:DAYLIGHT
BEGIN:STANDARD
TZOFFSETFROM:+0300
TZOFFSETTO:+0200
TZNAME:EET
DTSTART:20161030T010000
END:STANDARD
BEGIN:DAYLIGHT
TZOFFSETFROM:+0200
TZOFFSETTO:+0300
TZNAME:EEST
DTSTART:20170326T010000
END:DAYLIGHT
BEGIN:STANDARD
TZOFFSETFROM:+0300
TZOFFSETTO:+0200
TZNAME:EET
DTSTART:20171029T010000
END:STANDARD
BEGIN:DAYLIGHT
TZOFFSETFROM:+0200
TZOFFSETTO:+0300
TZNAME:EEST
DTSTART:20180325T010000
END:DAYLIGHT
BEGIN:STANDARD
TZOFFSETFROM:+0300
TZOFFSETTO:+0200
TZNAME:EET
DTSTART:20181028T010000
END:STANDARD
END:VTIMEZONE
BEGIN:VEVENT
DTSTART;TZID=Europe/Helsinki:20170625T090000
DTEND;TZID=Europe/Helsinki:20170625T103000
DTSTAMP:20260419T175636
CREATED:20170627T161805Z
LAST-MODIFIED:20170627T161805Z
UID:2546-1498381200-1498386600@www.kharel.org.il
SUMMARY:בר מצווה - Ian Zalcberg
DESCRIPTION:בר המצווה של Ian Zalcberg מארה"ב בכותל השיוויוני
URL:https://www.kharel.org.il/event/%d7%91%d7%a8-%d7%9e%d7%a6%d7%95%d7%95%d7%94-ian-zalcberg/
END:VEVENT
END:VCALENDAR