BEGIN:VCALENDAR
VERSION:2.0
PRODID:-//קהילת הראל - ECPv6.15.17//NONSGML v1.0//EN
CALSCALE:GREGORIAN
METHOD:PUBLISH
X-WR-CALNAME:קהילת הראל
X-ORIGINAL-URL:https://www.kharel.org.il
X-WR-CALDESC:Events for קהילת הראל
REFRESH-INTERVAL;VALUE=DURATION:PT1H
X-Robots-Tag:noindex
X-PUBLISHED-TTL:PT1H
BEGIN:VTIMEZONE
TZID:Europe/Helsinki
BEGIN:DAYLIGHT
TZOFFSETFROM:+0200
TZOFFSETTO:+0300
TZNAME:EEST
DTSTART:20240331T010000
END:DAYLIGHT
BEGIN:STANDARD
TZOFFSETFROM:+0300
TZOFFSETTO:+0200
TZNAME:EET
DTSTART:20241027T010000
END:STANDARD
BEGIN:DAYLIGHT
TZOFFSETFROM:+0200
TZOFFSETTO:+0300
TZNAME:EEST
DTSTART:20250330T010000
END:DAYLIGHT
BEGIN:STANDARD
TZOFFSETFROM:+0300
TZOFFSETTO:+0200
TZNAME:EET
DTSTART:20251026T010000
END:STANDARD
BEGIN:DAYLIGHT
TZOFFSETFROM:+0200
TZOFFSETTO:+0300
TZNAME:EEST
DTSTART:20260329T010000
END:DAYLIGHT
BEGIN:STANDARD
TZOFFSETFROM:+0300
TZOFFSETTO:+0200
TZNAME:EET
DTSTART:20261025T010000
END:STANDARD
END:VTIMEZONE
BEGIN:VEVENT
DTSTART;TZID=Europe/Helsinki:20250201T093000
DTEND;TZID=Europe/Helsinki:20250201T123000
DTSTAMP:20260419T210134
CREATED:20250102T202742Z
LAST-MODIFIED:20250108T154206Z
UID:16479-1738402200-1738413000@www.kharel.org.il
SUMMARY:שחרית לשבת ויום הולדת הקהילה
DESCRIPTION:בשחרית שבת פרשת "בא"\, 1.2.25\, נחגוג 67 שנים להיווסדה של קהילתנו.  התפילה תיערך בליווי הפסנתרן יובל לב ארי. \nבתום התפילה נשיר ונרקוד בהנחיית חברנו יובל המון ובליווי הפסנתרן יובל לב ארי.\nבתכנית:\nחלק ראשון: שירה בציבור – שירי תודה\, שירי ברכה ותקווה\, שירי משאלה ונחמה.\nחלק שני: שירים קצביים שעושים חשק לשמוח ולרקוד.\nכולם/ן מוזמנים! \nאתם/ן גם מוזמנים להתפלל איתנו באמצעות השידור הישיר של הקהילה בפייסבוק וביוטיוב.\nhttps://www.youtube.com/c/KehilatHarEl/live\nhttps://www.facebook.com/kehilat.har.el
URL:https://www.kharel.org.il/event/%d7%a9%d7%97%d7%a8%d7%99%d7%aa-%d7%9c%d7%a9%d7%91%d7%aa-12-copy-3-copy-copy-3-copy-4-copy-4-copy-5/
LOCATION:קהילת הר-אל\, רח' שמואל הנגיד 16\, ירולשים
END:VEVENT
BEGIN:VEVENT
DTSTART;TZID=Europe/Helsinki:20250203T170000
DTEND;TZID=Europe/Helsinki:20250203T180000
DTSTAMP:20260419T210134
CREATED:20250109T182007Z
LAST-MODIFIED:20250109T182108Z
UID:16516-1738602000-1738605600@www.kharel.org.il
SUMMARY:לימוד עם הרב עדה (בזום)
DESCRIPTION:הלימוד השבועי עם הרב עדה (בזום) מתקיים בימי ב'\, בשעה 17:00.  נושא הלימוד: ספר שמואל-א'\, משולב בסוגיות מהתלמוד ושירה עברית. \nהקישור לזום יישלח בדף ההודעות ובווצאפ הקהילה לפני השיעור. אורחים מוזמנים לפנות אל office@kharel.org.il לקבלת הקישור. \nהלימוד פתוח לקהל הרחב וכל המקורות יוקרנו על המסך.  כולם/ן מוזמנים!
URL:https://www.kharel.org.il/event/%d7%9c%d7%99%d7%9e%d7%95%d7%93-%d7%a2%d7%9d-%d7%94%d7%a8%d7%91-%d7%a2%d7%93%d7%94-%d7%91%d7%96%d7%95%d7%9d-copy-copy-5-copy/
END:VEVENT
BEGIN:VEVENT
DTSTART;VALUE=DATE:20250207
DTEND;VALUE=DATE:20250209
DTSTAMP:20260419T210134
CREATED:20250123T160329Z
LAST-MODIFIED:20250123T160346Z
UID:16547-1738886400-1739059199@www.kharel.org.il
SUMMARY:שבת שירה
DESCRIPTION:
URL:https://www.kharel.org.il/event/%d7%a9%d7%91%d7%aa-%d7%a9%d7%99%d7%a8%d7%94-2/
END:VEVENT
BEGIN:VEVENT
DTSTART;TZID=Europe/Helsinki:20250207T170000
DTEND;TZID=Europe/Helsinki:20250207T183000
DTSTAMP:20260419T210134
CREATED:20250109T182157Z
LAST-MODIFIED:20250123T160645Z
UID:16524-1738947600-1738953000@www.kharel.org.il
SUMMARY:קבלת שבת בליווי נבל לכבוד "שבת שירה"
DESCRIPTION:לכבוד "שבת שירה"\, בליל שבת\, 7.2.25\, חברתנו גתית בועזסון תלווה את התפילה בנבל.  באותו ערב נשיר שוב את היצירה החדשה של חברנו החזן פרופ' אליהו שלייפר למזמור תהלים צ"ב ("מזמור שיר ליום השבת"). \nבתמונה: שירת מזמור תהילים צ"ב ע"י חברנו החזן אליהו שלייפר והחזן אבן\, בליווי נגנית הנבל חברתנו גתית בועזסון בשבת חול המועד סוכות תשפ"ה. \nהתפילה תתקיים בבית הכנסת. \nאתם/ן גם מוזמנים להתפלל איתנו באמצעות השידור הישיר של הקהילה בפייסבוק וביוטיוב.\nhttps://www.youtube.com/c/KehilatHarEl/live\nhttps://www.facebook.com/kehilat.har.el
URL:https://www.kharel.org.il/event/16133-copy-4-copy-copy-5-copy-copy-2-copy-copy/
LOCATION:קהילת הר-אל\, רח' שמואל הנגיד 16\, ירולשים
END:VEVENT
BEGIN:VEVENT
DTSTART;TZID=Europe/Helsinki:20250208T093000
DTEND;TZID=Europe/Helsinki:20250208T113000
DTSTAMP:20260419T210134
CREATED:20250109T182334Z
LAST-MODIFIED:20250109T182423Z
UID:16532-1739007000-1739014200@www.kharel.org.il
SUMMARY:שחרית לשבת
DESCRIPTION:התפילה תתקיים בבית הכנסת. \nאתם/ן גם מוזמנים להתפלל איתנו באמצעות השידור הישיר של הקהילה בפייסבוק וביוטיוב.\nhttps://www.youtube.com/c/KehilatHarEl/live\nhttps://www.facebook.com/kehilat.har.el
URL:https://www.kharel.org.il/event/%d7%a9%d7%97%d7%a8%d7%99%d7%aa-%d7%9c%d7%a9%d7%91%d7%aa-12-copy-3-copy-copy-3-copy-4-copy-4-copy-copy/
LOCATION:קהילת הר-אל\, רח' שמואל הנגיד 16\, ירולשים
END:VEVENT
BEGIN:VEVENT
DTSTART;TZID=Europe/Helsinki:20250210T170000
DTEND;TZID=Europe/Helsinki:20250210T180000
DTSTAMP:20260419T210134
CREATED:20250109T182010Z
LAST-MODIFIED:20250109T182116Z
UID:16517-1739206800-1739210400@www.kharel.org.il
SUMMARY:לימוד עם הרב עדה (בזום)
DESCRIPTION:הלימוד השבועי עם הרב עדה (בזום) מתקיים בימי ב'\, בשעה 17:00.  נושא הלימוד: ספר שמואל-א'\, משולב בסוגיות מהתלמוד ושירה עברית. \nהקישור לזום יישלח בדף ההודעות ובווצאפ הקהילה לפני השיעור. אורחים מוזמנים לפנות אל office@kharel.org.il לקבלת הקישור. \nהלימוד פתוח לקהל הרחב וכל המקורות יוקרנו על המסך.  כולם/ן מוזמנים!
URL:https://www.kharel.org.il/event/%d7%9c%d7%99%d7%9e%d7%95%d7%93-%d7%a2%d7%9d-%d7%94%d7%a8%d7%91-%d7%a2%d7%93%d7%94-%d7%91%d7%96%d7%95%d7%9d-copy-copy-5-copy-2/
END:VEVENT
BEGIN:VEVENT
DTSTART;TZID=Europe/Helsinki:20250212T173000
DTEND;TZID=Europe/Helsinki:20250212T190000
DTSTAMP:20260419T210134
CREATED:20250123T160812Z
LAST-MODIFIED:20250123T160852Z
UID:16553-1739381400-1739386800@www.kharel.org.il
SUMMARY:סדר ט"ו בשבט קהילתי
DESCRIPTION:ביום ד'\, 12.2.25\, בשעה 17:30\, ליל ט"ו בשבט – נערוך בקהילתנו סדר ט"ו בשבט בהנחיית הרב עדה והחזן אבן\, בהשתתפות חברות וחברי הקהילה ואורחים – חברות וחברי "קהילה תומכת" ממרכז העיר ונחלאות. \nבסדר נקרא בהגדת ט"ו בשבט שיצרה חברתנו האמנית חנה יכין\, נשיר משירי ארץ-ישראל ונתכבד מפירות הארץ. \nהסדר נערך במסגרת המעורבות החברתית ושיתוף הפעולה של קהילתנו  עם עמותת "קהילה תומכת"\, מינהל קהילתי "לב העיר" ו"קרן בכבוד" של התנועה הרפורמית. \n 
URL:https://www.kharel.org.il/event/16553/
LOCATION:קהילת הר-אל\, רח' שמואל הנגיד 16\, ירולשים
END:VEVENT
BEGIN:VEVENT
DTSTART;VALUE=DATE:20250213
DTEND;VALUE=DATE:20250214
DTSTAMP:20260419T210134
CREATED:20250109T181815Z
LAST-MODIFIED:20250109T181815Z
UID:16511-1739404800-1739491199@www.kharel.org.il
SUMMARY:ט"ו בשבט
DESCRIPTION:
URL:https://www.kharel.org.il/event/%d7%98%d7%95-%d7%91%d7%a9%d7%91%d7%98-5/
END:VEVENT
BEGIN:VEVENT
DTSTART;TZID=Europe/Helsinki:20250214T170000
DTEND;TZID=Europe/Helsinki:20250214T183000
DTSTAMP:20260419T210134
CREATED:20250109T182201Z
LAST-MODIFIED:20250109T182247Z
UID:16525-1739552400-1739557800@www.kharel.org.il
SUMMARY:קבלת שבת
DESCRIPTION:התפילה תתקיים בבית הכנסת. \nאתם/ן גם מוזמנים להתפלל איתנו באמצעות השידור הישיר של הקהילה בפייסבוק וביוטיוב.\nhttps://www.youtube.com/c/KehilatHarEl/live\nhttps://www.facebook.com/kehilat.har.el
URL:https://www.kharel.org.il/event/16133-copy-4-copy-copy-5-copy-copy-2-copy-copy-2/
LOCATION:קהילת הר-אל\, רח' שמואל הנגיד 16\, ירולשים
END:VEVENT
BEGIN:VEVENT
DTSTART;TZID=Europe/Helsinki:20250215T093000
DTEND;TZID=Europe/Helsinki:20250215T113000
DTSTAMP:20260419T210134
CREATED:20250109T182338Z
LAST-MODIFIED:20250109T182431Z
UID:16533-1739611800-1739619000@www.kharel.org.il
SUMMARY:שחרית לשבת
DESCRIPTION:התפילה תתקיים בבית הכנסת. \nאתם/ן גם מוזמנים להתפלל איתנו באמצעות השידור הישיר של הקהילה בפייסבוק וביוטיוב.\nhttps://www.youtube.com/c/KehilatHarEl/live\nhttps://www.facebook.com/kehilat.har.el
URL:https://www.kharel.org.il/event/%d7%a9%d7%97%d7%a8%d7%99%d7%aa-%d7%9c%d7%a9%d7%91%d7%aa-12-copy-3-copy-copy-3-copy-4-copy-4-copy-copy-2/
LOCATION:קהילת הר-אל\, רח' שמואל הנגיד 16\, ירולשים
END:VEVENT
BEGIN:VEVENT
DTSTART;TZID=Europe/Helsinki:20250215T113000
DTEND;TZID=Europe/Helsinki:20250215T123000
DTSTAMP:20260419T210134
CREATED:20250123T161011Z
LAST-MODIFIED:20250123T161053Z
UID:16557-1739619000-1739622600@www.kharel.org.il
SUMMARY:הרצאה לאחר התפילה
DESCRIPTION:בשחרית שבת 15.2.25\, בשעה 11:30\, לאחר הקידוש\, נשמע הרצאה (בעברית) מאת חברתנו תלמידת הרבנות מיכל קירייב שהיא ארכיונאית של הארכיון המרכזי לתולדות העם היהודי בספרייה הלאומית.  \nנושא ההרצאה: "תולדות העם היהודי בארכיון המרכזי: שישים מיליון סיפורים". \nהרצאה זו נערכת לקראת הסיור הקהילתי בספרייה הלאומית שנערוך ב-27.2.25\, בעזרתה של חברתנו תלמידת הרבנות מיכל קירייב.
URL:https://www.kharel.org.il/event/%d7%94%d7%a8%d7%a6%d7%90%d7%94-%d7%9c%d7%90%d7%97%d7%a8-%d7%94%d7%aa%d7%a4%d7%99%d7%9c%d7%94-26/
END:VEVENT
BEGIN:VEVENT
DTSTART;TZID=Europe/Helsinki:20250217T170000
DTEND;TZID=Europe/Helsinki:20250217T180000
DTSTAMP:20260419T210134
CREATED:20250109T182014Z
LAST-MODIFIED:20250109T182124Z
UID:16518-1739811600-1739815200@www.kharel.org.il
SUMMARY:לימוד עם הרב עדה (בזום)
DESCRIPTION:הלימוד השבועי עם הרב עדה (בזום) מתקיים בימי ב'\, בשעה 17:00.  נושא הלימוד: ספר שמואל-א'\, משולב בסוגיות מהתלמוד ושירה עברית. \nהקישור לזום יישלח בדף ההודעות ובווצאפ הקהילה לפני השיעור. אורחים מוזמנים לפנות אל office@kharel.org.il לקבלת הקישור. \nהלימוד פתוח לקהל הרחב וכל המקורות יוקרנו על המסך.  כולם/ן מוזמנים!
URL:https://www.kharel.org.il/event/%d7%9c%d7%99%d7%9e%d7%95%d7%93-%d7%a2%d7%9d-%d7%94%d7%a8%d7%91-%d7%a2%d7%93%d7%94-%d7%91%d7%96%d7%95%d7%9d-copy-copy-5-copy-3/
END:VEVENT
BEGIN:VEVENT
DTSTART;TZID=Europe/Helsinki:20250221T170000
DTEND;TZID=Europe/Helsinki:20250221T183000
DTSTAMP:20260419T210134
CREATED:20250109T182204Z
LAST-MODIFIED:20250109T182255Z
UID:16526-1740157200-1740162600@www.kharel.org.il
SUMMARY:קבלת שבת
DESCRIPTION:התפילה תתקיים בבית הכנסת. \nאתם/ן גם מוזמנים להתפלל איתנו באמצעות השידור הישיר של הקהילה בפייסבוק וביוטיוב.\nhttps://www.youtube.com/c/KehilatHarEl/live\nhttps://www.facebook.com/kehilat.har.el
URL:https://www.kharel.org.il/event/16133-copy-4-copy-copy-5-copy-copy-2-copy-copy-3/
LOCATION:קהילת הר-אל\, רח' שמואל הנגיד 16\, ירולשים
END:VEVENT
BEGIN:VEVENT
DTSTART;TZID=Europe/Helsinki:20250222T093000
DTEND;TZID=Europe/Helsinki:20250222T113000
DTSTAMP:20260419T210134
CREATED:20250109T182341Z
LAST-MODIFIED:20250109T182440Z
UID:16534-1740216600-1740223800@www.kharel.org.il
SUMMARY:שחרית לשבת
DESCRIPTION:התפילה תתקיים בבית הכנסת. \nאתם/ן גם מוזמנים להתפלל איתנו באמצעות השידור הישיר של הקהילה בפייסבוק וביוטיוב.\nhttps://www.youtube.com/c/KehilatHarEl/live\nhttps://www.facebook.com/kehilat.har.el
URL:https://www.kharel.org.il/event/%d7%a9%d7%97%d7%a8%d7%99%d7%aa-%d7%9c%d7%a9%d7%91%d7%aa-12-copy-3-copy-copy-3-copy-4-copy-4-copy-copy-3/
LOCATION:קהילת הר-אל\, רח' שמואל הנגיד 16\, ירולשים
END:VEVENT
BEGIN:VEVENT
DTSTART;TZID=Europe/Helsinki:20250224T170000
DTEND;TZID=Europe/Helsinki:20250224T180000
DTSTAMP:20260419T210134
CREATED:20250109T182017Z
LAST-MODIFIED:20250109T182132Z
UID:16519-1740416400-1740420000@www.kharel.org.il
SUMMARY:לימוד עם הרב עדה (בזום)
DESCRIPTION:הלימוד השבועי עם הרב עדה (בזום) מתקיים בימי ב'\, בשעה 17:00.  נושא הלימוד: ספר שמואל-א'\, משולב בסוגיות מהתלמוד ושירה עברית. \nהקישור לזום יישלח בדף ההודעות ובווצאפ הקהילה לפני השיעור. אורחים מוזמנים לפנות אל office@kharel.org.il לקבלת הקישור. \nהלימוד פתוח לקהל הרחב וכל המקורות יוקרנו על המסך.  כולם/ן מוזמנים!
URL:https://www.kharel.org.il/event/%d7%9c%d7%99%d7%9e%d7%95%d7%93-%d7%a2%d7%9d-%d7%94%d7%a8%d7%91-%d7%a2%d7%93%d7%94-%d7%91%d7%96%d7%95%d7%9d-copy-copy-5-copy-4/
END:VEVENT
BEGIN:VEVENT
DTSTART;TZID=Europe/Helsinki:20250227T141500
DTEND;TZID=Europe/Helsinki:20250227T160000
DTSTAMP:20260419T210134
CREATED:20250109T181935Z
LAST-MODIFIED:20250109T181935Z
UID:16513-1740665700-1740672000@www.kharel.org.il
SUMMARY:סיור קהילתי בספרייה הלאומית
DESCRIPTION:ביום ה'\, 27.2.25\, משעה 14:15 עד 16:00\, נערוך סיור מודרך לקהילתנו בבניין החדש של הספרייה הלאומית\, מול כנסת ישראל. \nעלות הסיור:  מחיר מיוחד לחברות וחברי הקהילה – 20 ₪.  \nלמי שאינם חברי קהילה – 30 ₪. \nהרשמה מוקדמת אצל הרכזת שני בטל'/ווצאפ 053-649-9584.
URL:https://www.kharel.org.il/event/%d7%a1%d7%99%d7%95%d7%a8-%d7%a7%d7%94%d7%99%d7%9c%d7%aa%d7%99-%d7%91%d7%a1%d7%a4%d7%a8%d7%99%d7%99%d7%94-%d7%94%d7%9c%d7%90%d7%95%d7%9e%d7%99%d7%aa/
LOCATION:הספרייה הלאומית\, קרייית אמדונד ספרא\, ירולשים
END:VEVENT
BEGIN:VEVENT
DTSTART;TZID=Europe/Helsinki:20250228T170000
DTEND;TZID=Europe/Helsinki:20250228T183000
DTSTAMP:20260419T210134
CREATED:20250109T182207Z
LAST-MODIFIED:20250109T182305Z
UID:16527-1740762000-1740767400@www.kharel.org.il
SUMMARY:קבלת שבת
DESCRIPTION:התפילה תתקיים בבית הכנסת. \nאתם/ן גם מוזמנים להתפלל איתנו באמצעות השידור הישיר של הקהילה בפייסבוק וביוטיוב.\nhttps://www.youtube.com/c/KehilatHarEl/live\nhttps://www.facebook.com/kehilat.har.el
URL:https://www.kharel.org.il/event/16133-copy-4-copy-copy-5-copy-copy-2-copy-copy-4/
LOCATION:קהילת הר-אל\, רח' שמואל הנגיד 16\, ירולשים
END:VEVENT
END:VCALENDAR