BEGIN:VCALENDAR
VERSION:2.0
PRODID:-//קהילת הראל - ECPv6.15.17//NONSGML v1.0//EN
CALSCALE:GREGORIAN
METHOD:PUBLISH
X-WR-CALNAME:קהילת הראל
X-ORIGINAL-URL:https://www.kharel.org.il
X-WR-CALDESC:Events for קהילת הראל
REFRESH-INTERVAL;VALUE=DURATION:PT1H
X-Robots-Tag:noindex
X-PUBLISHED-TTL:PT1H
BEGIN:VTIMEZONE
TZID:Europe/Helsinki
BEGIN:DAYLIGHT
TZOFFSETFROM:+0200
TZOFFSETTO:+0300
TZNAME:EEST
DTSTART:20230326T010000
END:DAYLIGHT
BEGIN:STANDARD
TZOFFSETFROM:+0300
TZOFFSETTO:+0200
TZNAME:EET
DTSTART:20231029T010000
END:STANDARD
BEGIN:DAYLIGHT
TZOFFSETFROM:+0200
TZOFFSETTO:+0300
TZNAME:EEST
DTSTART:20240331T010000
END:DAYLIGHT
BEGIN:STANDARD
TZOFFSETFROM:+0300
TZOFFSETTO:+0200
TZNAME:EET
DTSTART:20241027T010000
END:STANDARD
BEGIN:DAYLIGHT
TZOFFSETFROM:+0200
TZOFFSETTO:+0300
TZNAME:EEST
DTSTART:20250330T010000
END:DAYLIGHT
BEGIN:STANDARD
TZOFFSETFROM:+0300
TZOFFSETTO:+0200
TZNAME:EET
DTSTART:20251026T010000
END:STANDARD
END:VTIMEZONE
BEGIN:VEVENT
DTSTART;TZID=Europe/Helsinki:20241203T163000
DTEND;TZID=Europe/Helsinki:20241203T180000
DTSTAMP:20260419T222235
CREATED:20241121T160404Z
LAST-MODIFIED:20241121T160450Z
UID:16381-1733243400-1733248800@www.kharel.org.il
SUMMARY:בית מדרש באנגלית
DESCRIPTION:בהנחיית הרב הלן בר-יעקב
URL:https://www.kharel.org.il/event/%d7%91%d7%99%d7%aa-%d7%9e%d7%93%d7%a8%d7%a9-%d7%91%d7%90%d7%a0%d7%92%d7%9c%d7%99%d7%aa-7-copy-2-copy-4-copy-5-copy-4-copy-5/
LOCATION:קהילת הר-אל\, רח' שמואל הנגיד 16\, ירולשים
END:VEVENT
BEGIN:VEVENT
DTSTART;TZID=Europe/Helsinki:20241205T100000
DTEND;TZID=Europe/Helsinki:20241205T120000
DTSTAMP:20260419T222235
CREATED:20241201T194242Z
LAST-MODIFIED:20241201T194242Z
UID:16434-1733392800-1733400000@www.kharel.org.il
SUMMARY:תמיכה בשובתי הרעב למען שחרור החטופים
DESCRIPTION:קהילות התנועה הרפורמית בירושלים ובארץ מתארגנות להגיע בשבועות אלה למאהל שובתי הרעב למען שחרור החטופים\,  הממוקם ליד הכנסת\, כדי לתמוך בנוכחותם בשובתי הרעב ובמשפחות החטופים. הרב עדה והחזן אבן יגיעו למאהל פעם אחת בכל שבוע ומזמינים את חברות וחברי הקהילה להצטרף אליהם. \nלפרטים נוספים אפשר להתקשר לרב עדה בטל' 052-4522387.
URL:https://www.kharel.org.il/event/%d7%aa%d7%9e%d7%99%d7%9b%d7%94-%d7%91%d7%a9%d7%95%d7%91%d7%aa%d7%99-%d7%94%d7%a8%d7%a2%d7%91-%d7%9c%d7%9e%d7%a2%d7%9f-%d7%a9%d7%97%d7%a8%d7%95%d7%a8-%d7%94%d7%97%d7%98%d7%95%d7%a4%d7%99%d7%9d/
END:VEVENT
BEGIN:VEVENT
DTSTART;TZID=Europe/Helsinki:20241206T170000
DTEND;TZID=Europe/Helsinki:20241206T183000
DTSTAMP:20260419T222235
CREATED:20241121T160658Z
LAST-MODIFIED:20241121T160734Z
UID:16390-1733504400-1733509800@www.kharel.org.il
SUMMARY:קבלת שבת
DESCRIPTION:התפילה תתקיים בבית הכנסת. \nאתם/ן גם מוזמנים להתפלל איתנו באמצעות השידור הישיר של הקהילה בפייסבוק וביוטיוב.\nhttps://www.youtube.com/c/KehilatHarEl/live\nhttps://www.facebook.com/kehilat.har.el
URL:https://www.kharel.org.il/event/16133-copy-4-copy-copy-5-copy-4/
LOCATION:קהילת הר-אל\, רח' שמואל הנגיד 16\, ירולשים
END:VEVENT
BEGIN:VEVENT
DTSTART;TZID=Europe/Helsinki:20241207T093000
DTEND;TZID=Europe/Helsinki:20241207T113000
DTSTAMP:20260419T222235
CREATED:20241121T160841Z
LAST-MODIFIED:20241121T160929Z
UID:16395-1733563800-1733571000@www.kharel.org.il
SUMMARY:שחרית לשבת
DESCRIPTION:התפילה תתקיים בבית הכנסת. \nבר מצווה: Kobe Goldrich מארה"ב \nאתם/ן גם מוזמנים להתפלל איתנו באמצעות השידור הישיר של הקהילה בפייסבוק וביוטיוב.\nhttps://www.youtube.com/c/KehilatHarEl/live\nhttps://www.facebook.com/kehilat.har.el
URL:https://www.kharel.org.il/event/%d7%a9%d7%97%d7%a8%d7%99%d7%aa-%d7%9c%d7%a9%d7%91%d7%aa-12-copy-3-copy-copy-3-copy-4-copy/
LOCATION:קהילת הר-אל\, רח' שמואל הנגיד 16\, ירולשים
END:VEVENT
BEGIN:VEVENT
DTSTART;TZID=Europe/Helsinki:20241210T163000
DTEND;TZID=Europe/Helsinki:20241210T180000
DTSTAMP:20260419T222235
CREATED:20241121T160401Z
LAST-MODIFIED:20241121T160458Z
UID:16380-1733848200-1733853600@www.kharel.org.il
SUMMARY:בית מדרש באנגלית
DESCRIPTION:בהנחיית הרב הלן בר-יעקב
URL:https://www.kharel.org.il/event/%d7%91%d7%99%d7%aa-%d7%9e%d7%93%d7%a8%d7%a9-%d7%91%d7%90%d7%a0%d7%92%d7%9c%d7%99%d7%aa-7-copy-2-copy-4-copy-5-copy-4-copy-4/
LOCATION:קהילת הר-אל\, רח' שמואל הנגיד 16\, ירולשים
END:VEVENT
BEGIN:VEVENT
DTSTART;TZID=Europe/Helsinki:20241211T120000
DTEND;TZID=Europe/Helsinki:20241211T140000
DTSTAMP:20260419T222235
CREATED:20241201T194322Z
LAST-MODIFIED:20241201T194425Z
UID:16438-1733918400-1733925600@www.kharel.org.il
SUMMARY:תמיכה בשובתי הרעב למען שחרור החטופים
DESCRIPTION:קהילות התנועה הרפורמית בירושלים ובארץ מתארגנות להגיע בשבועות אלה למאהל שובתי הרעב למען שחרור החטופים\,  הממוקם ליד הכנסת\, כדי לתמוך בנוכחותם בשובתי הרעב ובמשפחות החטופים. הרב עדה והחזן אבן יגיעו למאהל פעם אחת בכל שבוע ומזמינים את חברות וחברי הקהילה להצטרף אליהם. \nלפרטים נוספים אפשר להתקשר לרב עדה בטל' 052-4522387.
URL:https://www.kharel.org.il/event/%d7%aa%d7%9e%d7%99%d7%9b%d7%94-%d7%91%d7%a9%d7%95%d7%91%d7%aa%d7%99-%d7%94%d7%a8%d7%a2%d7%91-%d7%9c%d7%9e%d7%a2%d7%9f-%d7%a9%d7%97%d7%a8%d7%95%d7%a8-%d7%94%d7%97%d7%98%d7%95%d7%a4%d7%99%d7%9d-copy-2/
END:VEVENT
BEGIN:VEVENT
DTSTART;TZID=Europe/Helsinki:20241213T170000
DTEND;TZID=Europe/Helsinki:20241213T183000
DTSTAMP:20260419T222235
CREATED:20241121T160654Z
LAST-MODIFIED:20241121T160748Z
UID:16389-1734109200-1734114600@www.kharel.org.il
SUMMARY:קבלת שבת
DESCRIPTION:התפילה תתקיים בבית הכנסת. \nאתם/ן גם מוזמנים להתפלל איתנו באמצעות השידור הישיר של הקהילה בפייסבוק וביוטיוב.\nhttps://www.youtube.com/c/KehilatHarEl/live\nhttps://www.facebook.com/kehilat.har.el
URL:https://www.kharel.org.il/event/16133-copy-4-copy-copy-5-copy-3/
LOCATION:קהילת הר-אל\, רח' שמואל הנגיד 16\, ירולשים
END:VEVENT
BEGIN:VEVENT
DTSTART;TZID=Europe/Helsinki:20241214T093000
DTEND;TZID=Europe/Helsinki:20241214T113000
DTSTAMP:20260419T222235
CREATED:20241121T160844Z
LAST-MODIFIED:20241121T160936Z
UID:16396-1734168600-1734175800@www.kharel.org.il
SUMMARY:שחרית לשבת
DESCRIPTION:התפילה תתקיים בבית הכנסת. \nבר מצווה: Kobe Goldrich מארה"ב \nאתם/ן גם מוזמנים להתפלל איתנו באמצעות השידור הישיר של הקהילה בפייסבוק וביוטיוב.\nhttps://www.youtube.com/c/KehilatHarEl/live\nhttps://www.facebook.com/kehilat.har.el
URL:https://www.kharel.org.il/event/%d7%a9%d7%97%d7%a8%d7%99%d7%aa-%d7%9c%d7%a9%d7%91%d7%aa-12-copy-3-copy-copy-3-copy-4-copy-2/
LOCATION:קהילת הר-אל\, רח' שמואל הנגיד 16\, ירולשים
END:VEVENT
BEGIN:VEVENT
DTSTART;TZID=Europe/Helsinki:20241216T170000
DTEND;TZID=Europe/Helsinki:20241216T180000
DTSTAMP:20260419T222235
CREATED:20241121T161630Z
LAST-MODIFIED:20241121T161630Z
UID:16422-1734368400-1734372000@www.kharel.org.il
SUMMARY:לימוד עם הרב עדה (בזום)
DESCRIPTION:הלימוד השבועי עם הרב עדה (בזום) יתקיים השנה בימי ב'\, בשעה 17:00.  נושא הלימוד: ספר שמואל א' ופעם בחודש סוגיות נבחרות מהתלמוד. \nהשיעור הראשון יתקיים ביום ב'\, 16.12.24.   הקישור לזום יישלח בדף ההודעות ובווצאפ הקהילה לפני השיעור. אורחים מוזמנים לפנות אל office@kharel.org.il לקבלת הקישור. \nהלימוד פתוח לקהל הרחב וכל המקורות יוקרנו על המסך.  אנא הזמינו את חבריכם/ן וחברותיכם/ן למסע הלימודי בשבילי התנ"ך והתלמוד.
URL:https://www.kharel.org.il/event/%d7%9c%d7%99%d7%9e%d7%95%d7%93-%d7%a2%d7%9d-%d7%94%d7%a8%d7%91-%d7%a2%d7%93%d7%94-%d7%91%d7%96%d7%95%d7%9d/
END:VEVENT
BEGIN:VEVENT
DTSTART;TZID=Europe/Helsinki:20241217T163000
DTEND;TZID=Europe/Helsinki:20241217T180000
DTSTAMP:20260419T222235
CREATED:20241121T160355Z
LAST-MODIFIED:20241121T160513Z
UID:16378-1734453000-1734458400@www.kharel.org.il
SUMMARY:בית מדרש באנגלית
DESCRIPTION:בהנחיית הרב הלן בר-יעקב
URL:https://www.kharel.org.il/event/%d7%91%d7%99%d7%aa-%d7%9e%d7%93%d7%a8%d7%a9-%d7%91%d7%90%d7%a0%d7%92%d7%9c%d7%99%d7%aa-7-copy-2-copy-4-copy-5-copy-4-copy-2/
LOCATION:קהילת הר-אל\, רח' שמואל הנגיד 16\, ירולשים
END:VEVENT
BEGIN:VEVENT
DTSTART;TZID=Europe/Helsinki:20241219T170000
DTEND;TZID=Europe/Helsinki:20241219T190000
DTSTAMP:20260419T222235
CREATED:20241201T194317Z
LAST-MODIFIED:20241205T201600Z
UID:16437-1734627600-1734634800@www.kharel.org.il
SUMMARY:תמיכה בשובתי הרעב למען שחרור החטופים
DESCRIPTION:קהילות התנועה הרפורמית בירושלים ובארץ מתארגנות להגיע בשבועות אלה למאהל שובתי הרעב למען שחרור החטופים\,  הממוקם ליד הכנסת\, כדי לתמוך בנוכחותם בשובתי הרעב ובמשפחות החטופים. הרב עדה והחזן אבן יגיעו למאהל פעם אחת בכל שבוע ומזמינים את חברות וחברי הקהילה להצטרף אליהם. \nלפרטים נוספים אפשר להתקשר לרב עדה בטל' 052-4522387.
URL:https://www.kharel.org.il/event/%d7%aa%d7%9e%d7%99%d7%9b%d7%94-%d7%91%d7%a9%d7%95%d7%91%d7%aa%d7%99-%d7%94%d7%a8%d7%a2%d7%91-%d7%9c%d7%9e%d7%a2%d7%9f-%d7%a9%d7%97%d7%a8%d7%95%d7%a8-%d7%94%d7%97%d7%98%d7%95%d7%a4%d7%99%d7%9d-copy/
END:VEVENT
BEGIN:VEVENT
DTSTART;TZID=Europe/Helsinki:20241220T170000
DTEND;TZID=Europe/Helsinki:20241220T183000
DTSTAMP:20260419T222235
CREATED:20241121T160651Z
LAST-MODIFIED:20241121T160801Z
UID:16388-1734714000-1734719400@www.kharel.org.il
SUMMARY:קבלת שבת
DESCRIPTION:התפילה תתקיים בבית הכנסת. \nאתם/ן גם מוזמנים להתפלל איתנו באמצעות השידור הישיר של הקהילה בפייסבוק וביוטיוב.\nhttps://www.youtube.com/c/KehilatHarEl/live\nhttps://www.facebook.com/kehilat.har.el
URL:https://www.kharel.org.il/event/16133-copy-4-copy-copy-5-copy-2/
LOCATION:קהילת הר-אל\, רח' שמואל הנגיד 16\, ירולשים
END:VEVENT
BEGIN:VEVENT
DTSTART;TZID=Europe/Helsinki:20241221T093000
DTEND;TZID=Europe/Helsinki:20241221T113000
DTSTAMP:20260419T222235
CREATED:20241121T160848Z
LAST-MODIFIED:20241121T160946Z
UID:16397-1734773400-1734780600@www.kharel.org.il
SUMMARY:שחרית לשבת
DESCRIPTION:התפילה תתקיים בבית הכנסת. \nבר מצווה: Kobe Goldrich מארה"ב \nאתם/ן גם מוזמנים להתפלל איתנו באמצעות השידור הישיר של הקהילה בפייסבוק וביוטיוב.\nhttps://www.youtube.com/c/KehilatHarEl/live\nhttps://www.facebook.com/kehilat.har.el
URL:https://www.kharel.org.il/event/%d7%a9%d7%97%d7%a8%d7%99%d7%aa-%d7%9c%d7%a9%d7%91%d7%aa-12-copy-3-copy-copy-3-copy-4-copy-3/
LOCATION:קהילת הר-אל\, רח' שמואל הנגיד 16\, ירולשים
END:VEVENT
BEGIN:VEVENT
DTSTART;TZID=Europe/Helsinki:20241221T113000
DTEND;TZID=Europe/Helsinki:20241221T123000
DTSTAMP:20260419T222235
CREATED:20241205T203822Z
LAST-MODIFIED:20241205T203822Z
UID:16447-1734780600-1734784200@www.kharel.org.il
SUMMARY:
DESCRIPTION:בשחרית שבת 21.12.24\, בשעה 11:30\, לאחר הקידוש\, נשמע הרצאה במסגרת "תרבודת" מפי חברתנו הרבה סטייסי בלנק – מנהלת המרכז לחינוך ופיתוח מנהיגות של האיגוד העולמי ליהדות מתקדמת (WUPJ). נושא ההרצאה: \nמדרום אפריקה עד הודו: למה חשוב לנו לדאוג לקהילות רפורמיות ברחבי העולם? \nהרבה סטייסי בלנק תספר על חוויותיה בקהילות הרפורמיות במומבאי ובדרום אפריקה השנה\, לצד עבודתה היומיומית באיגוד העולמי עם קהילות יהודיות בכל העולם\, ומה השתנה מאז שבעה  באוקטובר.  כולם/ן מוזמנים!
URL:https://www.kharel.org.il/event/16447/
LOCATION:קהילת הר-אל\, רח' שמואל הנגיד 16\, ירולשים
END:VEVENT
BEGIN:VEVENT
DTSTART;TZID=Europe/Helsinki:20241223T170000
DTEND;TZID=Europe/Helsinki:20241223T180000
DTSTAMP:20260419T222235
CREATED:20241121T161634Z
LAST-MODIFIED:20250102T203216Z
UID:16424-1734973200-1734976800@www.kharel.org.il
SUMMARY:לימוד עם הרב עדה (בזום)
DESCRIPTION:הלימוד השבועי עם הרב עדה (בזום) מתקיים בימי ב'\, בשעה 17:00.  נושא הלימוד: ספר שמואל-א'\, משולב בסוגיות מהתלמוד ושירה עברית. \nהקישור לזום יישלח בדף ההודעות ובווצאפ הקהילה לפני השיעור. אורחים מוזמנים לפנות אל office@kharel.org.il לקבלת הקישור. \nהלימוד פתוח לקהל הרחב וכל המקורות יוקרנו על המסך.  כולם/ן מוזמנים!
URL:https://www.kharel.org.il/event/%d7%9c%d7%99%d7%9e%d7%95%d7%93-%d7%a2%d7%9d-%d7%94%d7%a8%d7%91-%d7%a2%d7%93%d7%94-%d7%91%d7%96%d7%95%d7%9d-copy/
END:VEVENT
BEGIN:VEVENT
DTSTART;TZID=Europe/Helsinki:20241223T170000
DTEND;TZID=Europe/Helsinki:20241223T180000
DTSTAMP:20260419T222235
CREATED:20250102T203209Z
LAST-MODIFIED:20250102T203209Z
UID:16487-1734973200-1734976800@www.kharel.org.il
SUMMARY:לימוד עם הרב עדה (בזום) Copy
DESCRIPTION:הלימוד השבועי עם הרב עדה (בזום) מתקיים בימי ב'\, בשעה 17:00.  נושא הלימוד: ספר\nשמואל-א'\, משולב בסוגיות מהתלמוד ושירה עברית. \nהקישור לזום יישלח בדף ההודעות ובווצאפ הקהילה לפני השיעור. אורחים מוזמנים לפנות אל office@kharel.org.il לקבלת הקישור. \nהלימוד פתוח לקהל הרחב וכל המקורות יוקרנו על המסך.  כולם/ן מוזמנים!
URL:https://www.kharel.org.il/event/%d7%9c%d7%99%d7%9e%d7%95%d7%93-%d7%a2%d7%9d-%d7%94%d7%a8%d7%91-%d7%a2%d7%93%d7%94-%d7%91%d7%96%d7%95%d7%9d-copy-copy/
END:VEVENT
BEGIN:VEVENT
DTSTART;TZID=Europe/Helsinki:20241224T163000
DTEND;TZID=Europe/Helsinki:20241224T180000
DTSTAMP:20260419T222235
CREATED:20241121T160349Z
LAST-MODIFIED:20241121T160523Z
UID:16377-1735057800-1735063200@www.kharel.org.il
SUMMARY:בית מדרש באנגלית
DESCRIPTION:בהנחיית הרב הלן בר-יעקב
URL:https://www.kharel.org.il/event/%d7%91%d7%99%d7%aa-%d7%9e%d7%93%d7%a8%d7%a9-%d7%91%d7%90%d7%a0%d7%92%d7%9c%d7%99%d7%aa-7-copy-2-copy-4-copy-5-copy-4-copy/
LOCATION:קהילת הר-אל\, רח' שמואל הנגיד 16\, ירולשים
END:VEVENT
BEGIN:VEVENT
DTSTART;VALUE=DATE:20241225
DTEND;VALUE=DATE:20241226
DTSTAMP:20260419T222235
CREATED:20241121T161408Z
LAST-MODIFIED:20241121T161408Z
UID:16420-1735084800-1735171199@www.kharel.org.il
SUMMARY:ערב חנוכה
DESCRIPTION:
URL:https://www.kharel.org.il/event/%d7%a2%d7%a8%d7%91-%d7%97%d7%a0%d7%95%d7%9b%d7%94-2/
END:VEVENT
BEGIN:VEVENT
DTSTART;VALUE=DATE:20241226
DTEND;VALUE=DATE:20241227
DTSTAMP:20260419T222235
CREATED:20241121T161202Z
LAST-MODIFIED:20241121T161202Z
UID:16404-1735171200-1735257599@www.kharel.org.il
SUMMARY:א' חנוכה
DESCRIPTION:
URL:https://www.kharel.org.il/event/%d7%90-%d7%97%d7%a0%d7%95%d7%9b%d7%94-2/
END:VEVENT
BEGIN:VEVENT
DTSTART;VALUE=DATE:20241227
DTEND;VALUE=DATE:20241228
DTSTAMP:20260419T222235
CREATED:20241121T161215Z
LAST-MODIFIED:20241121T161215Z
UID:16405-1735257600-1735343999@www.kharel.org.il
SUMMARY:ב' חנוכה
DESCRIPTION:
URL:https://www.kharel.org.il/event/%d7%91-%d7%97%d7%a0%d7%95%d7%9b%d7%94-2/
END:VEVENT
BEGIN:VEVENT
DTSTART;TZID=Europe/Helsinki:20241227T170000
DTEND;TZID=Europe/Helsinki:20241227T183000
DTSTAMP:20260419T222235
CREATED:20241121T160648Z
LAST-MODIFIED:20241121T160812Z
UID:16387-1735318800-1735324200@www.kharel.org.il
SUMMARY:קבלת שבת
DESCRIPTION:התפילה תתקיים בבית הכנסת. \nאתם/ן גם מוזמנים להתפלל איתנו באמצעות השידור הישיר של הקהילה בפייסבוק וביוטיוב.\nhttps://www.youtube.com/c/KehilatHarEl/live\nhttps://www.facebook.com/kehilat.har.el
URL:https://www.kharel.org.il/event/16133-copy-4-copy-copy-5-copy/
LOCATION:קהילת הר-אל\, רח' שמואל הנגיד 16\, ירולשים
END:VEVENT
BEGIN:VEVENT
DTSTART;VALUE=DATE:20241228
DTEND;VALUE=DATE:20241229
DTSTAMP:20260419T222235
CREATED:20241121T161229Z
LAST-MODIFIED:20241121T161229Z
UID:16406-1735344000-1735430399@www.kharel.org.il
SUMMARY:ג' חנוכה
DESCRIPTION:
URL:https://www.kharel.org.il/event/%d7%92-%d7%97%d7%a0%d7%95%d7%9b%d7%94-2/
END:VEVENT
BEGIN:VEVENT
DTSTART;TZID=Europe/Helsinki:20241228T093000
DTEND;TZID=Europe/Helsinki:20241228T113000
DTSTAMP:20260419T222235
CREATED:20241121T160851Z
LAST-MODIFIED:20241121T160952Z
UID:16398-1735378200-1735385400@www.kharel.org.il
SUMMARY:שחרית לשבת
DESCRIPTION:התפילה תתקיים בבית הכנסת. \nבר מצווה: Kobe Goldrich מארה"ב \nאתם/ן גם מוזמנים להתפלל איתנו באמצעות השידור הישיר של הקהילה בפייסבוק וביוטיוב.\nhttps://www.youtube.com/c/KehilatHarEl/live\nhttps://www.facebook.com/kehilat.har.el
URL:https://www.kharel.org.il/event/%d7%a9%d7%97%d7%a8%d7%99%d7%aa-%d7%9c%d7%a9%d7%91%d7%aa-12-copy-3-copy-copy-3-copy-4-copy-4/
LOCATION:קהילת הר-אל\, רח' שמואל הנגיד 16\, ירולשים
END:VEVENT
BEGIN:VEVENT
DTSTART;VALUE=DATE:20241229
DTEND;VALUE=DATE:20241230
DTSTAMP:20260419T222235
CREATED:20241121T161246Z
LAST-MODIFIED:20241121T161246Z
UID:16407-1735430400-1735516799@www.kharel.org.il
SUMMARY:ד' חנוכה
DESCRIPTION:
URL:https://www.kharel.org.il/event/%d7%93-%d7%97%d7%a0%d7%95%d7%9b%d7%94-2/
END:VEVENT
BEGIN:VEVENT
DTSTART;VALUE=DATE:20241230
DTEND;VALUE=DATE:20241231
DTSTAMP:20260419T222235
CREATED:20241121T161258Z
LAST-MODIFIED:20241121T161258Z
UID:16408-1735516800-1735603199@www.kharel.org.il
SUMMARY:ה' חנוכה
DESCRIPTION:
URL:https://www.kharel.org.il/event/%d7%94-%d7%97%d7%a0%d7%95%d7%9b%d7%94-2/
END:VEVENT
BEGIN:VEVENT
DTSTART;VALUE=DATE:20241231
DTEND;VALUE=DATE:20250101
DTSTAMP:20260419T222235
CREATED:20241121T161311Z
LAST-MODIFIED:20241121T161311Z
UID:16409-1735603200-1735689599@www.kharel.org.il
SUMMARY:ו' חנוכה
DESCRIPTION:
URL:https://www.kharel.org.il/event/%d7%95-%d7%97%d7%a0%d7%95%d7%9b%d7%94-2/
END:VEVENT
BEGIN:VEVENT
DTSTART;TZID=Europe/Helsinki:20241231T163000
DTEND;TZID=Europe/Helsinki:20241231T180000
DTSTAMP:20260419T222235
CREATED:20241121T160358Z
LAST-MODIFIED:20241121T160557Z
UID:16379-1735662600-1735668000@www.kharel.org.il
SUMMARY:בית מדרש באנגלית
DESCRIPTION:בהנחיית הרב הלן בר-יעקב
URL:https://www.kharel.org.il/event/%d7%91%d7%99%d7%aa-%d7%9e%d7%93%d7%a8%d7%a9-%d7%91%d7%90%d7%a0%d7%92%d7%9c%d7%99%d7%aa-7-copy-2-copy-4-copy-5-copy-4-copy-3/
LOCATION:קהילת הר-אל\, רח' שמואל הנגיד 16\, ירולשים
END:VEVENT
END:VCALENDAR