BEGIN:VCALENDAR
VERSION:2.0
PRODID:-//קהילת הראל - ECPv6.15.17//NONSGML v1.0//EN
CALSCALE:GREGORIAN
METHOD:PUBLISH
X-ORIGINAL-URL:https://www.kharel.org.il
X-WR-CALDESC:Events for קהילת הראל
REFRESH-INTERVAL;VALUE=DURATION:PT1H
X-Robots-Tag:noindex
X-PUBLISHED-TTL:PT1H
BEGIN:VTIMEZONE
TZID:Europe/Helsinki
BEGIN:DAYLIGHT
TZOFFSETFROM:+0200
TZOFFSETTO:+0300
TZNAME:EEST
DTSTART:20230326T010000
END:DAYLIGHT
BEGIN:STANDARD
TZOFFSETFROM:+0300
TZOFFSETTO:+0200
TZNAME:EET
DTSTART:20231029T010000
END:STANDARD
BEGIN:DAYLIGHT
TZOFFSETFROM:+0200
TZOFFSETTO:+0300
TZNAME:EEST
DTSTART:20240331T010000
END:DAYLIGHT
BEGIN:STANDARD
TZOFFSETFROM:+0300
TZOFFSETTO:+0200
TZNAME:EET
DTSTART:20241027T010000
END:STANDARD
BEGIN:DAYLIGHT
TZOFFSETFROM:+0200
TZOFFSETTO:+0300
TZNAME:EEST
DTSTART:20250330T010000
END:DAYLIGHT
BEGIN:STANDARD
TZOFFSETFROM:+0300
TZOFFSETTO:+0200
TZNAME:EET
DTSTART:20251026T010000
END:STANDARD
END:VTIMEZONE
BEGIN:VEVENT
DTSTART;TZID=Europe/Helsinki:20241101T170000
DTEND;TZID=Europe/Helsinki:20241101T183000
DTSTAMP:20260420T001553
CREATED:20240903T145307Z
LAST-MODIFIED:20240903T145451Z
UID:16162-1730480400-1730485800@www.kharel.org.il
SUMMARY:קבלת שבת
DESCRIPTION:התפילה תתקיים בבית הכנסת. \nאתם/ן גם מוזמנים להתפלל איתנו באמצעות השידור הישיר של הקהילה בפייסבוק וביוטיוב.\nhttps://www.youtube.com/c/KehilatHarEl/live\nhttps://www.facebook.com/kehilat.har.el
URL:https://www.kharel.org.il/event/16133-copy-4-copy/
LOCATION:קהילת הר-אל\, רח' שמואל הנגיד 16\, ירולשים
END:VEVENT
BEGIN:VEVENT
DTSTART;TZID=Europe/Helsinki:20241102T093000
DTEND;TZID=Europe/Helsinki:20241102T113000
DTSTAMP:20260420T001553
CREATED:20240903T144926Z
LAST-MODIFIED:20240903T145108Z
UID:16156-1730539800-1730547000@www.kharel.org.il
SUMMARY:שחרית לשבת
DESCRIPTION:התפילה תתקיים בבית הכנסת. \nאתם/ן גם מוזמנים להתפלל איתנו באמצעות השידור הישיר של הקהילה בפייסבוק וביוטיוב.\nhttps://www.youtube.com/c/KehilatHarEl/live\nhttps://www.facebook.com/kehilat.har.el
URL:https://www.kharel.org.il/event/%d7%a9%d7%97%d7%a8%d7%99%d7%aa-%d7%9c%d7%a9%d7%91%d7%aa-12-copy-3-copy-copy-3/
LOCATION:קהילת הר-אל\, רח' שמואל הנגיד 16\, ירולשים
END:VEVENT
BEGIN:VEVENT
DTSTART;TZID=Europe/Helsinki:20241105T163000
DTEND;TZID=Europe/Helsinki:20241105T180000
DTSTAMP:20260420T001553
CREATED:20241013T201245Z
LAST-MODIFIED:20241013T201334Z
UID:16310-1730824200-1730829600@www.kharel.org.il
SUMMARY:בית מדרש באנגלית
DESCRIPTION:בהנחיית הרב הלן בר-יעקב
URL:https://www.kharel.org.il/event/%d7%91%d7%99%d7%aa-%d7%9e%d7%93%d7%a8%d7%a9-%d7%91%d7%90%d7%a0%d7%92%d7%9c%d7%99%d7%aa-7-copy-2-copy-4-copy-5-copy/
LOCATION:קהילת הר-אל\, רח' שמואל הנגיד 16\, ירולשים
END:VEVENT
BEGIN:VEVENT
DTSTART;TZID=Europe/Helsinki:20241108T170000
DTEND;TZID=Europe/Helsinki:20241108T183000
DTSTAMP:20260420T001553
CREATED:20241013T200757Z
LAST-MODIFIED:20241013T200850Z
UID:16294-1731085200-1731090600@www.kharel.org.il
SUMMARY:קבלת שבת
DESCRIPTION:התפילה תתקיים בבית הכנסת. \nאתם/ן גם מוזמנים להתפלל איתנו באמצעות השידור הישיר של הקהילה בפייסבוק וביוטיוב.\nhttps://www.youtube.com/c/KehilatHarEl/live\nhttps://www.facebook.com/kehilat.har.el
URL:https://www.kharel.org.il/event/16133-copy-4-copy-copy-2/
LOCATION:קהילת הר-אל\, רח' שמואל הנגיד 16\, ירולשים
END:VEVENT
BEGIN:VEVENT
DTSTART;TZID=Europe/Helsinki:20241109T093000
DTEND;TZID=Europe/Helsinki:20241109T113000
DTSTAMP:20260420T001553
CREATED:20241013T201026Z
LAST-MODIFIED:20241013T201123Z
UID:16302-1731144600-1731151800@www.kharel.org.il
SUMMARY:שחרית לשבת
DESCRIPTION:התפילה תתקיים בבית הכנסת. \nאתם/ן גם מוזמנים להתפלל איתנו באמצעות השידור הישיר של הקהילה בפייסבוק וביוטיוב.\nhttps://www.youtube.com/c/KehilatHarEl/live\nhttps://www.facebook.com/kehilat.har.el
URL:https://www.kharel.org.il/event/%d7%a9%d7%97%d7%a8%d7%99%d7%aa-%d7%9c%d7%a9%d7%91%d7%aa-12-copy-3-copy-copy-3-copy/
LOCATION:קהילת הר-אל\, רח' שמואל הנגיד 16\, ירולשים
END:VEVENT
BEGIN:VEVENT
DTSTART;TZID=Europe/Helsinki:20241112T163000
DTEND;TZID=Europe/Helsinki:20241112T180000
DTSTAMP:20260420T001553
CREATED:20241013T201248Z
LAST-MODIFIED:20241013T201343Z
UID:16311-1731429000-1731434400@www.kharel.org.il
SUMMARY:בית מדרש באנגלית
DESCRIPTION:בהנחיית הרב הלן בר-יעקב
URL:https://www.kharel.org.il/event/%d7%91%d7%99%d7%aa-%d7%9e%d7%93%d7%a8%d7%a9-%d7%91%d7%90%d7%a0%d7%92%d7%9c%d7%99%d7%aa-7-copy-2-copy-4-copy-5-copy-2/
LOCATION:קהילת הר-אל\, רח' שמואל הנגיד 16\, ירולשים
END:VEVENT
BEGIN:VEVENT
DTSTART;TZID=Europe/Helsinki:20241115T170000
DTEND;TZID=Europe/Helsinki:20241115T183000
DTSTAMP:20260420T001553
CREATED:20241013T200800Z
LAST-MODIFIED:20241013T200900Z
UID:16295-1731690000-1731695400@www.kharel.org.il
SUMMARY:קבלת שבת
DESCRIPTION:התפילה תתקיים בבית הכנסת. \nאתם/ן גם מוזמנים להתפלל איתנו באמצעות השידור הישיר של הקהילה בפייסבוק וביוטיוב.\nhttps://www.youtube.com/c/KehilatHarEl/live\nhttps://www.facebook.com/kehilat.har.el
URL:https://www.kharel.org.il/event/16133-copy-4-copy-copy-3/
LOCATION:קהילת הר-אל\, רח' שמואל הנגיד 16\, ירולשים
END:VEVENT
BEGIN:VEVENT
DTSTART;TZID=Europe/Helsinki:20241116T093000
DTEND;TZID=Europe/Helsinki:20241116T113000
DTSTAMP:20260420T001553
CREATED:20241013T201029Z
LAST-MODIFIED:20241013T201142Z
UID:16303-1731749400-1731756600@www.kharel.org.il
SUMMARY:שחרית לשבת
DESCRIPTION:התפילה תתקיים בבית הכנסת. \nאתם/ן גם מוזמנים להתפלל איתנו באמצעות השידור הישיר של הקהילה בפייסבוק וביוטיוב.\nhttps://www.youtube.com/c/KehilatHarEl/live\nhttps://www.facebook.com/kehilat.har.el
URL:https://www.kharel.org.il/event/%d7%a9%d7%97%d7%a8%d7%99%d7%aa-%d7%9c%d7%a9%d7%91%d7%aa-12-copy-3-copy-copy-3-copy-2/
LOCATION:קהילת הר-אל\, רח' שמואל הנגיד 16\, ירולשים
END:VEVENT
BEGIN:VEVENT
DTSTART;TZID=Europe/Helsinki:20241119T163000
DTEND;TZID=Europe/Helsinki:20241119T180000
DTSTAMP:20260420T001553
CREATED:20241013T201250Z
LAST-MODIFIED:20241013T201351Z
UID:16312-1732033800-1732039200@www.kharel.org.il
SUMMARY:בית מדרש באנגלית
DESCRIPTION:בהנחיית הרב הלן בר-יעקב
URL:https://www.kharel.org.il/event/%d7%91%d7%99%d7%aa-%d7%9e%d7%93%d7%a8%d7%a9-%d7%91%d7%90%d7%a0%d7%92%d7%9c%d7%99%d7%aa-7-copy-2-copy-4-copy-5-copy-3/
LOCATION:קהילת הר-אל\, רח' שמואל הנגיד 16\, ירולשים
END:VEVENT
BEGIN:VEVENT
DTSTART;TZID=Europe/Helsinki:20241122T170000
DTEND;TZID=Europe/Helsinki:20241122T183000
DTSTAMP:20260420T001553
CREATED:20241013T200803Z
LAST-MODIFIED:20241013T200909Z
UID:16296-1732294800-1732300200@www.kharel.org.il
SUMMARY:קבלת שבת
DESCRIPTION:התפילה תתקיים בבית הכנסת. \nאתם/ן גם מוזמנים להתפלל איתנו באמצעות השידור הישיר של הקהילה בפייסבוק וביוטיוב.\nhttps://www.youtube.com/c/KehilatHarEl/live\nhttps://www.facebook.com/kehilat.har.el
URL:https://www.kharel.org.il/event/16133-copy-4-copy-copy-4/
LOCATION:קהילת הר-אל\, רח' שמואל הנגיד 16\, ירולשים
END:VEVENT
BEGIN:VEVENT
DTSTART;TZID=Europe/Helsinki:20241123T093000
DTEND;TZID=Europe/Helsinki:20241123T113000
DTSTAMP:20260420T001553
CREATED:20241013T201032Z
LAST-MODIFIED:20241121T161045Z
UID:16304-1732354200-1732361400@www.kharel.org.il
SUMMARY:שחרית לשבת
DESCRIPTION:התפילה תתקיים בבית הכנסת. \nבשחרית שבת הקרובה\, 23.11.24\, נארח משתתפים/ות בסמינר למנהיגות של האיגוד העולמי ליהדות מתקדמת (WUPJ) מרחבי העולם.  בין המשתתפים בתפילתנו יהיו נשיא האיגוד העולמי\, הרב סרחיו ברגמן\, וחברתנו הרבה סטייסי בלנק\, מנהלת המרכז לחינוך ופיתוח מנהיגות של האיגוד. לאחר התפילה יערך קידוש באדיבות האיגוד העולמי\, כולם/ן מוזמנים! \nאתם/ן גם מוזמנים להתפלל איתנו באמצעות השידור הישיר של הקהילה בפייסבוק וביוטיוב.\nhttps://www.youtube.com/c/KehilatHarEl/live\nhttps://www.facebook.com/kehilat.har.el
URL:https://www.kharel.org.il/event/%d7%a9%d7%97%d7%a8%d7%99%d7%aa-%d7%9c%d7%a9%d7%91%d7%aa-12-copy-3-copy-copy-3-copy-3/
LOCATION:קהילת הר-אל\, רח' שמואל הנגיד 16\, ירולשים
END:VEVENT
BEGIN:VEVENT
DTSTART;TZID=Europe/Helsinki:20241126T163000
DTEND;TZID=Europe/Helsinki:20241126T180000
DTSTAMP:20260420T001553
CREATED:20241013T201254Z
LAST-MODIFIED:20241013T201400Z
UID:16313-1732638600-1732644000@www.kharel.org.il
SUMMARY:בית מדרש באנגלית
DESCRIPTION:בהנחיית הרב הלן בר-יעקב
URL:https://www.kharel.org.il/event/%d7%91%d7%99%d7%aa-%d7%9e%d7%93%d7%a8%d7%a9-%d7%91%d7%90%d7%a0%d7%92%d7%9c%d7%99%d7%aa-7-copy-2-copy-4-copy-5-copy-4/
LOCATION:קהילת הר-אל\, רח' שמואל הנגיד 16\, ירולשים
END:VEVENT
BEGIN:VEVENT
DTSTART;TZID=Europe/Helsinki:20241129T170000
DTEND;TZID=Europe/Helsinki:20241129T183000
DTSTAMP:20260420T001553
CREATED:20241013T200807Z
LAST-MODIFIED:20241013T200947Z
UID:16297-1732899600-1732905000@www.kharel.org.il
SUMMARY:קבלת שבת
DESCRIPTION:התפילה תתקיים בבית הכנסת. \nאתם/ן גם מוזמנים להתפלל איתנו באמצעות השידור הישיר של הקהילה בפייסבוק וביוטיוב.\nhttps://www.youtube.com/c/KehilatHarEl/live\nhttps://www.facebook.com/kehilat.har.el
URL:https://www.kharel.org.il/event/16133-copy-4-copy-copy-5/
LOCATION:קהילת הר-אל\, רח' שמואל הנגיד 16\, ירולשים
END:VEVENT
BEGIN:VEVENT
DTSTART;TZID=Europe/Helsinki:20241130T093000
DTEND;TZID=Europe/Helsinki:20241130T113000
DTSTAMP:20260420T001553
CREATED:20241013T201036Z
LAST-MODIFIED:20241013T201605Z
UID:16305-1732959000-1732966200@www.kharel.org.il
SUMMARY:שחרית לשבת
DESCRIPTION:התפילה תתקיים בבית הכנסת. \nבר מצווה: Kobe Goldrich מארה"ב \nאתם/ן גם מוזמנים להתפלל איתנו באמצעות השידור הישיר של הקהילה בפייסבוק וביוטיוב.\nhttps://www.youtube.com/c/KehilatHarEl/live\nhttps://www.facebook.com/kehilat.har.el
URL:https://www.kharel.org.il/event/%d7%a9%d7%97%d7%a8%d7%99%d7%aa-%d7%9c%d7%a9%d7%91%d7%aa-12-copy-3-copy-copy-3-copy-4/
LOCATION:קהילת הר-אל\, רח' שמואל הנגיד 16\, ירולשים
END:VEVENT
END:VCALENDAR