BEGIN:VCALENDAR
VERSION:2.0
PRODID:-//קהילת הראל - ECPv6.15.17//NONSGML v1.0//EN
CALSCALE:GREGORIAN
METHOD:PUBLISH
X-WR-CALNAME:קהילת הראל
X-ORIGINAL-URL:https://www.kharel.org.il
X-WR-CALDESC:Events for קהילת הראל
REFRESH-INTERVAL;VALUE=DURATION:PT1H
X-Robots-Tag:noindex
X-PUBLISHED-TTL:PT1H
BEGIN:VTIMEZONE
TZID:Europe/Helsinki
BEGIN:DAYLIGHT
TZOFFSETFROM:+0200
TZOFFSETTO:+0300
TZNAME:EEST
DTSTART:20230326T010000
END:DAYLIGHT
BEGIN:STANDARD
TZOFFSETFROM:+0300
TZOFFSETTO:+0200
TZNAME:EET
DTSTART:20231029T010000
END:STANDARD
BEGIN:DAYLIGHT
TZOFFSETFROM:+0200
TZOFFSETTO:+0300
TZNAME:EEST
DTSTART:20240331T010000
END:DAYLIGHT
BEGIN:STANDARD
TZOFFSETFROM:+0300
TZOFFSETTO:+0200
TZNAME:EET
DTSTART:20241027T010000
END:STANDARD
BEGIN:DAYLIGHT
TZOFFSETFROM:+0200
TZOFFSETTO:+0300
TZNAME:EEST
DTSTART:20250330T010000
END:DAYLIGHT
BEGIN:STANDARD
TZOFFSETFROM:+0300
TZOFFSETTO:+0200
TZNAME:EET
DTSTART:20251026T010000
END:STANDARD
END:VTIMEZONE
BEGIN:VEVENT
DTSTART;TZID=Europe/Helsinki:20241001T163000
DTEND;TZID=Europe/Helsinki:20241001T180000
DTSTAMP:20260420T020607
CREATED:20240903T164142Z
LAST-MODIFIED:20240903T164241Z
UID:16206-1727800200-1727805600@www.kharel.org.il
SUMMARY:בית מדרש באנגלית
DESCRIPTION:בהנחיית הרב הלן בר-יעקב
URL:https://www.kharel.org.il/event/%d7%91%d7%99%d7%aa-%d7%9e%d7%93%d7%a8%d7%a9-%d7%91%d7%90%d7%a0%d7%92%d7%9c%d7%99%d7%aa-7-copy-2-copy-4-copy-4/
LOCATION:קהילת הר-אל\, רח' שמואל הנגיד 16\, ירולשים
END:VEVENT
BEGIN:VEVENT
DTSTART;VALUE=DATE:20241002
DTEND;VALUE=DATE:20241003
DTSTAMP:20260420T020607
CREATED:20240903T130046Z
LAST-MODIFIED:20240903T130046Z
UID:16115-1727827200-1727913599@www.kharel.org.il
SUMMARY:ערב ראש השנה
DESCRIPTION:
URL:https://www.kharel.org.il/event/%d7%a2%d7%a8%d7%91-%d7%a8%d7%90%d7%a9-%d7%94%d7%a9%d7%a0%d7%94-5/
END:VEVENT
BEGIN:VEVENT
DTSTART;TZID=Europe/Helsinki:20241002T180000
DTEND;TZID=Europe/Helsinki:20241002T193000
DTSTAMP:20260420T020607
CREATED:20240903T145716Z
LAST-MODIFIED:20240903T150614Z
UID:16169-1727892000-1727897400@www.kharel.org.il
SUMMARY:ערבית לא' ראש השנה
DESCRIPTION:התפילה תתקיים בבית הכנסת. \nדרשנית: רב הקהילה עדה זבידוב. \nאתם/ן גם מוזמנים להתפלל איתנו באמצעות השידור הישיר של הקהילה בפייסבוק וביוטיוב.\nhttps://www.youtube.com/c/KehilatHarEl/live\nhttps://www.facebook.com/kehilat.har.el
URL:https://www.kharel.org.il/event/16133-copy-4-copy-copy/
LOCATION:קהילת הר-אל\, רח' שמואל הנגיד 16\, ירולשים
END:VEVENT
BEGIN:VEVENT
DTSTART;VALUE=DATE:20241003
DTEND;VALUE=DATE:20241004
DTSTAMP:20260420T020607
CREATED:20240903T130132Z
LAST-MODIFIED:20240903T130132Z
UID:16117-1727913600-1727999999@www.kharel.org.il
SUMMARY:א' ראש השנה
DESCRIPTION:
URL:https://www.kharel.org.il/event/%d7%90-%d7%a8%d7%90%d7%a9-%d7%94%d7%a9%d7%a0%d7%94/
END:VEVENT
BEGIN:VEVENT
DTSTART;TZID=Europe/Helsinki:20241003T093000
DTEND;TZID=Europe/Helsinki:20241003T123000
DTSTAMP:20260420T020607
CREATED:20240903T151424Z
LAST-MODIFIED:20240904T105022Z
UID:16173-1727947800-1727958600@www.kharel.org.il
SUMMARY:שחרית לא' ראש השנה
DESCRIPTION:התפילה תתקיים בבית הכנסת\, ובהשתתפות מקהלת הר-אל ובליווי פסנתר\, כולל תקיעת שופר.   \n \nדרשן אורח: ד"ר נחמן שי\, דיקן היברו יוניון קולג’\, שר התפוצות לשעבר. \nאתם/ן גם מוזמנים להתפלל איתנו באמצעות השידור הישיר של הקהילה בפייסבוק וביוטיוב.\nhttps://www.youtube.com/c/KehilatHarEl/live\nhttps://www.facebook.com/kehilat.har.el
URL:https://www.kharel.org.il/event/16133-copy-4-copy-copy-copy/
LOCATION:קהילת הר-אל\, רח' שמואל הנגיד 16\, ירולשים
END:VEVENT
BEGIN:VEVENT
DTSTART;VALUE=DATE:20241004
DTEND;VALUE=DATE:20241005
DTSTAMP:20260420T020607
CREATED:20240903T153155Z
LAST-MODIFIED:20240903T153155Z
UID:16177-1728000000-1728086399@www.kharel.org.il
SUMMARY:ב' ראש השנה
DESCRIPTION:
URL:https://www.kharel.org.il/event/%d7%91-%d7%a8%d7%90%d7%a9-%d7%94%d7%a9%d7%a0%d7%94/
END:VEVENT
BEGIN:VEVENT
DTSTART;TZID=Europe/Helsinki:20241004T180000
DTEND;TZID=Europe/Helsinki:20241004T193000
DTSTAMP:20260420T020607
CREATED:20240903T144005Z
LAST-MODIFIED:20240903T144136Z
UID:16139-1728064800-1728070200@www.kharel.org.il
SUMMARY:קבלת שבת
DESCRIPTION:התפילה תתקיים בבית הכנסת. \nאתם/ן גם מוזמנים להתפלל איתנו באמצעות השידור הישיר של הקהילה בפייסבוק וביוטיוב.\nhttps://www.youtube.com/c/KehilatHarEl/live\nhttps://www.facebook.com/kehilat.har.el
URL:https://www.kharel.org.il/event/16133-copy-4/
LOCATION:קהילת הר-אל\, רח' שמואל הנגיד 16\, ירולשים
END:VEVENT
BEGIN:VEVENT
DTSTART;VALUE=DATE:20241005
DTEND;VALUE=DATE:20241006
DTSTAMP:20260420T020607
CREATED:20240903T153222Z
LAST-MODIFIED:20240903T153252Z
UID:16179-1728086400-1728172799@www.kharel.org.il
SUMMARY:שבת שובה
DESCRIPTION:
URL:https://www.kharel.org.il/event/%d7%91-%d7%a8%d7%90%d7%a9-%d7%94%d7%a9%d7%a0%d7%94-copy/
END:VEVENT
BEGIN:VEVENT
DTSTART;TZID=Europe/Helsinki:20241005T093000
DTEND;TZID=Europe/Helsinki:20241005T113000
DTSTAMP:20260420T020607
CREATED:20240903T144734Z
LAST-MODIFIED:20240903T144839Z
UID:16152-1728120600-1728127800@www.kharel.org.il
SUMMARY:שחרית לשבת
DESCRIPTION:התפילה תתקיים בבית הכנסת. \nאתם/ן גם מוזמנים להתפלל איתנו באמצעות השידור הישיר של הקהילה בפייסבוק וביוטיוב.\nhttps://www.youtube.com/c/KehilatHarEl/live\nhttps://www.facebook.com/kehilat.har.el
URL:https://www.kharel.org.il/event/%d7%a9%d7%97%d7%a8%d7%99%d7%aa-%d7%9c%d7%a9%d7%91%d7%aa-12-copy-3-copy/
LOCATION:קהילת הר-אל\, רח' שמואל הנגיד 16\, ירולשים
END:VEVENT
BEGIN:VEVENT
DTSTART;TZID=Europe/Helsinki:20241008T163000
DTEND;TZID=Europe/Helsinki:20241008T180000
DTSTAMP:20260420T020607
CREATED:20240903T164140Z
LAST-MODIFIED:20240903T164259Z
UID:16205-1728405000-1728410400@www.kharel.org.il
SUMMARY:בית מדרש באנגלית
DESCRIPTION:בהנחיית הרב הלן בר-יעקב
URL:https://www.kharel.org.il/event/%d7%91%d7%99%d7%aa-%d7%9e%d7%93%d7%a8%d7%a9-%d7%91%d7%90%d7%a0%d7%92%d7%9c%d7%99%d7%aa-7-copy-2-copy-4-copy-3/
LOCATION:קהילת הר-אל\, רח' שמואל הנגיד 16\, ירולשים
END:VEVENT
BEGIN:VEVENT
DTSTART;VALUE=DATE:20241011
DTEND;VALUE=DATE:20241012
DTSTAMP:20260420T020607
CREATED:20240903T130213Z
LAST-MODIFIED:20240903T130213Z
UID:16119-1728604800-1728691199@www.kharel.org.il
SUMMARY:ערב יום כיפור
DESCRIPTION:
URL:https://www.kharel.org.il/event/%d7%a2%d7%a8%d7%91-%d7%99%d7%95%d7%9d-%d7%9b%d7%99%d7%a4%d7%95%d7%a8-2/
END:VEVENT
BEGIN:VEVENT
DTSTART;TZID=Europe/Helsinki:20241011T180000
DTEND;TZID=Europe/Helsinki:20241011T200000
DTSTAMP:20260420T020607
CREATED:20240903T153629Z
LAST-MODIFIED:20240909T113749Z
UID:16181-1728669600-1728676800@www.kharel.org.il
SUMMARY:כל נדרי וערבית ליום כיפור
DESCRIPTION:התפילה תתקיים בבית הכנסת\, בהשתתפות מקהלת הר-אל ובליווי פסנתר.\nדרשנית: רב הקהילה עדה זבידוב.\n \nלאחר התפילה יתקיים לימוד (בעברית) עם הרב עדה. \nאתם/ן גם מוזמנים להתפלל איתנו באמצעות השידור הישיר של הקהילה בפייסבוק וביוטיוב.\nhttps://www.youtube.com/c/KehilatHarEl/live\nhttps://www.facebook.com/kehilat.har.el
URL:https://www.kharel.org.il/event/16133-copy-4-copy-4/
LOCATION:קהילת הר-אל\, רח' שמואל הנגיד 16\, ירולשים
END:VEVENT
BEGIN:VEVENT
DTSTART;VALUE=DATE:20241012
DTEND;VALUE=DATE:20241013
DTSTAMP:20260420T020607
CREATED:20240903T130236Z
LAST-MODIFIED:20240903T130236Z
UID:16121-1728691200-1728777599@www.kharel.org.il
SUMMARY:יום כיפור
DESCRIPTION:
URL:https://www.kharel.org.il/event/%d7%99%d7%95%d7%9d-%d7%9b%d7%99%d7%a4%d7%95%d7%a8-2/
END:VEVENT
BEGIN:VEVENT
DTSTART;TZID=Europe/Helsinki:20241012T093000
DTEND;TZID=Europe/Helsinki:20241012T130000
DTSTAMP:20260420T020607
CREATED:20240903T162013Z
LAST-MODIFIED:20240903T163806Z
UID:16185-1728725400-1728738000@www.kharel.org.il
SUMMARY:שחרית ליום כיפור
DESCRIPTION:התפילה תתקיים בבית הכנסת. \nאתם/ן גם מוזמנים להתפלל איתנו באמצעות השידור הישיר של הקהילה בפייסבוק וביוטיוב.\nhttps://www.youtube.com/c/KehilatHarEl/live\nhttps://www.facebook.com/kehilat.har.el
URL:https://www.kharel.org.il/event/16133-copy-4-copy-4-copy/
LOCATION:קהילת הר-אל\, רח' שמואל הנגיד 16\, ירולשים
END:VEVENT
BEGIN:VEVENT
DTSTART;TZID=Europe/Helsinki:20241012T160000
DTEND;TZID=Europe/Helsinki:20241012T190000
DTSTAMP:20260420T020607
CREATED:20240903T162017Z
LAST-MODIFIED:20240903T163112Z
UID:16186-1728748800-1728759600@www.kharel.org.il
SUMMARY:מנחה\, הזכרת נשמות ונעילה
DESCRIPTION:נעילה 2023\nהתפילה תתקיים בבית הכנסת\, בהשתתפות מקהלת הר-אל ובליווי פסנתר. \nאתם/ן גם מוזמנים להתפלל איתנו באמצעות השידור הישיר של הקהילה בפייסבוק וביוטיוב.\nhttps://www.youtube.com/c/KehilatHarEl/live\nhttps://www.facebook.com/kehilat.har.el
URL:https://www.kharel.org.il/event/16133-copy-4-copy-4-copy-2/
LOCATION:קהילת הר-אל\, רח' שמואל הנגיד 16\, ירולשים
END:VEVENT
BEGIN:VEVENT
DTSTART;TZID=Europe/Helsinki:20241015T163000
DTEND;TZID=Europe/Helsinki:20241015T180000
DTSTAMP:20260420T020607
CREATED:20240903T164137Z
LAST-MODIFIED:20240903T164308Z
UID:16204-1729009800-1729015200@www.kharel.org.il
SUMMARY:בית מדרש באנגלית
DESCRIPTION:בהנחיית הרב הלן בר-יעקב
URL:https://www.kharel.org.il/event/%d7%91%d7%99%d7%aa-%d7%9e%d7%93%d7%a8%d7%a9-%d7%91%d7%90%d7%a0%d7%92%d7%9c%d7%99%d7%aa-7-copy-2-copy-4-copy-2/
LOCATION:קהילת הר-אל\, רח' שמואל הנגיד 16\, ירולשים
END:VEVENT
BEGIN:VEVENT
DTSTART;VALUE=DATE:20241016
DTEND;VALUE=DATE:20241017
DTSTAMP:20260420T020607
CREATED:20240903T130259Z
LAST-MODIFIED:20240903T130259Z
UID:16123-1729036800-1729123199@www.kharel.org.il
SUMMARY:ערב סוכות
DESCRIPTION:
URL:https://www.kharel.org.il/event/%d7%a2%d7%a8%d7%91-%d7%a1%d7%95%d7%9b%d7%95%d7%aa-5/
END:VEVENT
BEGIN:VEVENT
DTSTART;TZID=Europe/Helsinki:20241016T180000
DTEND;TZID=Europe/Helsinki:20241016T193000
DTSTAMP:20260420T020607
CREATED:20240903T164503Z
LAST-MODIFIED:20240903T164747Z
UID:16213-1729101600-1729107000@www.kharel.org.il
SUMMARY:ערבית לחג
DESCRIPTION:התפילה תתקיים בבית הכנסת. \nאתם/ן גם מוזמנים להתפלל איתנו באמצעות השידור הישיר של הקהילה בפייסבוק וביוטיוב.\nhttps://www.youtube.com/c/KehilatHarEl/live\nhttps://www.facebook.com/kehilat.har.el
URL:https://www.kharel.org.il/event/16133-copy-4-copy-5/
LOCATION:קהילת הר-אל\, רח' שמואל הנגיד 16\, ירולשים
END:VEVENT
BEGIN:VEVENT
DTSTART;VALUE=DATE:20241017
DTEND;VALUE=DATE:20241018
DTSTAMP:20260420T020607
CREATED:20240903T130328Z
LAST-MODIFIED:20240903T130328Z
UID:16125-1729123200-1729209599@www.kharel.org.il
SUMMARY:א' סוכות
DESCRIPTION:
URL:https://www.kharel.org.il/event/%d7%90-%d7%a1%d7%95%d7%9b%d7%95%d7%aa/
END:VEVENT
BEGIN:VEVENT
DTSTART;TZID=Europe/Helsinki:20241017T093000
DTEND;TZID=Europe/Helsinki:20241017T123000
DTSTAMP:20260420T020607
CREATED:20240903T164757Z
LAST-MODIFIED:20240903T164946Z
UID:16217-1729157400-1729168200@www.kharel.org.il
SUMMARY:שחרית לחג
DESCRIPTION:התפילה תתקיים בבית הכנסת\, כולל כולל נטילת לולב. \nאתם/ן גם מוזמנים להתפלל איתנו באמצעות השידור הישיר של הקהילה בפייסבוק וביוטיוב.\nhttps://www.youtube.com/c/KehilatHarEl/live\nhttps://www.facebook.com/kehilat.har.el
URL:https://www.kharel.org.il/event/16133-copy-4-copy-5-copy/
LOCATION:קהילת הר-אל\, רח' שמואל הנגיד 16\, ירולשים
END:VEVENT
BEGIN:VEVENT
DTSTART;VALUE=DATE:20241018
DTEND;VALUE=DATE:20241023
DTSTAMP:20260420T020607
CREATED:20240903T130422Z
LAST-MODIFIED:20240903T130422Z
UID:16127-1729209600-1729641599@www.kharel.org.il
SUMMARY:חול המועד סוכות
DESCRIPTION:
URL:https://www.kharel.org.il/event/%d7%97%d7%95%d7%9c-%d7%94%d7%9e%d7%95%d7%a2%d7%93-%d7%a1%d7%95%d7%9b%d7%95%d7%aa-2/
END:VEVENT
BEGIN:VEVENT
DTSTART;TZID=Europe/Helsinki:20241018T180000
DTEND;TZID=Europe/Helsinki:20241018T193000
DTSTAMP:20260420T020607
CREATED:20240903T145312Z
LAST-MODIFIED:20240903T145415Z
UID:16164-1729274400-1729279800@www.kharel.org.il
SUMMARY:קבלת שבת חול המועד
DESCRIPTION:התפילה תתקיים בבית הכנסת. \nאתם/ן גם מוזמנים להתפלל איתנו באמצעות השידור הישיר של הקהילה בפייסבוק וביוטיוב.\nhttps://www.youtube.com/c/KehilatHarEl/live\nhttps://www.facebook.com/kehilat.har.el
URL:https://www.kharel.org.il/event/16133-copy-4-copy-3/
LOCATION:קהילת הר-אל\, רח' שמואל הנגיד 16\, ירולשים
END:VEVENT
BEGIN:VEVENT
DTSTART;TZID=Europe/Helsinki:20241019T093000
DTEND;TZID=Europe/Helsinki:20241019T113000
DTSTAMP:20260420T020607
CREATED:20240903T144845Z
LAST-MODIFIED:20240903T145025Z
UID:16154-1729330200-1729337400@www.kharel.org.il
SUMMARY:שחרית לשבת חול המועד
DESCRIPTION:התפילה תתקיים בבית הכנסת. \nאתם/ן גם מוזמנים להתפלל איתנו באמצעות השידור הישיר של הקהילה בפייסבוק וביוטיוב.\nhttps://www.youtube.com/c/KehilatHarEl/live\nhttps://www.facebook.com/kehilat.har.el
URL:https://www.kharel.org.il/event/%d7%a9%d7%97%d7%a8%d7%99%d7%aa-%d7%9c%d7%a9%d7%91%d7%aa-12-copy-3-copy-copy/
LOCATION:קהילת הר-אל\, רח' שמואל הנגיד 16\, ירולשים
END:VEVENT
BEGIN:VEVENT
DTSTART;TZID=Europe/Helsinki:20241021T160000
DTEND;TZID=Europe/Helsinki:20241021T160000
DTSTAMP:20260420T020607
CREATED:20241007T121020Z
LAST-MODIFIED:20241013T202032Z
UID:16287-1729526400-1729526400@www.kharel.org.il
SUMMARY:אירוע בין-דתי בסוכת הקהילה
DESCRIPTION:בחול המועד סוכות – יום ב' 21.10.24\, בשעה 16:00\, נערוך בסוכת קהילתנו אירוע בין-דתי ביוזמת חברתנו טלי בן-דור\, עם "אירגון השלום הבינלאומי" ובהשתתפות הרב עדה והחזן אבן. אנא הביאו כיבוד. לפרטים נוספים\, לתיאום הכיבוד ולאישור השתתפות\, אנא פנו לחברתנו טלי בן-דור ב-ווצאפ  050-621-4004. כולם/ן מוזמנים!
URL:https://www.kharel.org.il/event/%d7%90%d7%99%d7%a8%d7%95%d7%a2-%d7%91%d7%99%d7%9f-%d7%93%d7%aa%d7%99-%d7%91%d7%a1%d7%95%d7%9b%d7%aa-%d7%94%d7%a7%d7%94%d7%99%d7%9c%d7%94/
LOCATION:קהילת הר-אל\, רח' שמואל הנגיד 16\, ירולשים
END:VEVENT
BEGIN:VEVENT
DTSTART;TZID=Europe/Helsinki:20241022T163000
DTEND;TZID=Europe/Helsinki:20241022T180000
DTSTAMP:20260420T020607
CREATED:20240903T164134Z
LAST-MODIFIED:20240903T164318Z
UID:16203-1729614600-1729620000@www.kharel.org.il
SUMMARY:בית מדרש באנגלית
DESCRIPTION:בהנחיית הרב הלן בר-יעקב
URL:https://www.kharel.org.il/event/%d7%91%d7%99%d7%aa-%d7%9e%d7%93%d7%a8%d7%a9-%d7%91%d7%90%d7%a0%d7%92%d7%9c%d7%99%d7%aa-7-copy-2-copy-4-copy/
LOCATION:קהילת הר-אל\, רח' שמואל הנגיד 16\, ירולשים
END:VEVENT
BEGIN:VEVENT
DTSTART;VALUE=DATE:20241023
DTEND;VALUE=DATE:20241024
DTSTAMP:20260420T020607
CREATED:20240903T130449Z
LAST-MODIFIED:20240903T130449Z
UID:16129-1729641600-1729727999@www.kharel.org.il
SUMMARY:הושענא רבא
DESCRIPTION:
URL:https://www.kharel.org.il/event/%d7%94%d7%95%d7%a9%d7%a2%d7%a0%d7%90-%d7%a8%d7%91%d7%90-2/
END:VEVENT
BEGIN:VEVENT
DTSTART;TZID=Europe/Helsinki:20241023T180000
DTEND;TZID=Europe/Helsinki:20241023T193000
DTSTAMP:20260420T020607
CREATED:20240903T165025Z
LAST-MODIFIED:20240903T165326Z
UID:16221-1729706400-1729711800@www.kharel.org.il
SUMMARY:ערבית לשמחת תורה
DESCRIPTION:התפילה תתקיים בבית הכנסת. \nאתם/ן גם מוזמנים להתפלל איתנו באמצעות השידור הישיר של הקהילה בפייסבוק וביוטיוב.\nhttps://www.youtube.com/c/KehilatHarEl/live\nhttps://www.facebook.com/kehilat.har.el
URL:https://www.kharel.org.il/event/16133-copy-4-copy-5-copy-copy-2/
LOCATION:קהילת הר-אל\, רח' שמואל הנגיד 16\, ירולשים
END:VEVENT
BEGIN:VEVENT
DTSTART;VALUE=DATE:20241024
DTEND;VALUE=DATE:20241025
DTSTAMP:20260420T020607
CREATED:20240903T130517Z
LAST-MODIFIED:20240903T130517Z
UID:16131-1729728000-1729814399@www.kharel.org.il
SUMMARY:שמיני עצרת/שמחת תורה
DESCRIPTION:
URL:https://www.kharel.org.il/event/%d7%a9%d7%9e%d7%99%d7%a0%d7%99-%d7%a2%d7%a6%d7%a8%d7%aa-%d7%a9%d7%9e%d7%97%d7%aa-%d7%aa%d7%95%d7%a8%d7%94-2/
END:VEVENT
BEGIN:VEVENT
DTSTART;TZID=Europe/Helsinki:20241024T093000
DTEND;TZID=Europe/Helsinki:20241024T123000
DTSTAMP:20260420T020607
CREATED:20240903T165022Z
LAST-MODIFIED:20240903T165533Z
UID:16220-1729762200-1729773000@www.kharel.org.il
SUMMARY:שחרית לשמחת תורה
DESCRIPTION:  \n \nהתפילה תתקיים בבית הכנסת. \nאתם/ן גם מוזמנים להתפלל איתנו באמצעות השידור הישיר של הקהילה בפייסבוק וביוטיוב.\nhttps://www.youtube.com/c/KehilatHarEl/live\nhttps://www.facebook.com/kehilat.har.el
URL:https://www.kharel.org.il/event/16133-copy-4-copy-5-copy-copy/
LOCATION:קהילת הר-אל\, רח' שמואל הנגיד 16\, ירולשים
END:VEVENT
BEGIN:VEVENT
DTSTART;TZID=Europe/Helsinki:20241025T180000
DTEND;TZID=Europe/Helsinki:20241025T193000
DTSTAMP:20260420T020607
CREATED:20240903T145310Z
LAST-MODIFIED:20240903T145429Z
UID:16163-1729879200-1729884600@www.kharel.org.il
SUMMARY:קבלת שבת
DESCRIPTION:התפילה תתקיים בבית הכנסת. \nאתם/ן גם מוזמנים להתפלל איתנו באמצעות השידור הישיר של הקהילה בפייסבוק וביוטיוב.\nhttps://www.youtube.com/c/KehilatHarEl/live\nhttps://www.facebook.com/kehilat.har.el
URL:https://www.kharel.org.il/event/16133-copy-4-copy-2/
LOCATION:קהילת הר-אל\, רח' שמואל הנגיד 16\, ירולשים
END:VEVENT
END:VCALENDAR