BEGIN:VCALENDAR
VERSION:2.0
PRODID:-//קהילת הראל - ECPv6.15.17//NONSGML v1.0//EN
CALSCALE:GREGORIAN
METHOD:PUBLISH
X-WR-CALNAME:קהילת הראל
X-ORIGINAL-URL:https://www.kharel.org.il
X-WR-CALDESC:Events for קהילת הראל
REFRESH-INTERVAL;VALUE=DURATION:PT1H
X-Robots-Tag:noindex
X-PUBLISHED-TTL:PT1H
BEGIN:VTIMEZONE
TZID:Europe/Helsinki
BEGIN:DAYLIGHT
TZOFFSETFROM:+0200
TZOFFSETTO:+0300
TZNAME:EEST
DTSTART:20170326T010000
END:DAYLIGHT
BEGIN:STANDARD
TZOFFSETFROM:+0300
TZOFFSETTO:+0200
TZNAME:EET
DTSTART:20171029T010000
END:STANDARD
BEGIN:DAYLIGHT
TZOFFSETFROM:+0200
TZOFFSETTO:+0300
TZNAME:EEST
DTSTART:20180325T010000
END:DAYLIGHT
BEGIN:STANDARD
TZOFFSETFROM:+0300
TZOFFSETTO:+0200
TZNAME:EET
DTSTART:20181028T010000
END:STANDARD
BEGIN:DAYLIGHT
TZOFFSETFROM:+0200
TZOFFSETTO:+0300
TZNAME:EEST
DTSTART:20190331T010000
END:DAYLIGHT
BEGIN:STANDARD
TZOFFSETFROM:+0300
TZOFFSETTO:+0200
TZNAME:EET
DTSTART:20191027T010000
END:STANDARD
END:VTIMEZONE
BEGIN:VEVENT
DTSTART;TZID=Europe/Helsinki:20180301T180000
DTEND;TZID=Europe/Helsinki:20180301T193000
DTSTAMP:20260424T161908
CREATED:20180130T165843Z
LAST-MODIFIED:20180222T093221Z
UID:3513-1519927200-1519932600@www.kharel.org.il
SUMMARY:קריאת מגילת אסתר בליל שושן פורים
DESCRIPTION:כולם/ן מוזמנים לקריאת המגילה בקהילה – יום ה'\, 1.3.18:\nיום ה'\, 1.3.18\, בשעה 18:00 – שושן פורים: תפילת ערבית ואחריה קריאת מגילת אסתר.  אנא בואו מחופשים והביאו למזנון הכיבוד חטיפים מתוקים ומלוחים ובקבוקי שתייה קלה וחריפה. (אוזני המן תספק הקהילה).
URL:https://www.kharel.org.il/event/%d7%9c%d7%99%d7%9c-%d7%a9%d7%95%d7%a9%d7%9f-%d7%a4%d7%95%d7%a8%d7%99%d7%9d-%d7%95%d7%a7%d7%a8%d7%99%d7%90%d7%aa-%d7%9e%d7%92%d7%99%d7%9c%d7%aa-%d7%90%d7%a1%d7%aa%d7%a8/
LOCATION:קהילת הר-אל\, רח' שמואל הנגיד 16\, ירולשים\, Israel
END:VEVENT
END:VCALENDAR