BEGIN:VCALENDAR
VERSION:2.0
PRODID:-//Kehilat Har-El - ECPv6.15.17//NONSGML v1.0//EN
CALSCALE:GREGORIAN
METHOD:PUBLISH
X-ORIGINAL-URL:https://www.kharel.org.il/en-us
X-WR-CALDESC:Events for Kehilat Har-El
REFRESH-INTERVAL;VALUE=DURATION:PT1H
X-Robots-Tag:noindex
X-PUBLISHED-TTL:PT1H
BEGIN:VTIMEZONE
TZID:Asia/Jerusalem
BEGIN:DAYLIGHT
TZOFFSETFROM:+0200
TZOFFSETTO:+0300
TZNAME:IDT
DTSTART:20190329T000000
END:DAYLIGHT
BEGIN:STANDARD
TZOFFSETFROM:+0300
TZOFFSETTO:+0200
TZNAME:IST
DTSTART:20191026T230000
END:STANDARD
BEGIN:DAYLIGHT
TZOFFSETFROM:+0200
TZOFFSETTO:+0300
TZNAME:IDT
DTSTART:20200327T000000
END:DAYLIGHT
BEGIN:STANDARD
TZOFFSETFROM:+0300
TZOFFSETTO:+0200
TZNAME:IST
DTSTART:20201024T230000
END:STANDARD
BEGIN:DAYLIGHT
TZOFFSETFROM:+0200
TZOFFSETTO:+0300
TZNAME:IDT
DTSTART:20210326T000000
END:DAYLIGHT
BEGIN:STANDARD
TZOFFSETFROM:+0300
TZOFFSETTO:+0200
TZNAME:IST
DTSTART:20211030T230000
END:STANDARD
END:VTIMEZONE
BEGIN:VEVENT
DTSTART;TZID=Asia/Jerusalem:20200101T113000
DTEND;TZID=Asia/Jerusalem:20200101T130000
DTSTAMP:20260420T132229
CREATED:20191029T203209Z
LAST-MODIFIED:20191029T203209Z
UID:6342-1577878200-1577883600@www.kharel.org.il
SUMMARY:Bat Mitzvah Maya Sahbti
DESCRIPTION:Bat mitzvah Maya Sahbti from Boston at the Egalitarian Kotel
URL:https://www.kharel.org.il/en-us/event/bat-mitzvah-maya-sahbti/
LOCATION:Egalitarian Kotel
END:VEVENT
BEGIN:VEVENT
DTSTART;TZID=Asia/Jerusalem:20200102T000000
DTEND;TZID=Asia/Jerusalem:20200102T000000
DTSTAMP:20260420T132229
CREATED:20181105T192056Z
LAST-MODIFIED:20181105T192056Z
UID:4794-1577923200-1577923200@www.kharel.org.il
SUMMARY:5th of Tevet 5780
DESCRIPTION:
URL:https://www.kharel.org.il/en-us/event/5th-of-tevet-5780/
END:VEVENT
BEGIN:VEVENT
DTSTART;TZID=Asia/Jerusalem:20200103T000000
DTEND;TZID=Asia/Jerusalem:20200103T000000
DTSTAMP:20260420T132229
CREATED:20181105T192057Z
LAST-MODIFIED:20181105T192057Z
UID:4795-1578009600-1578009600@www.kharel.org.il
SUMMARY:6th of Tevet 5780
DESCRIPTION:
URL:https://www.kharel.org.il/en-us/event/6th-of-tevet-5780/
END:VEVENT
BEGIN:VEVENT
DTSTART;TZID=Asia/Jerusalem:20200104T000000
DTEND;TZID=Asia/Jerusalem:20200104T000000
DTSTAMP:20260420T132229
CREATED:20181105T192057Z
LAST-MODIFIED:20181105T192057Z
UID:4796-1578096000-1578096000@www.kharel.org.il
SUMMARY:7th of Tevet 5780
DESCRIPTION:
URL:https://www.kharel.org.il/en-us/event/7th-of-tevet-5780/
END:VEVENT
BEGIN:VEVENT
DTSTART;TZID=Asia/Jerusalem:20200105T000000
DTEND;TZID=Asia/Jerusalem:20200105T000000
DTSTAMP:20260420T132229
CREATED:20181105T192100Z
LAST-MODIFIED:20181105T192100Z
UID:4797-1578182400-1578182400@www.kharel.org.il
SUMMARY:8th of Tevet 5780
DESCRIPTION:
URL:https://www.kharel.org.il/en-us/event/8th-of-tevet-5780/
END:VEVENT
BEGIN:VEVENT
DTSTART;TZID=Asia/Jerusalem:20200106T000000
DTEND;TZID=Asia/Jerusalem:20200106T000000
DTSTAMP:20260420T132229
CREATED:20181105T192100Z
LAST-MODIFIED:20181105T192100Z
UID:4798-1578268800-1578268800@www.kharel.org.il
SUMMARY:9th of Tevet 5780
DESCRIPTION:
URL:https://www.kharel.org.il/en-us/event/9th-of-tevet-5780/
END:VEVENT
BEGIN:VEVENT
DTSTART;TZID=Asia/Jerusalem:20200107T000000
DTEND;TZID=Asia/Jerusalem:20200107T000000
DTSTAMP:20260420T132229
CREATED:20181105T192100Z
LAST-MODIFIED:20181105T192100Z
UID:4799-1578355200-1578355200@www.kharel.org.il
SUMMARY:10th of Tevet 5780
DESCRIPTION:
URL:https://www.kharel.org.il/en-us/event/10th-of-tevet-5780/
END:VEVENT
BEGIN:VEVENT
DTSTART;TZID=Asia/Jerusalem:20200108T000000
DTEND;TZID=Asia/Jerusalem:20200108T000000
DTSTAMP:20260420T132229
CREATED:20181105T192101Z
LAST-MODIFIED:20181105T192101Z
UID:4800-1578441600-1578441600@www.kharel.org.il
SUMMARY:11th of Tevet 5780
DESCRIPTION:
URL:https://www.kharel.org.il/en-us/event/11th-of-tevet-5780/
END:VEVENT
BEGIN:VEVENT
DTSTART;TZID=Asia/Jerusalem:20200109T000000
DTEND;TZID=Asia/Jerusalem:20200109T000000
DTSTAMP:20260420T132229
CREATED:20181105T192101Z
LAST-MODIFIED:20181105T192101Z
UID:4801-1578528000-1578528000@www.kharel.org.il
SUMMARY:12th of Tevet 5780
DESCRIPTION:
URL:https://www.kharel.org.il/en-us/event/12th-of-tevet-5780/
END:VEVENT
BEGIN:VEVENT
DTSTART;TZID=Asia/Jerusalem:20200109T103000
DTEND;TZID=Asia/Jerusalem:20200109T120000
DTSTAMP:20260420T132229
CREATED:20191209T204817Z
LAST-MODIFIED:20191209T204817Z
UID:6415-1578565800-1578571200@www.kharel.org.il
SUMMARY:Adult Bat Mitzvah of Irene Sang & Elinor Peters
DESCRIPTION:Adult bat mitzvah ceremony for Irene Sang & Elinor Peters from California
URL:https://www.kharel.org.il/en-us/event/adult-bat-mitzvah-of-irene-sang-elinor-peters/
LOCATION:Egalitarian Kotel
END:VEVENT
BEGIN:VEVENT
DTSTART;TZID=Asia/Jerusalem:20200110T000000
DTEND;TZID=Asia/Jerusalem:20200110T000000
DTSTAMP:20260420T132229
CREATED:20181105T192102Z
LAST-MODIFIED:20181105T192102Z
UID:4802-1578614400-1578614400@www.kharel.org.il
SUMMARY:13th of Tevet 5780
DESCRIPTION:
URL:https://www.kharel.org.il/en-us/event/13th-of-tevet-5780/
END:VEVENT
BEGIN:VEVENT
DTSTART;TZID=Asia/Jerusalem:20200111T000000
DTEND;TZID=Asia/Jerusalem:20200111T000000
DTSTAMP:20260420T132229
CREATED:20181105T192102Z
LAST-MODIFIED:20181105T192102Z
UID:4803-1578700800-1578700800@www.kharel.org.il
SUMMARY:14th of Tevet 5780
DESCRIPTION:
URL:https://www.kharel.org.il/en-us/event/14th-of-tevet-5780/
END:VEVENT
BEGIN:VEVENT
DTSTART;TZID=Asia/Jerusalem:20200112T000000
DTEND;TZID=Asia/Jerusalem:20200112T000000
DTSTAMP:20260420T132229
CREATED:20181105T192102Z
LAST-MODIFIED:20181105T192102Z
UID:4804-1578787200-1578787200@www.kharel.org.il
SUMMARY:15th of Tevet 5780
DESCRIPTION:
URL:https://www.kharel.org.il/en-us/event/15th-of-tevet-5780/
END:VEVENT
BEGIN:VEVENT
DTSTART;TZID=Asia/Jerusalem:20200113T000000
DTEND;TZID=Asia/Jerusalem:20200113T000000
DTSTAMP:20260420T132229
CREATED:20181105T192103Z
LAST-MODIFIED:20181105T192103Z
UID:4805-1578873600-1578873600@www.kharel.org.il
SUMMARY:16th of Tevet 5780
DESCRIPTION:
URL:https://www.kharel.org.il/en-us/event/16th-of-tevet-5780/
END:VEVENT
BEGIN:VEVENT
DTSTART;TZID=Asia/Jerusalem:20200114T000000
DTEND;TZID=Asia/Jerusalem:20200114T000000
DTSTAMP:20260420T132229
CREATED:20181105T192103Z
LAST-MODIFIED:20181105T192103Z
UID:4806-1578960000-1578960000@www.kharel.org.il
SUMMARY:17th of Tevet 5780
DESCRIPTION:
URL:https://www.kharel.org.il/en-us/event/17th-of-tevet-5780/
END:VEVENT
BEGIN:VEVENT
DTSTART;TZID=Asia/Jerusalem:20200115T000000
DTEND;TZID=Asia/Jerusalem:20200115T000000
DTSTAMP:20260420T132229
CREATED:20181105T192105Z
LAST-MODIFIED:20181105T192106Z
UID:4807-1579046400-1579046400@www.kharel.org.il
SUMMARY:18th of Tevet 5780
DESCRIPTION:
URL:https://www.kharel.org.il/en-us/event/18th-of-tevet-5780/
END:VEVENT
BEGIN:VEVENT
DTSTART;TZID=Asia/Jerusalem:20200116T000000
DTEND;TZID=Asia/Jerusalem:20200116T000000
DTSTAMP:20260420T132229
CREATED:20181105T192105Z
LAST-MODIFIED:20181105T192106Z
UID:4808-1579132800-1579132800@www.kharel.org.il
SUMMARY:19th of Tevet 5780
DESCRIPTION:
URL:https://www.kharel.org.il/en-us/event/19th-of-tevet-5780/
END:VEVENT
BEGIN:VEVENT
DTSTART;TZID=Asia/Jerusalem:20200117T000000
DTEND;TZID=Asia/Jerusalem:20200117T000000
DTSTAMP:20260420T132229
CREATED:20181105T192105Z
LAST-MODIFIED:20181105T192106Z
UID:4809-1579219200-1579219200@www.kharel.org.il
SUMMARY:20th of Tevet 5780
DESCRIPTION:
URL:https://www.kharel.org.il/en-us/event/20th-of-tevet-5780/
END:VEVENT
BEGIN:VEVENT
DTSTART;TZID=Asia/Jerusalem:20200118T000000
DTEND;TZID=Asia/Jerusalem:20200118T000000
DTSTAMP:20260420T132229
CREATED:20181105T192106Z
LAST-MODIFIED:20181105T192107Z
UID:4810-1579305600-1579305600@www.kharel.org.il
SUMMARY:21st of Tevet 5780
DESCRIPTION:
URL:https://www.kharel.org.il/en-us/event/21st-of-tevet-5780/
END:VEVENT
BEGIN:VEVENT
DTSTART;TZID=Asia/Jerusalem:20200118T113000
DTEND;TZID=Asia/Jerusalem:20200118T123000
DTSTAMP:20260420T132229
CREATED:20200103T084023Z
LAST-MODIFIED:20200103T084023Z
UID:6475-1579347000-1579350600@www.kharel.org.il
SUMMARY:Lecture Following Services
DESCRIPTION:January 18\, 2020 –  Lecturer: Rabbi Hillel Millgram (lecture in English)\n“Good Intentions and the Road to Hell: פילגש בגבעה (the Concubine at Gibeah)”
URL:https://www.kharel.org.il/en-us/event/lecture-following-services/
LOCATION:Kehilat Har-El\, 16 Shmuel Hanagid Street\, Jerusalem\, Israel
END:VEVENT
BEGIN:VEVENT
DTSTART;TZID=Asia/Jerusalem:20200119T000000
DTEND;TZID=Asia/Jerusalem:20200119T000000
DTSTAMP:20260420T132229
CREATED:20181105T192106Z
LAST-MODIFIED:20181105T192107Z
UID:4811-1579392000-1579392000@www.kharel.org.il
SUMMARY:22nd of Tevet 5780
DESCRIPTION:
URL:https://www.kharel.org.il/en-us/event/22nd-of-tevet-5780/
END:VEVENT
BEGIN:VEVENT
DTSTART;TZID=Asia/Jerusalem:20200120T000000
DTEND;TZID=Asia/Jerusalem:20200120T000000
DTSTAMP:20260420T132229
CREATED:20181105T192108Z
LAST-MODIFIED:20181105T192110Z
UID:4817-1579478400-1579478400@www.kharel.org.il
SUMMARY:23rd of Tevet 5780
DESCRIPTION:
URL:https://www.kharel.org.il/en-us/event/23rd-of-tevet-5780/
END:VEVENT
BEGIN:VEVENT
DTSTART;TZID=Asia/Jerusalem:20200121T000000
DTEND;TZID=Asia/Jerusalem:20200121T000000
DTSTAMP:20260420T132229
CREATED:20181105T192109Z
LAST-MODIFIED:20181105T192110Z
UID:4818-1579564800-1579564800@www.kharel.org.il
SUMMARY:24th of Tevet 5780
DESCRIPTION:
URL:https://www.kharel.org.il/en-us/event/24th-of-tevet-5780/
END:VEVENT
BEGIN:VEVENT
DTSTART;TZID=Asia/Jerusalem:20200122T000000
DTEND;TZID=Asia/Jerusalem:20200122T000000
DTSTAMP:20260420T132229
CREATED:20181105T192109Z
LAST-MODIFIED:20181105T192110Z
UID:4819-1579651200-1579651200@www.kharel.org.il
SUMMARY:25th of Tevet 5780
DESCRIPTION:
URL:https://www.kharel.org.il/en-us/event/25th-of-tevet-5780/
END:VEVENT
BEGIN:VEVENT
DTSTART;TZID=Asia/Jerusalem:20200123T000000
DTEND;TZID=Asia/Jerusalem:20200123T000000
DTSTAMP:20260420T132229
CREATED:20181105T192109Z
LAST-MODIFIED:20181105T192110Z
UID:4820-1579737600-1579737600@www.kharel.org.il
SUMMARY:26th of Tevet 5780
DESCRIPTION:
URL:https://www.kharel.org.il/en-us/event/26th-of-tevet-5780/
END:VEVENT
BEGIN:VEVENT
DTSTART;TZID=Asia/Jerusalem:20200124T000000
DTEND;TZID=Asia/Jerusalem:20200124T000000
DTSTAMP:20260420T132229
CREATED:20181105T192110Z
LAST-MODIFIED:20181105T192111Z
UID:4821-1579824000-1579824000@www.kharel.org.il
SUMMARY:27th of Tevet 5780
DESCRIPTION:
URL:https://www.kharel.org.il/en-us/event/27th-of-tevet-5780/
END:VEVENT
BEGIN:VEVENT
DTSTART;TZID=Asia/Jerusalem:20200125T000000
DTEND;TZID=Asia/Jerusalem:20200125T000000
DTSTAMP:20260420T132229
CREATED:20181105T192112Z
LAST-MODIFIED:20181105T192115Z
UID:4827-1579910400-1579910400@www.kharel.org.il
SUMMARY:28th of Tevet 5780
DESCRIPTION:
URL:https://www.kharel.org.il/en-us/event/28th-of-tevet-5780/
END:VEVENT
BEGIN:VEVENT
DTSTART;TZID=Asia/Jerusalem:20200125T093000
DTEND;TZID=Asia/Jerusalem:20200125T113000
DTSTAMP:20260420T132229
CREATED:20190811T123129Z
LAST-MODIFIED:20190811T123129Z
UID:5299-1579944600-1579951800@www.kharel.org.il
SUMMARY:Bar Mitzvah Yuval Yogev
DESCRIPTION:Bar mitzvah of Yuval Yogev from Ramat Hasharon here at Kehilat Har-El.
URL:https://www.kharel.org.il/en-us/event/bar-mitzvah-yuval-yogev/
LOCATION:Kehilat Har-El\, 16 Shmuel Hanagid Street\, Jerusalem\, Israel
END:VEVENT
BEGIN:VEVENT
DTSTART;TZID=Asia/Jerusalem:20200126T000000
DTEND;TZID=Asia/Jerusalem:20200126T000000
DTSTAMP:20260420T132229
CREATED:20181105T192113Z
LAST-MODIFIED:20181105T192115Z
UID:4828-1579996800-1579996800@www.kharel.org.il
SUMMARY:29th of Tevet 5780
DESCRIPTION:
URL:https://www.kharel.org.il/en-us/event/29th-of-tevet-5780/
END:VEVENT
BEGIN:VEVENT
DTSTART;TZID=Asia/Jerusalem:20200127T000000
DTEND;TZID=Asia/Jerusalem:20200127T000000
DTSTAMP:20260420T132229
CREATED:20181105T192113Z
LAST-MODIFIED:20181105T192116Z
UID:4829-1580083200-1580083200@www.kharel.org.il
SUMMARY:1st of Sh'vat 5780
DESCRIPTION:
URL:https://www.kharel.org.il/en-us/event/1st-of-shvat-5780/
END:VEVENT
END:VCALENDAR