BEGIN:VCALENDAR
VERSION:2.0
PRODID:-//Kehilat Har-El - ECPv6.15.17//NONSGML v1.0//EN
CALSCALE:GREGORIAN
METHOD:PUBLISH
X-ORIGINAL-URL:https://www.kharel.org.il/en-us
X-WR-CALDESC:Events for Kehilat Har-El
REFRESH-INTERVAL;VALUE=DURATION:PT1H
X-Robots-Tag:noindex
X-PUBLISHED-TTL:PT1H
BEGIN:VTIMEZONE
TZID:Asia/Jerusalem
BEGIN:DAYLIGHT
TZOFFSETFROM:+0200
TZOFFSETTO:+0300
TZNAME:IDT
DTSTART:20180323T000000
END:DAYLIGHT
BEGIN:STANDARD
TZOFFSETFROM:+0300
TZOFFSETTO:+0200
TZNAME:IST
DTSTART:20181027T230000
END:STANDARD
BEGIN:DAYLIGHT
TZOFFSETFROM:+0200
TZOFFSETTO:+0300
TZNAME:IDT
DTSTART:20190329T000000
END:DAYLIGHT
BEGIN:STANDARD
TZOFFSETFROM:+0300
TZOFFSETTO:+0200
TZNAME:IST
DTSTART:20191026T230000
END:STANDARD
BEGIN:DAYLIGHT
TZOFFSETFROM:+0200
TZOFFSETTO:+0300
TZNAME:IDT
DTSTART:20200327T000000
END:DAYLIGHT
BEGIN:STANDARD
TZOFFSETFROM:+0300
TZOFFSETTO:+0200
TZNAME:IST
DTSTART:20201024T230000
END:STANDARD
END:VTIMEZONE
BEGIN:VEVENT
DTSTART;TZID=Asia/Jerusalem:20191202T000000
DTEND;TZID=Asia/Jerusalem:20191202T000000
DTSTAMP:20260420T144854
CREATED:20181105T192014Z
LAST-MODIFIED:20181105T192015Z
UID:4729-1575244800-1575244800@www.kharel.org.il
SUMMARY:4th of Kislev 5780
DESCRIPTION:
URL:https://www.kharel.org.il/en-us/event/4th-of-kislev-5780/
END:VEVENT
BEGIN:VEVENT
DTSTART;TZID=Asia/Jerusalem:20191203T000000
DTEND;TZID=Asia/Jerusalem:20191203T000000
DTSTAMP:20260420T144854
CREATED:20181105T192014Z
LAST-MODIFIED:20181105T192015Z
UID:4730-1575331200-1575331200@www.kharel.org.il
SUMMARY:5th of Kislev 5780
DESCRIPTION:
URL:https://www.kharel.org.il/en-us/event/5th-of-kislev-5780/
END:VEVENT
BEGIN:VEVENT
DTSTART;TZID=Asia/Jerusalem:20191204T000000
DTEND;TZID=Asia/Jerusalem:20191204T000000
DTSTAMP:20260420T144854
CREATED:20181105T192014Z
LAST-MODIFIED:20181105T192015Z
UID:4731-1575417600-1575417600@www.kharel.org.il
SUMMARY:6th of Kislev 5780
DESCRIPTION:
URL:https://www.kharel.org.il/en-us/event/6th-of-kislev-5780/
END:VEVENT
BEGIN:VEVENT
DTSTART;TZID=Asia/Jerusalem:20191205T000000
DTEND;TZID=Asia/Jerusalem:20191205T000000
DTSTAMP:20260420T144854
CREATED:20181105T192017Z
LAST-MODIFIED:20181105T192021Z
UID:4737-1575504000-1575504000@www.kharel.org.il
SUMMARY:7th of Kislev 5780
DESCRIPTION:
URL:https://www.kharel.org.il/en-us/event/7th-of-kislev-5780/
END:VEVENT
BEGIN:VEVENT
DTSTART;TZID=Asia/Jerusalem:20191206T000000
DTEND;TZID=Asia/Jerusalem:20191206T000000
DTSTAMP:20260420T144854
CREATED:20181105T192018Z
LAST-MODIFIED:20181105T192021Z
UID:4738-1575590400-1575590400@www.kharel.org.il
SUMMARY:8th of Kislev 5780
DESCRIPTION:
URL:https://www.kharel.org.il/en-us/event/8th-of-kislev-5780/
END:VEVENT
BEGIN:VEVENT
DTSTART;TZID=Asia/Jerusalem:20191207T000000
DTEND;TZID=Asia/Jerusalem:20191207T000000
DTSTAMP:20260420T144854
CREATED:20181105T192019Z
LAST-MODIFIED:20181105T192021Z
UID:4739-1575676800-1575676800@www.kharel.org.il
SUMMARY:9th of Kislev 5780
DESCRIPTION:
URL:https://www.kharel.org.il/en-us/event/9th-of-kislev-5780/
END:VEVENT
BEGIN:VEVENT
DTSTART;TZID=Asia/Jerusalem:20191208T000000
DTEND;TZID=Asia/Jerusalem:20191208T000000
DTSTAMP:20260420T144854
CREATED:20181105T192019Z
LAST-MODIFIED:20181105T192022Z
UID:4740-1575763200-1575763200@www.kharel.org.il
SUMMARY:10th of Kislev 5780
DESCRIPTION:
URL:https://www.kharel.org.il/en-us/event/10th-of-kislev-5780/
END:VEVENT
BEGIN:VEVENT
DTSTART;TZID=Asia/Jerusalem:20191209T000000
DTEND;TZID=Asia/Jerusalem:20191209T000000
DTSTAMP:20260420T144854
CREATED:20181105T192019Z
LAST-MODIFIED:20181105T192022Z
UID:4741-1575849600-1575849600@www.kharel.org.il
SUMMARY:11th of Kislev 5780
DESCRIPTION:
URL:https://www.kharel.org.il/en-us/event/11th-of-kislev-5780/
END:VEVENT
BEGIN:VEVENT
DTSTART;TZID=Asia/Jerusalem:20191210T000000
DTEND;TZID=Asia/Jerusalem:20191210T000000
DTSTAMP:20260420T144854
CREATED:20181105T192025Z
LAST-MODIFIED:20181105T192025Z
UID:4747-1575936000-1575936000@www.kharel.org.il
SUMMARY:12th of Kislev 5780
DESCRIPTION:
URL:https://www.kharel.org.il/en-us/event/12th-of-kislev-5780/
END:VEVENT
BEGIN:VEVENT
DTSTART;TZID=Asia/Jerusalem:20191211T000000
DTEND;TZID=Asia/Jerusalem:20191211T000000
DTSTAMP:20260420T144854
CREATED:20181105T192026Z
LAST-MODIFIED:20181105T192026Z
UID:4748-1576022400-1576022400@www.kharel.org.il
SUMMARY:13th of Kislev 5780
DESCRIPTION:
URL:https://www.kharel.org.il/en-us/event/13th-of-kislev-5780/
END:VEVENT
BEGIN:VEVENT
DTSTART;TZID=Asia/Jerusalem:20191212T000000
DTEND;TZID=Asia/Jerusalem:20191212T000000
DTSTAMP:20260420T144854
CREATED:20181105T192026Z
LAST-MODIFIED:20181105T192026Z
UID:4749-1576108800-1576108800@www.kharel.org.il
SUMMARY:14th of Kislev 5780
DESCRIPTION:
URL:https://www.kharel.org.il/en-us/event/14th-of-kislev-5780/
END:VEVENT
BEGIN:VEVENT
DTSTART;TZID=Asia/Jerusalem:20191213T000000
DTEND;TZID=Asia/Jerusalem:20191213T000000
DTSTAMP:20260420T144854
CREATED:20181105T192027Z
LAST-MODIFIED:20181105T192027Z
UID:4750-1576195200-1576195200@www.kharel.org.il
SUMMARY:15th of Kislev 5780
DESCRIPTION:
URL:https://www.kharel.org.il/en-us/event/15th-of-kislev-5780/
END:VEVENT
BEGIN:VEVENT
DTSTART;TZID=Asia/Jerusalem:20191214T000000
DTEND;TZID=Asia/Jerusalem:20191214T000000
DTSTAMP:20260420T144854
CREATED:20181105T192027Z
LAST-MODIFIED:20181105T192027Z
UID:4751-1576281600-1576281600@www.kharel.org.il
SUMMARY:16th of Kislev 5780
DESCRIPTION:
URL:https://www.kharel.org.il/en-us/event/16th-of-kislev-5780/
END:VEVENT
BEGIN:VEVENT
DTSTART;TZID=Asia/Jerusalem:20191215T000000
DTEND;TZID=Asia/Jerusalem:20191215T000000
DTSTAMP:20260420T144854
CREATED:20181105T192029Z
LAST-MODIFIED:20181105T192031Z
UID:4752-1576368000-1576368000@www.kharel.org.il
SUMMARY:17th of Kislev 5780
DESCRIPTION:
URL:https://www.kharel.org.il/en-us/event/17th-of-kislev-5780/
END:VEVENT
BEGIN:VEVENT
DTSTART;TZID=Asia/Jerusalem:20191216T000000
DTEND;TZID=Asia/Jerusalem:20191216T000000
DTSTAMP:20260420T144854
CREATED:20181105T192029Z
LAST-MODIFIED:20181105T192031Z
UID:4753-1576454400-1576454400@www.kharel.org.il
SUMMARY:18th of Kislev 5780
DESCRIPTION:
URL:https://www.kharel.org.il/en-us/event/18th-of-kislev-5780/
END:VEVENT
BEGIN:VEVENT
DTSTART;TZID=Asia/Jerusalem:20191217T000000
DTEND;TZID=Asia/Jerusalem:20191217T000000
DTSTAMP:20260420T144854
CREATED:20181105T192029Z
LAST-MODIFIED:20181105T192032Z
UID:4754-1576540800-1576540800@www.kharel.org.il
SUMMARY:19th of Kislev 5780
DESCRIPTION:
URL:https://www.kharel.org.il/en-us/event/19th-of-kislev-5780/
END:VEVENT
BEGIN:VEVENT
DTSTART;TZID=Asia/Jerusalem:20191218T000000
DTEND;TZID=Asia/Jerusalem:20191218T000000
DTSTAMP:20260420T144854
CREATED:20181105T192030Z
LAST-MODIFIED:20181105T192032Z
UID:4755-1576627200-1576627200@www.kharel.org.il
SUMMARY:20th of Kislev 5780
DESCRIPTION:
URL:https://www.kharel.org.il/en-us/event/20th-of-kislev-5780/
END:VEVENT
BEGIN:VEVENT
DTSTART;TZID=Asia/Jerusalem:20191218T110000
DTEND;TZID=Asia/Jerusalem:20191218T120000
DTSTAMP:20260420T144854
CREATED:20191128T204115Z
LAST-MODIFIED:20200205T094642Z
UID:6381-1576666800-1576670400@www.kharel.org.il
SUMMARY:The Prophets of Israel – Their Teachings and Personalities
DESCRIPTION:“The Prophets of Israel – Their Teachings and Personalities.” led by Rabbi Ada\, in Hebrew.  The class will be held Wednesdays from 11 AM – 12 noon in the rabbi’s study \nRabbi Ada would like to know who will be participating\, so please contact her directly at 052-4522387 or by email at ravadaz@gmail.com. \nParticipation is free of charge and all are invited!
URL:https://www.kharel.org.il/en-us/event/the-prophets-of-israel-their-teachings-and-personalities/
LOCATION:Kehilat Har-El\, 16 Shmuel Hanagid Street\, Jerusalem\, Israel
END:VEVENT
BEGIN:VEVENT
DTSTART;TZID=Asia/Jerusalem:20191219T000000
DTEND;TZID=Asia/Jerusalem:20191219T000000
DTSTAMP:20260420T144854
CREATED:20181105T192030Z
LAST-MODIFIED:20181105T192032Z
UID:4756-1576713600-1576713600@www.kharel.org.il
SUMMARY:21st of Kislev 5780
DESCRIPTION:
URL:https://www.kharel.org.il/en-us/event/21st-of-kislev-5780/
END:VEVENT
BEGIN:VEVENT
DTSTART;TZID=Asia/Jerusalem:20191220T000000
DTEND;TZID=Asia/Jerusalem:20191220T000000
DTSTAMP:20260420T144854
CREATED:20181105T192034Z
LAST-MODIFIED:20181105T192036Z
UID:4762-1576800000-1576800000@www.kharel.org.il
SUMMARY:22nd of Kislev 5780
DESCRIPTION:
URL:https://www.kharel.org.il/en-us/event/22nd-of-kislev-5780/
END:VEVENT
BEGIN:VEVENT
DTSTART;TZID=Asia/Jerusalem:20191221T000000
DTEND;TZID=Asia/Jerusalem:20191221T000000
DTSTAMP:20260420T144854
CREATED:20181105T192034Z
LAST-MODIFIED:20181105T192036Z
UID:4763-1576886400-1576886400@www.kharel.org.il
SUMMARY:23rd of Kislev 5780
DESCRIPTION:
URL:https://www.kharel.org.il/en-us/event/23rd-of-kislev-5780/
END:VEVENT
BEGIN:VEVENT
DTSTART;TZID=Asia/Jerusalem:20191222T000000
DTEND;TZID=Asia/Jerusalem:20191222T000000
DTSTAMP:20260420T144854
CREATED:20181105T192034Z
LAST-MODIFIED:20181105T192036Z
UID:4764-1576972800-1576972800@www.kharel.org.il
SUMMARY:24th of Kislev 5780
DESCRIPTION:
URL:https://www.kharel.org.il/en-us/event/24th-of-kislev-5780/
END:VEVENT
BEGIN:VEVENT
DTSTART;TZID=Asia/Jerusalem:20191222T000000
DTEND;TZID=Asia/Jerusalem:20191222T000000
DTSTAMP:20260420T144854
CREATED:20181105T192035Z
LAST-MODIFIED:20181105T192036Z
UID:4765-1576972800-1576972800@www.kharel.org.il
SUMMARY:Chanukah: 1 Candle
DESCRIPTION:
URL:https://www.kharel.org.il/en-us/event/chanukah-1-candle-2/
END:VEVENT
BEGIN:VEVENT
DTSTART;TZID=Asia/Jerusalem:20191223T000000
DTEND;TZID=Asia/Jerusalem:20191223T000000
DTSTAMP:20260420T144854
CREATED:20181105T192035Z
LAST-MODIFIED:20181105T192036Z
UID:4766-1577059200-1577059200@www.kharel.org.il
SUMMARY:25th of Kislev 5780
DESCRIPTION:
URL:https://www.kharel.org.il/en-us/event/25th-of-kislev-5780/
END:VEVENT
BEGIN:VEVENT
DTSTART;TZID=Asia/Jerusalem:20191223T000000
DTEND;TZID=Asia/Jerusalem:20191223T000000
DTSTAMP:20260420T144854
CREATED:20181105T192040Z
LAST-MODIFIED:20181105T192040Z
UID:4772-1577059200-1577059200@www.kharel.org.il
SUMMARY:Chanukah: 2 Candles
DESCRIPTION:
URL:https://www.kharel.org.il/en-us/event/chanukah-2-candles-2/
END:VEVENT
BEGIN:VEVENT
DTSTART;TZID=Asia/Jerusalem:20191223T103000
DTEND;TZID=Asia/Jerusalem:20191223T120000
DTSTAMP:20260420T144854
CREATED:20190114T213249Z
LAST-MODIFIED:20190114T213249Z
UID:5102-1577097000-1577102400@www.kharel.org.il
SUMMARY:Bar/Bat Mitzvah David & Ariana Lehrer
DESCRIPTION:Bar & Bat Mitzvah of David & Ariana Lehrer from the Philippines at the egalitarian Kotel
URL:https://www.kharel.org.il/en-us/event/bar-bat-mitzvah-david-ariana-lehrer/
LOCATION:Egalitarian Kotel
END:VEVENT
BEGIN:VEVENT
DTSTART;TZID=Asia/Jerusalem:20191223T120000
DTEND;TZID=Asia/Jerusalem:20191223T133000
DTSTAMP:20260420T144854
CREATED:20190814T100532Z
LAST-MODIFIED:20190814T100532Z
UID:5305-1577102400-1577107800@www.kharel.org.il
SUMMARY:Triple Bar Mitzvah - Maxwell\, Samuel\, & Benjamin Coblenz
DESCRIPTION:Triple bar mitzvah of brothers Maxwell\, Samuel\, and Benjamin Coblenz at the Egalitarian Kotel
URL:https://www.kharel.org.il/en-us/event/triple-bar-mitzvah-maxwell-samuel-benjamin-coblenz/
LOCATION:Egalitarian Kotel
END:VEVENT
BEGIN:VEVENT
DTSTART;TZID=Asia/Jerusalem:20191224T000000
DTEND;TZID=Asia/Jerusalem:20191224T000000
DTSTAMP:20260420T144854
CREATED:20181105T192041Z
LAST-MODIFIED:20181105T192041Z
UID:4774-1577145600-1577145600@www.kharel.org.il
SUMMARY:Chanukah: 3 Candles
DESCRIPTION:
URL:https://www.kharel.org.il/en-us/event/chanukah-3-candles-2/
END:VEVENT
BEGIN:VEVENT
DTSTART;TZID=Asia/Jerusalem:20191224T000000
DTEND;TZID=Asia/Jerusalem:20191224T000000
DTSTAMP:20260420T144854
CREATED:20181105T192041Z
LAST-MODIFIED:20181105T192041Z
UID:4773-1577145600-1577145600@www.kharel.org.il
SUMMARY:26th of Kislev 5780
DESCRIPTION:
URL:https://www.kharel.org.il/en-us/event/26th-of-kislev-5780/
END:VEVENT
BEGIN:VEVENT
DTSTART;TZID=Asia/Jerusalem:20191225T000000
DTEND;TZID=Asia/Jerusalem:20191225T000000
DTSTAMP:20260420T144854
CREATED:20181105T192042Z
LAST-MODIFIED:20181105T192042Z
UID:4775-1577232000-1577232000@www.kharel.org.il
SUMMARY:27th of Kislev 5780
DESCRIPTION:
URL:https://www.kharel.org.il/en-us/event/27th-of-kislev-5780/
END:VEVENT
END:VCALENDAR