BEGIN:VCALENDAR
VERSION:2.0
PRODID:-//Kehilat Har-El - ECPv6.15.17//NONSGML v1.0//EN
CALSCALE:GREGORIAN
METHOD:PUBLISH
X-ORIGINAL-URL:https://www.kharel.org.il/en-us
X-WR-CALDESC:Events for Kehilat Har-El
REFRESH-INTERVAL;VALUE=DURATION:PT1H
X-Robots-Tag:noindex
X-PUBLISHED-TTL:PT1H
BEGIN:VTIMEZONE
TZID:Asia/Jerusalem
BEGIN:DAYLIGHT
TZOFFSETFROM:+0200
TZOFFSETTO:+0300
TZNAME:IDT
DTSTART:20180323T000000
END:DAYLIGHT
BEGIN:STANDARD
TZOFFSETFROM:+0300
TZOFFSETTO:+0200
TZNAME:IST
DTSTART:20181027T230000
END:STANDARD
BEGIN:DAYLIGHT
TZOFFSETFROM:+0200
TZOFFSETTO:+0300
TZNAME:IDT
DTSTART:20190329T000000
END:DAYLIGHT
BEGIN:STANDARD
TZOFFSETFROM:+0300
TZOFFSETTO:+0200
TZNAME:IST
DTSTART:20191026T230000
END:STANDARD
BEGIN:DAYLIGHT
TZOFFSETFROM:+0200
TZOFFSETTO:+0300
TZNAME:IDT
DTSTART:20200327T000000
END:DAYLIGHT
BEGIN:STANDARD
TZOFFSETFROM:+0300
TZOFFSETTO:+0200
TZNAME:IST
DTSTART:20201024T230000
END:STANDARD
END:VTIMEZONE
BEGIN:VEVENT
DTSTART;TZID=Asia/Jerusalem:20190701T090000
DTEND;TZID=Asia/Jerusalem:20190701T103000
DTSTAMP:20260420T224746
CREATED:20190114T071358Z
LAST-MODIFIED:20190114T071358Z
UID:5100-1561971600-1561977000@www.kharel.org.il
SUMMARY:Bat Mitzvah - Sophia Mevorakh
DESCRIPTION:Bat mitzvah of Sophia Mevorakh from Los Angeles\, CA at the Egalitarian Kotel
URL:https://www.kharel.org.il/en-us/event/bat-mitzvah-sophia-mevorakh/
LOCATION:Egalitarian Kotel
END:VEVENT
BEGIN:VEVENT
DTSTART;TZID=Asia/Jerusalem:20190702T000000
DTEND;TZID=Asia/Jerusalem:20190702T000000
DTSTAMP:20260420T224746
CREATED:20181105T191748Z
LAST-MODIFIED:20181105T191748Z
UID:4448-1562025600-1562025600@www.kharel.org.il
SUMMARY:29th of Sivan 5779
DESCRIPTION:
URL:https://www.kharel.org.il/en-us/event/29th-of-sivan-5779/
END:VEVENT
BEGIN:VEVENT
DTSTART;TZID=Asia/Jerusalem:20190703T000000
DTEND;TZID=Asia/Jerusalem:20190703T000000
DTSTAMP:20260420T224746
CREATED:20181105T191749Z
LAST-MODIFIED:20181105T191749Z
UID:4449-1562112000-1562112000@www.kharel.org.il
SUMMARY:30th of Sivan 5779
DESCRIPTION:
URL:https://www.kharel.org.il/en-us/event/30th-of-sivan-5779/
END:VEVENT
BEGIN:VEVENT
DTSTART;TZID=Asia/Jerusalem:20190703T103000
DTEND;TZID=Asia/Jerusalem:20190703T120000
DTSTAMP:20260420T224746
CREATED:20190126T203215Z
LAST-MODIFIED:20190126T203215Z
UID:5143-1562149800-1562155200@www.kharel.org.il
SUMMARY:Bat Mitzvah - Lauren Ahdoot
DESCRIPTION:Bat mitzvah of Lauren Ahdoot from Los Angeles\, California at the Egalitarian Kotel
URL:https://www.kharel.org.il/en-us/event/bat-mitzvah-lauren-ahdoot/
LOCATION:Egalitarian Kotel
END:VEVENT
BEGIN:VEVENT
DTSTART;TZID=Asia/Jerusalem:20190703T170000
DTEND;TZID=Asia/Jerusalem:20190703T181500
DTSTAMP:20260420T224746
CREATED:20180715T123606Z
LAST-MODIFIED:20180715T123606Z
UID:3652-1562173200-1562177700@www.kharel.org.il
SUMMARY:Bar Mitzvah - Yonatan Perpinal
DESCRIPTION:Bar mitzvah of Yonatan Perpinal at the Egalitarian Kotel.
URL:https://www.kharel.org.il/en-us/event/bar-mitzvah-yonatan-perpinal/
LOCATION:Egalitarian Kotel
END:VEVENT
BEGIN:VEVENT
DTSTART;TZID=Asia/Jerusalem:20190704T000000
DTEND;TZID=Asia/Jerusalem:20190704T000000
DTSTAMP:20260420T224746
CREATED:20181105T191749Z
LAST-MODIFIED:20181105T191749Z
UID:4450-1562198400-1562198400@www.kharel.org.il
SUMMARY:1st of Tamuz 5779
DESCRIPTION:
URL:https://www.kharel.org.il/en-us/event/1st-of-tamuz-5779/
END:VEVENT
BEGIN:VEVENT
DTSTART;TZID=Asia/Jerusalem:20190704T090000
DTEND;TZID=Asia/Jerusalem:20190704T103000
DTSTAMP:20260420T224746
CREATED:20181028T154056Z
LAST-MODIFIED:20181028T154148Z
UID:3999-1562230800-1562236200@www.kharel.org.il
SUMMARY:Bat Mitzvah - Naomi Seligson
DESCRIPTION:Bat mitzvah of Naomi Seligson from New York at the Egalitarian Kotel
URL:https://www.kharel.org.il/en-us/event/bat-mitzvah-naomi-seligson/
LOCATION:Egalitarian Kotel
END:VEVENT
BEGIN:VEVENT
DTSTART;TZID=Asia/Jerusalem:20190705T000000
DTEND;TZID=Asia/Jerusalem:20190705T000000
DTSTAMP:20260420T224746
CREATED:20181105T191751Z
LAST-MODIFIED:20181105T191752Z
UID:4451-1562284800-1562284800@www.kharel.org.il
SUMMARY:2nd of Tamuz 5779
DESCRIPTION:
URL:https://www.kharel.org.il/en-us/event/2nd-of-tamuz-5779/
END:VEVENT
BEGIN:VEVENT
DTSTART;TZID=Asia/Jerusalem:20190705T100000
DTEND;TZID=Asia/Jerusalem:20190705T113000
DTSTAMP:20260420T224746
CREATED:20181028T154354Z
LAST-MODIFIED:20181028T154419Z
UID:4001-1562320800-1562326200@www.kharel.org.il
SUMMARY:Bar Mitzvah - Tamir Halevi
DESCRIPTION:Bar mitzvah of Tamir Halevi from Indiana
URL:https://www.kharel.org.il/en-us/event/bar-mitzvah-tamir-halevi/
END:VEVENT
BEGIN:VEVENT
DTSTART;TZID=Asia/Jerusalem:20190706T000000
DTEND;TZID=Asia/Jerusalem:20190706T000000
DTSTAMP:20260420T224746
CREATED:20181105T191751Z
LAST-MODIFIED:20181105T191753Z
UID:4452-1562371200-1562371200@www.kharel.org.il
SUMMARY:3rd of Tamuz 5779
DESCRIPTION:
URL:https://www.kharel.org.il/en-us/event/3rd-of-tamuz-5779/
END:VEVENT
BEGIN:VEVENT
DTSTART;TZID=Asia/Jerusalem:20190706T093000
DTEND;TZID=Asia/Jerusalem:20190706T093000
DTSTAMP:20260420T224746
CREATED:20181028T153815Z
LAST-MODIFIED:20181028T153815Z
UID:3997-1562405400-1562405400@www.kharel.org.il
SUMMARY:Bar Mitzvah Ido & Amit Regev
DESCRIPTION:Bar Mitzvah of Ido & Amit Regev from Modi’in here in the synagogue
URL:https://www.kharel.org.il/en-us/event/bar-mitzvah-ido-amit-regev/
LOCATION:Kehilat Har-El\, 16 Shmuel Hanagid Street\, Jerusalem\, Israel
END:VEVENT
BEGIN:VEVENT
DTSTART;TZID=Asia/Jerusalem:20190707T000000
DTEND;TZID=Asia/Jerusalem:20190707T000000
DTSTAMP:20260420T224746
CREATED:20181105T191751Z
LAST-MODIFIED:20181105T191753Z
UID:4453-1562457600-1562457600@www.kharel.org.il
SUMMARY:4th of Tamuz 5779
DESCRIPTION:
URL:https://www.kharel.org.il/en-us/event/4th-of-tamuz-5779/
END:VEVENT
BEGIN:VEVENT
DTSTART;TZID=Asia/Jerusalem:20190708T000000
DTEND;TZID=Asia/Jerusalem:20190708T000000
DTSTAMP:20260420T224746
CREATED:20181105T191751Z
LAST-MODIFIED:20181105T191753Z
UID:4454-1562544000-1562544000@www.kharel.org.il
SUMMARY:5th of Tamuz 5779
DESCRIPTION:
URL:https://www.kharel.org.il/en-us/event/5th-of-tamuz-5779/
END:VEVENT
BEGIN:VEVENT
DTSTART;TZID=Asia/Jerusalem:20190708T170000
DTEND;TZID=Asia/Jerusalem:20190708T183000
DTSTAMP:20260420T224746
CREATED:20181104T113816Z
LAST-MODIFIED:20181104T113816Z
UID:4101-1562605200-1562610600@www.kharel.org.il
SUMMARY:Bat Mitzvah - Lauren Messian
DESCRIPTION:Bat Mitzvah of Lauren Messian from California at the Egalitarian Kotel
URL:https://www.kharel.org.il/en-us/event/bat-mitzvah-lauren-messian/
LOCATION:Egalitarian Kotel
END:VEVENT
BEGIN:VEVENT
DTSTART;TZID=Asia/Jerusalem:20190709T000000
DTEND;TZID=Asia/Jerusalem:20190709T000000
DTSTAMP:20260420T224746
CREATED:20181105T191752Z
LAST-MODIFIED:20181105T191753Z
UID:4455-1562630400-1562630400@www.kharel.org.il
SUMMARY:6th of Tamuz 5779
DESCRIPTION:
URL:https://www.kharel.org.il/en-us/event/6th-of-tamuz-5779/
END:VEVENT
BEGIN:VEVENT
DTSTART;TZID=Asia/Jerusalem:20190710T000000
DTEND;TZID=Asia/Jerusalem:20190710T000000
DTSTAMP:20260420T224746
CREATED:20181105T191756Z
LAST-MODIFIED:20181105T191758Z
UID:4461-1562716800-1562716800@www.kharel.org.il
SUMMARY:7th of Tamuz 5779
DESCRIPTION:
URL:https://www.kharel.org.il/en-us/event/7th-of-tamuz-5779/
END:VEVENT
BEGIN:VEVENT
DTSTART;TZID=Asia/Jerusalem:20190711T000000
DTEND;TZID=Asia/Jerusalem:20190711T000000
DTSTAMP:20260420T224746
CREATED:20181105T191756Z
LAST-MODIFIED:20181105T191758Z
UID:4462-1562803200-1562803200@www.kharel.org.il
SUMMARY:8th of Tamuz 5779
DESCRIPTION:
URL:https://www.kharel.org.il/en-us/event/8th-of-tamuz-5779/
END:VEVENT
BEGIN:VEVENT
DTSTART;TZID=Asia/Jerusalem:20190712T000000
DTEND;TZID=Asia/Jerusalem:20190712T000000
DTSTAMP:20260420T224746
CREATED:20181105T191756Z
LAST-MODIFIED:20181105T191758Z
UID:4463-1562889600-1562889600@www.kharel.org.il
SUMMARY:9th of Tamuz 5779
DESCRIPTION:
URL:https://www.kharel.org.il/en-us/event/9th-of-tamuz-5779/
END:VEVENT
BEGIN:VEVENT
DTSTART;TZID=Asia/Jerusalem:20190713T000000
DTEND;TZID=Asia/Jerusalem:20190713T000000
DTSTAMP:20260420T224746
CREATED:20181105T191757Z
LAST-MODIFIED:20181105T191758Z
UID:4464-1562976000-1562976000@www.kharel.org.il
SUMMARY:10th of Tamuz 5779
DESCRIPTION:
URL:https://www.kharel.org.il/en-us/event/10th-of-tamuz-5779/
END:VEVENT
BEGIN:VEVENT
DTSTART;TZID=Asia/Jerusalem:20190713T093000
DTEND;TZID=Asia/Jerusalem:20190713T113000
DTSTAMP:20260420T224746
CREATED:20180620T095959Z
LAST-MODIFIED:20180620T095959Z
UID:3547-1563010200-1563017400@www.kharel.org.il
SUMMARY:Shabbat morning service and Bat Mitzvah of Rina Barre-Cohen
DESCRIPTION:During Shabbat morning services\, Rina Barre-Cohen from Jerusalem will be called to the Torah as a bat mitzvah.
URL:https://www.kharel.org.il/en-us/event/shabbat-morning-service-and-bat-mitzvah-of-rina-barre-cohen/
LOCATION:Kehilat Har-El\, 16 Shmuel Hanagid Street\, Jerusalem\, Israel
END:VEVENT
BEGIN:VEVENT
DTSTART;TZID=Asia/Jerusalem:20190714T000000
DTEND;TZID=Asia/Jerusalem:20190714T000000
DTSTAMP:20260420T224746
CREATED:20181105T191757Z
LAST-MODIFIED:20181105T191758Z
UID:4465-1563062400-1563062400@www.kharel.org.il
SUMMARY:11th of Tamuz 5779
DESCRIPTION:
URL:https://www.kharel.org.il/en-us/event/11th-of-tamuz-5779/
END:VEVENT
BEGIN:VEVENT
DTSTART;TZID=Asia/Jerusalem:20190715T000000
DTEND;TZID=Asia/Jerusalem:20190715T000000
DTSTAMP:20260420T224746
CREATED:20181105T191801Z
LAST-MODIFIED:20181105T191801Z
UID:4471-1563148800-1563148800@www.kharel.org.il
SUMMARY:12th of Tamuz 5779
DESCRIPTION:
URL:https://www.kharel.org.il/en-us/event/12th-of-tamuz-5779/
END:VEVENT
BEGIN:VEVENT
DTSTART;TZID=Asia/Jerusalem:20190716T000000
DTEND;TZID=Asia/Jerusalem:20190716T000000
DTSTAMP:20260420T224746
CREATED:20181105T191801Z
LAST-MODIFIED:20181105T191801Z
UID:4472-1563235200-1563235200@www.kharel.org.il
SUMMARY:13th of Tamuz 5779
DESCRIPTION:
URL:https://www.kharel.org.il/en-us/event/13th-of-tamuz-5779/
END:VEVENT
BEGIN:VEVENT
DTSTART;TZID=Asia/Jerusalem:20190717T000000
DTEND;TZID=Asia/Jerusalem:20190717T000000
DTSTAMP:20260420T224746
CREATED:20181105T191802Z
LAST-MODIFIED:20181105T191802Z
UID:4473-1563321600-1563321600@www.kharel.org.il
SUMMARY:14th of Tamuz 5779
DESCRIPTION:
URL:https://www.kharel.org.il/en-us/event/14th-of-tamuz-5779/
END:VEVENT
BEGIN:VEVENT
DTSTART;TZID=Asia/Jerusalem:20190717T180000
DTEND;TZID=Asia/Jerusalem:20190717T193000
DTSTAMP:20260420T224746
CREATED:20181112T115813Z
LAST-MODIFIED:20190524T104402Z
UID:4990-1563386400-1563391800@www.kharel.org.il
SUMMARY:"Summer Party" in the Har-El Garden
DESCRIPTION:In conjunction with Keren B’chavod of the Reform Movement\, “Kehilah Tomechet” and the Lev-Ha’ir Community Center
URL:https://www.kharel.org.il/en-us/event/summer-party-in-the-har-el-garden/
LOCATION:Kehilat Har-El\, 16 Shmuel Hanagid Street\, Jerusalem\, Israel
END:VEVENT
BEGIN:VEVENT
DTSTART;TZID=Asia/Jerusalem:20190718T000000
DTEND;TZID=Asia/Jerusalem:20190718T000000
DTSTAMP:20260420T224746
CREATED:20181105T191802Z
LAST-MODIFIED:20181105T191802Z
UID:4474-1563408000-1563408000@www.kharel.org.il
SUMMARY:15th of Tamuz 5779
DESCRIPTION:
URL:https://www.kharel.org.il/en-us/event/15th-of-tamuz-5779/
END:VEVENT
BEGIN:VEVENT
DTSTART;TZID=Asia/Jerusalem:20190718T090000
DTEND;TZID=Asia/Jerusalem:20190718T103000
DTSTAMP:20260420T224746
CREATED:20181014T100722Z
LAST-MODIFIED:20181014T100722Z
UID:3973-1563440400-1563445800@www.kharel.org.il
SUMMARY:Bar Mitzvah - Jack Kelsen
DESCRIPTION:Bar mitzvah of Jack Kelsen from Pennsylvania at the Egalitarian Kotel
URL:https://www.kharel.org.il/en-us/event/bar-mitzvah-jack-kelsen/
LOCATION:Egalitarian Kotel
END:VEVENT
BEGIN:VEVENT
DTSTART;TZID=Asia/Jerusalem:20190718T103000
DTEND;TZID=Asia/Jerusalem:20190718T120000
DTSTAMP:20260420T224746
CREATED:20181022T070753Z
LAST-MODIFIED:20181022T070753Z
UID:3981-1563445800-1563451200@www.kharel.org.il
SUMMARY:Bar Mitzvah - Stephen Miller
DESCRIPTION:Bar mitzvah of Stephen Miller from California at the Egalitarian Kotel
URL:https://www.kharel.org.il/en-us/event/bar-mitzvah-stephen-miller/
LOCATION:Egalitarian Kotel
END:VEVENT
BEGIN:VEVENT
DTSTART;TZID=Asia/Jerusalem:20190719T000000
DTEND;TZID=Asia/Jerusalem:20190719T000000
DTSTAMP:20260420T224746
CREATED:20181105T191802Z
LAST-MODIFIED:20181105T191802Z
UID:4475-1563494400-1563494400@www.kharel.org.il
SUMMARY:16th of Tamuz 5779
DESCRIPTION:
URL:https://www.kharel.org.il/en-us/event/16th-of-tamuz-5779/
END:VEVENT
BEGIN:VEVENT
DTSTART;TZID=Asia/Jerusalem:20190720T000000
DTEND;TZID=Asia/Jerusalem:20190720T000000
DTSTAMP:20260420T224746
CREATED:20181105T191804Z
LAST-MODIFIED:20181105T191805Z
UID:4476-1563580800-1563580800@www.kharel.org.il
SUMMARY:17th of Tamuz 5779
DESCRIPTION:
URL:https://www.kharel.org.il/en-us/event/17th-of-tamuz-5779/
END:VEVENT
END:VCALENDAR