BEGIN:VCALENDAR
VERSION:2.0
PRODID:-//Kehilat Har-El - ECPv6.15.17//NONSGML v1.0//EN
CALSCALE:GREGORIAN
METHOD:PUBLISH
X-WR-CALNAME:Kehilat Har-El
X-ORIGINAL-URL:https://www.kharel.org.il/en-us
X-WR-CALDESC:Events for Kehilat Har-El
REFRESH-INTERVAL;VALUE=DURATION:PT1H
X-Robots-Tag:noindex
X-PUBLISHED-TTL:PT1H
BEGIN:VTIMEZONE
TZID:Asia/Jerusalem
BEGIN:DAYLIGHT
TZOFFSETFROM:+0200
TZOFFSETTO:+0300
TZNAME:IDT
DTSTART:20180323T000000
END:DAYLIGHT
BEGIN:STANDARD
TZOFFSETFROM:+0300
TZOFFSETTO:+0200
TZNAME:IST
DTSTART:20181027T230000
END:STANDARD
BEGIN:DAYLIGHT
TZOFFSETFROM:+0200
TZOFFSETTO:+0300
TZNAME:IDT
DTSTART:20190329T000000
END:DAYLIGHT
BEGIN:STANDARD
TZOFFSETFROM:+0300
TZOFFSETTO:+0200
TZNAME:IST
DTSTART:20191026T230000
END:STANDARD
BEGIN:DAYLIGHT
TZOFFSETFROM:+0200
TZOFFSETTO:+0300
TZNAME:IDT
DTSTART:20200327T000000
END:DAYLIGHT
BEGIN:STANDARD
TZOFFSETFROM:+0300
TZOFFSETTO:+0200
TZNAME:IST
DTSTART:20201024T230000
END:STANDARD
END:VTIMEZONE
BEGIN:VEVENT
DTSTART;TZID=Asia/Jerusalem:20190501T180000
DTEND;TZID=Asia/Jerusalem:20190501T193000
DTSTAMP:20260421T033346
CREATED:20190123T102826Z
LAST-MODIFIED:20190123T103105Z
UID:5125-1556733600-1556739000@www.kharel.org.il
SUMMARY:Yom Hashoah Service
DESCRIPTION:On Wednesday\, May 1 at 6 PM\, we will gather together for a service to mark Yom Hashoah v’Hagvurah – Holocaust and Heroism Memorial Day.
URL:https://www.kharel.org.il/en-us/event/yom-hashoah-service/
LOCATION:Kehilat Har-El\, 16 Shmuel Hanagid Street\, Jerusalem\, Israel
END:VEVENT
BEGIN:VEVENT
DTSTART;TZID=Asia/Jerusalem:20190502T000000
DTEND;TZID=Asia/Jerusalem:20190502T000000
DTSTAMP:20260421T033346
CREATED:20181105T191715Z
LAST-MODIFIED:20181105T191715Z
UID:4379-1556755200-1556755200@www.kharel.org.il
SUMMARY:27th of Nisan 5779
DESCRIPTION:
URL:https://www.kharel.org.il/en-us/event/27th-of-nisan-5779/
END:VEVENT
BEGIN:VEVENT
DTSTART;TZID=Asia/Jerusalem:20190502T000000
DTEND;TZID=Asia/Jerusalem:20190502T000000
DTSTAMP:20260421T033346
CREATED:20181105T191715Z
LAST-MODIFIED:20181105T191715Z
UID:4380-1556755200-1556755200@www.kharel.org.il
SUMMARY:Yom HaShoah
DESCRIPTION:
URL:https://www.kharel.org.il/en-us/event/yom-hashoah/
END:VEVENT
BEGIN:VEVENT
DTSTART;TZID=Asia/Jerusalem:20190503T000000
DTEND;TZID=Asia/Jerusalem:20190503T000000
DTSTAMP:20260421T033346
CREATED:20181105T191716Z
LAST-MODIFIED:20181105T191716Z
UID:4381-1556841600-1556841600@www.kharel.org.il
SUMMARY:28th of Nisan 5779
DESCRIPTION:
URL:https://www.kharel.org.il/en-us/event/28th-of-nisan-5779/
END:VEVENT
BEGIN:VEVENT
DTSTART;TZID=Asia/Jerusalem:20190504T000000
DTEND;TZID=Asia/Jerusalem:20190504T000000
DTSTAMP:20260421T033346
CREATED:20181105T191717Z
LAST-MODIFIED:20181105T191717Z
UID:4382-1556928000-1556928000@www.kharel.org.il
SUMMARY:29th of Nisan 5779
DESCRIPTION:
URL:https://www.kharel.org.il/en-us/event/29th-of-nisan-5779/
END:VEVENT
BEGIN:VEVENT
DTSTART;TZID=Asia/Jerusalem:20190504T093000
DTEND;TZID=Asia/Jerusalem:20190504T113000
DTSTAMP:20260421T033346
CREATED:20180806T195957Z
LAST-MODIFIED:20180806T200328Z
UID:3698-1556962200-1556969400@www.kharel.org.il
SUMMARY:Bar Mitzvah Arik Krooshof
DESCRIPTION:Bar mitzvah of Arik Krooshof from Amsterdam\, Netherlands during Shabbat morning services
URL:https://www.kharel.org.il/en-us/event/bar-mitzvah-arik-krooshof/
LOCATION:Kehilat Har-El\, 16 Shmuel Hanagid Street\, Jerusalem\, Israel
END:VEVENT
BEGIN:VEVENT
DTSTART;TZID=Asia/Jerusalem:20190505T000000
DTEND;TZID=Asia/Jerusalem:20190505T000000
DTSTAMP:20260421T033346
CREATED:20181105T191717Z
LAST-MODIFIED:20181105T191717Z
UID:4383-1557014400-1557014400@www.kharel.org.il
SUMMARY:30th of Nisan 5779
DESCRIPTION:
URL:https://www.kharel.org.il/en-us/event/30th-of-nisan-5779/
END:VEVENT
BEGIN:VEVENT
DTSTART;TZID=Asia/Jerusalem:20190506T000000
DTEND;TZID=Asia/Jerusalem:20190506T000000
DTSTAMP:20260421T033346
CREATED:20181105T191717Z
LAST-MODIFIED:20181105T191717Z
UID:4384-1557100800-1557100800@www.kharel.org.il
SUMMARY:1st of Iyyar 5779
DESCRIPTION:
URL:https://www.kharel.org.il/en-us/event/1st-of-iyyar-5779/
END:VEVENT
BEGIN:VEVENT
DTSTART;TZID=Asia/Jerusalem:20190507T000000
DTEND;TZID=Asia/Jerusalem:20190507T000000
DTSTAMP:20260421T033346
CREATED:20181105T191717Z
LAST-MODIFIED:20181105T191717Z
UID:4385-1557187200-1557187200@www.kharel.org.il
SUMMARY:2nd of Iyyar 5779
DESCRIPTION:
URL:https://www.kharel.org.il/en-us/event/2nd-of-iyyar-5779/
END:VEVENT
BEGIN:VEVENT
DTSTART;TZID=Asia/Jerusalem:20190507T180000
DTEND;TZID=Asia/Jerusalem:20190507T193000
DTSTAMP:20260421T033346
CREATED:20190123T103006Z
LAST-MODIFIED:20190123T103006Z
UID:5128-1557252000-1557257400@www.kharel.org.il
SUMMARY:Memorial Day Service
DESCRIPTION:On Tuesday\, May 7 at 6 PM\, we will gather together for a service to mark Israel’s Memorial Day for the fallen soldiers of Israel\, security services\, and victims of terror.
URL:https://www.kharel.org.il/en-us/event/memorial-day-service/
LOCATION:Kehilat Har-El\, 16 Shmuel Hanagid Street\, Jerusalem\, Israel
END:VEVENT
BEGIN:VEVENT
DTSTART;TZID=Asia/Jerusalem:20190508T000000
DTEND;TZID=Asia/Jerusalem:20190508T000000
DTSTAMP:20260421T033346
CREATED:20181105T191719Z
LAST-MODIFIED:20181105T191719Z
UID:4386-1557273600-1557273600@www.kharel.org.il
SUMMARY:3rd of Iyyar 5779
DESCRIPTION:
URL:https://www.kharel.org.il/en-us/event/3rd-of-iyyar-5779/
END:VEVENT
BEGIN:VEVENT
DTSTART;TZID=Asia/Jerusalem:20190508T000000
DTEND;TZID=Asia/Jerusalem:20190508T000000
DTSTAMP:20260421T033346
CREATED:20181105T191719Z
LAST-MODIFIED:20181105T191719Z
UID:4387-1557273600-1557273600@www.kharel.org.il
SUMMARY:Yom HaZikaron
DESCRIPTION:
URL:https://www.kharel.org.il/en-us/event/yom-hazikaron/
END:VEVENT
BEGIN:VEVENT
DTSTART;TZID=Asia/Jerusalem:20190509T000000
DTEND;TZID=Asia/Jerusalem:20190509T000000
DTSTAMP:20260421T033346
CREATED:20181105T191719Z
LAST-MODIFIED:20181105T191719Z
UID:4389-1557360000-1557360000@www.kharel.org.il
SUMMARY:Yom HaAtzma'ut
DESCRIPTION:
URL:https://www.kharel.org.il/en-us/event/yom-haatzmaut/
END:VEVENT
BEGIN:VEVENT
DTSTART;TZID=Asia/Jerusalem:20190509T000000
DTEND;TZID=Asia/Jerusalem:20190509T000000
DTSTAMP:20260421T033346
CREATED:20181105T191719Z
LAST-MODIFIED:20181105T191719Z
UID:4388-1557360000-1557360000@www.kharel.org.il
SUMMARY:4th of Iyyar 5779
DESCRIPTION:
URL:https://www.kharel.org.il/en-us/event/4th-of-iyyar-5779/
END:VEVENT
BEGIN:VEVENT
DTSTART;TZID=Asia/Jerusalem:20190509T103000
DTEND;TZID=Asia/Jerusalem:20190509T133000
DTSTAMP:20260421T033346
CREATED:20181101T084925Z
LAST-MODIFIED:20190502T201307Z
UID:4025-1557397800-1557408600@www.kharel.org.il
SUMMARY:Festive Independence Day Service & Picninc
DESCRIPTION:Come join us to celebrate Israel’s 71st Independence Day here at Har-El on Thursday morning\, May 9. \nAt 10:30 AM – Festive morning service led by Rabbi Ada and Cantor Evan\, accompanied by pianist Anastasia Sobolev. \nFollowing the service\, we will have a picnic in our garden\, including communal singing led by Cantor Evan (in the photo – last year’s celebration). \nFor the picnic: Har-El will provide pitot\, fries (chips) and kebabs/hot dogs*.  Those who would like to participate in the picnic are asked to bring 25 NIS in cash to cover the expenses\, as well as a salad or something sweet (and pareve) for dessert\, coordinated in advance with our administrator\, Shany.  *”Vegetarian shwarama” will be provided for vegetarians. \nPlease note: for those of you with Facebook\, we would appreciate you confirming your participation through the following link (please click here) as well as sharing the event on your personal Facebook page.  You can also confirm your participation directly with Shany at 053-649-9584 or at shany.kharel@gmail.com.
URL:https://www.kharel.org.il/en-us/event/festive-israeli-independence-day-service/
LOCATION:Kehilat Har-El\, 16 Shmuel Hanagid Street\, Jerusalem\, Israel
END:VEVENT
BEGIN:VEVENT
DTSTART;TZID=Asia/Jerusalem:20190510T000000
DTEND;TZID=Asia/Jerusalem:20190510T000000
DTSTAMP:20260421T033346
CREATED:20181105T191719Z
LAST-MODIFIED:20181105T191719Z
UID:4390-1557446400-1557446400@www.kharel.org.il
SUMMARY:5th of Iyyar 5779
DESCRIPTION:
URL:https://www.kharel.org.il/en-us/event/5th-of-iyyar-5779/
END:VEVENT
BEGIN:VEVENT
DTSTART;TZID=Asia/Jerusalem:20190511T000000
DTEND;TZID=Asia/Jerusalem:20190511T000000
DTSTAMP:20260421T033346
CREATED:20181105T191721Z
LAST-MODIFIED:20181105T191721Z
UID:4391-1557532800-1557532800@www.kharel.org.il
SUMMARY:6th of Iyyar 5779
DESCRIPTION:
URL:https://www.kharel.org.il/en-us/event/6th-of-iyyar-5779/
END:VEVENT
BEGIN:VEVENT
DTSTART;TZID=Asia/Jerusalem:20190512T000000
DTEND;TZID=Asia/Jerusalem:20190512T000000
DTSTAMP:20260421T033346
CREATED:20181105T191721Z
LAST-MODIFIED:20181105T191721Z
UID:4392-1557619200-1557619200@www.kharel.org.il
SUMMARY:7th of Iyyar 5779
DESCRIPTION:
URL:https://www.kharel.org.il/en-us/event/7th-of-iyyar-5779/
END:VEVENT
BEGIN:VEVENT
DTSTART;TZID=Asia/Jerusalem:20190513T000000
DTEND;TZID=Asia/Jerusalem:20190513T000000
DTSTAMP:20260421T033346
CREATED:20181105T191721Z
LAST-MODIFIED:20181105T191721Z
UID:4393-1557705600-1557705600@www.kharel.org.il
SUMMARY:8th of Iyyar 5779
DESCRIPTION:
URL:https://www.kharel.org.il/en-us/event/8th-of-iyyar-5779/
END:VEVENT
BEGIN:VEVENT
DTSTART;TZID=Asia/Jerusalem:20190514T000000
DTEND;TZID=Asia/Jerusalem:20190514T000000
DTSTAMP:20260421T033346
CREATED:20181105T191721Z
LAST-MODIFIED:20181105T191721Z
UID:4394-1557792000-1557792000@www.kharel.org.il
SUMMARY:9th of Iyyar 5779
DESCRIPTION:
URL:https://www.kharel.org.il/en-us/event/9th-of-iyyar-5779/
END:VEVENT
BEGIN:VEVENT
DTSTART;TZID=Asia/Jerusalem:20190515T000000
DTEND;TZID=Asia/Jerusalem:20190515T000000
DTSTAMP:20260421T033346
CREATED:20181105T191722Z
LAST-MODIFIED:20181105T191722Z
UID:4395-1557878400-1557878400@www.kharel.org.il
SUMMARY:10th of Iyyar 5779
DESCRIPTION:
URL:https://www.kharel.org.il/en-us/event/10th-of-iyyar-5779/
END:VEVENT
BEGIN:VEVENT
DTSTART;TZID=Asia/Jerusalem:20190516T000000
DTEND;TZID=Asia/Jerusalem:20190516T000000
DTSTAMP:20260421T033346
CREATED:20181105T191723Z
LAST-MODIFIED:20181105T191723Z
UID:4396-1557964800-1557964800@www.kharel.org.il
SUMMARY:11th of Iyyar 5779
DESCRIPTION:
URL:https://www.kharel.org.il/en-us/event/11th-of-iyyar-5779/
END:VEVENT
BEGIN:VEVENT
DTSTART;TZID=Asia/Jerusalem:20190517T000000
DTEND;TZID=Asia/Jerusalem:20190517T000000
DTSTAMP:20260421T033346
CREATED:20181105T191723Z
LAST-MODIFIED:20181105T191723Z
UID:4397-1558051200-1558051200@www.kharel.org.il
SUMMARY:12th of Iyyar 5779
DESCRIPTION:
URL:https://www.kharel.org.il/en-us/event/12th-of-iyyar-5779/
END:VEVENT
BEGIN:VEVENT
DTSTART;TZID=Asia/Jerusalem:20190518T000000
DTEND;TZID=Asia/Jerusalem:20190518T000000
DTSTAMP:20260421T033346
CREATED:20181105T191723Z
LAST-MODIFIED:20181105T191723Z
UID:4398-1558137600-1558137600@www.kharel.org.il
SUMMARY:13th of Iyyar 5779
DESCRIPTION:
URL:https://www.kharel.org.il/en-us/event/13th-of-iyyar-5779/
END:VEVENT
BEGIN:VEVENT
DTSTART;TZID=Asia/Jerusalem:20190518T113000
DTEND;TZID=Asia/Jerusalem:20190518T123000
DTSTAMP:20260421T033346
CREATED:20181115T103053Z
LAST-MODIFIED:20181124T172250Z
UID:5014-1558179000-1558182600@www.kharel.org.il
SUMMARY:Lecture (in English) Following Services
DESCRIPTION:Lecturer: Pastor Danny Kopp from the Baptist Church on Narkis Street\, on:\n“If a Jew Can Be an American\, Can a Baptist Be an Israeli?  A History of Baptists/Protestants in Israel” (the lecture will be in English)
URL:https://www.kharel.org.il/en-us/event/lecture-in-english-following-services-2/
LOCATION:Kehilat Har-El\, 16 Shmuel Hanagid Street\, Jerusalem\, Israel
END:VEVENT
BEGIN:VEVENT
DTSTART;TZID=Asia/Jerusalem:20190519T000000
DTEND;TZID=Asia/Jerusalem:20190519T000000
DTSTAMP:20260421T033346
CREATED:20181105T191723Z
LAST-MODIFIED:20181105T191723Z
UID:4399-1558224000-1558224000@www.kharel.org.il
SUMMARY:14th of Iyyar 5779
DESCRIPTION:
URL:https://www.kharel.org.il/en-us/event/14th-of-iyyar-5779/
END:VEVENT
BEGIN:VEVENT
DTSTART;TZID=Asia/Jerusalem:20190519T000000
DTEND;TZID=Asia/Jerusalem:20190519T000000
DTSTAMP:20260421T033346
CREATED:20181105T191724Z
LAST-MODIFIED:20181105T191724Z
UID:4400-1558224000-1558224000@www.kharel.org.il
SUMMARY:Pesach Sheni
DESCRIPTION:
URL:https://www.kharel.org.il/en-us/event/pesach-sheni/
END:VEVENT
BEGIN:VEVENT
DTSTART;TZID=Asia/Jerusalem:20190520T000000
DTEND;TZID=Asia/Jerusalem:20190520T000000
DTSTAMP:20260421T033346
CREATED:20181105T191725Z
LAST-MODIFIED:20181105T191725Z
UID:4401-1558310400-1558310400@www.kharel.org.il
SUMMARY:15th of Iyyar 5779
DESCRIPTION:
URL:https://www.kharel.org.il/en-us/event/15th-of-iyyar-5779/
END:VEVENT
BEGIN:VEVENT
DTSTART;TZID=Asia/Jerusalem:20190521T000000
DTEND;TZID=Asia/Jerusalem:20190521T000000
DTSTAMP:20260421T033346
CREATED:20181105T191725Z
LAST-MODIFIED:20181105T191725Z
UID:4402-1558396800-1558396800@www.kharel.org.il
SUMMARY:16th of Iyyar 5779
DESCRIPTION:
URL:https://www.kharel.org.il/en-us/event/16th-of-iyyar-5779/
END:VEVENT
BEGIN:VEVENT
DTSTART;TZID=Asia/Jerusalem:20190522T000000
DTEND;TZID=Asia/Jerusalem:20190522T000000
DTSTAMP:20260421T033346
CREATED:20181105T191725Z
LAST-MODIFIED:20181105T191725Z
UID:4403-1558483200-1558483200@www.kharel.org.il
SUMMARY:17th of Iyyar 5779
DESCRIPTION:
URL:https://www.kharel.org.il/en-us/event/17th-of-iyyar-5779/
END:VEVENT
END:VCALENDAR