BEGIN:VCALENDAR
VERSION:2.0
PRODID:-//Kehilat Har-El - ECPv6.15.17//NONSGML v1.0//EN
CALSCALE:GREGORIAN
METHOD:PUBLISH
X-WR-CALNAME:Kehilat Har-El
X-ORIGINAL-URL:https://www.kharel.org.il/en-us
X-WR-CALDESC:Events for Kehilat Har-El
REFRESH-INTERVAL;VALUE=DURATION:PT1H
X-Robots-Tag:noindex
X-PUBLISHED-TTL:PT1H
BEGIN:VTIMEZONE
TZID:Asia/Jerusalem
BEGIN:DAYLIGHT
TZOFFSETFROM:+0200
TZOFFSETTO:+0300
TZNAME:IDT
DTSTART:20180323T000000
END:DAYLIGHT
BEGIN:STANDARD
TZOFFSETFROM:+0300
TZOFFSETTO:+0200
TZNAME:IST
DTSTART:20181027T230000
END:STANDARD
BEGIN:DAYLIGHT
TZOFFSETFROM:+0200
TZOFFSETTO:+0300
TZNAME:IDT
DTSTART:20190329T000000
END:DAYLIGHT
BEGIN:STANDARD
TZOFFSETFROM:+0300
TZOFFSETTO:+0200
TZNAME:IST
DTSTART:20191026T230000
END:STANDARD
BEGIN:DAYLIGHT
TZOFFSETFROM:+0200
TZOFFSETTO:+0300
TZNAME:IDT
DTSTART:20200327T000000
END:DAYLIGHT
BEGIN:STANDARD
TZOFFSETFROM:+0300
TZOFFSETTO:+0200
TZNAME:IST
DTSTART:20201024T230000
END:STANDARD
END:VTIMEZONE
BEGIN:VEVENT
DTSTART;TZID=Asia/Jerusalem:20190401T103000
DTEND;TZID=Asia/Jerusalem:20190401T120000
DTSTAMP:20260421T051534
CREATED:20180819T193219Z
LAST-MODIFIED:20180819T193219Z
UID:3896-1554114600-1554120000@www.kharel.org.il
SUMMARY:Bar Mitzvah - Brandon Sussholtz
DESCRIPTION:Bar mitzvah of Brandon Sussholz from Deerfield\, Illinois at the Egalitarian Kotel
URL:https://www.kharel.org.il/en-us/event/bar-mitzvah-brandon-sussholtz/
LOCATION:Egalitarian Kotel
END:VEVENT
BEGIN:VEVENT
DTSTART;TZID=Asia/Jerusalem:20190402T000000
DTEND;TZID=Asia/Jerusalem:20190402T000000
DTSTAMP:20260421T051534
CREATED:20181105T191654Z
LAST-MODIFIED:20181105T191654Z
UID:4341-1554163200-1554163200@www.kharel.org.il
SUMMARY:26th of Adar II 5779
DESCRIPTION:
URL:https://www.kharel.org.il/en-us/event/26th-of-adar-ii-5779/
END:VEVENT
BEGIN:VEVENT
DTSTART;TZID=Asia/Jerusalem:20190403T000000
DTEND;TZID=Asia/Jerusalem:20190403T000000
DTSTAMP:20260421T051534
CREATED:20181105T191654Z
LAST-MODIFIED:20181105T191654Z
UID:4342-1554249600-1554249600@www.kharel.org.il
SUMMARY:27th of Adar II 5779
DESCRIPTION:
URL:https://www.kharel.org.il/en-us/event/27th-of-adar-ii-5779/
END:VEVENT
BEGIN:VEVENT
DTSTART;TZID=Asia/Jerusalem:20190404T000000
DTEND;TZID=Asia/Jerusalem:20190404T000000
DTSTAMP:20260421T051534
CREATED:20181105T191654Z
LAST-MODIFIED:20181105T191654Z
UID:4343-1554336000-1554336000@www.kharel.org.il
SUMMARY:28th of Adar II 5779
DESCRIPTION:
URL:https://www.kharel.org.il/en-us/event/28th-of-adar-ii-5779/
END:VEVENT
BEGIN:VEVENT
DTSTART;TZID=Asia/Jerusalem:20190405T000000
DTEND;TZID=Asia/Jerusalem:20190405T000000
DTSTAMP:20260421T051534
CREATED:20181105T191655Z
LAST-MODIFIED:20181105T191655Z
UID:4344-1554422400-1554422400@www.kharel.org.il
SUMMARY:29th of Adar II 5779
DESCRIPTION:
URL:https://www.kharel.org.il/en-us/event/29th-of-adar-ii-5779/
END:VEVENT
BEGIN:VEVENT
DTSTART;TZID=Asia/Jerusalem:20190406T000000
DTEND;TZID=Asia/Jerusalem:20190406T000000
DTSTAMP:20260421T051534
CREATED:20181105T191655Z
LAST-MODIFIED:20181105T191655Z
UID:4345-1554508800-1554508800@www.kharel.org.il
SUMMARY:1st of Nisan 5779
DESCRIPTION:
URL:https://www.kharel.org.il/en-us/event/1st-of-nisan-5779/
END:VEVENT
BEGIN:VEVENT
DTSTART;TZID=Asia/Jerusalem:20190407T000000
DTEND;TZID=Asia/Jerusalem:20190407T000000
DTSTAMP:20260421T051534
CREATED:20181105T191658Z
LAST-MODIFIED:20181105T191658Z
UID:4346-1554595200-1554595200@www.kharel.org.il
SUMMARY:2nd of Nisan 5779
DESCRIPTION:
URL:https://www.kharel.org.il/en-us/event/2nd-of-nisan-5779/
END:VEVENT
BEGIN:VEVENT
DTSTART;TZID=Asia/Jerusalem:20190408T000000
DTEND;TZID=Asia/Jerusalem:20190408T000000
DTSTAMP:20260421T051534
CREATED:20181105T191658Z
LAST-MODIFIED:20181105T191658Z
UID:4347-1554681600-1554681600@www.kharel.org.il
SUMMARY:3rd of Nisan 5779
DESCRIPTION:
URL:https://www.kharel.org.il/en-us/event/3rd-of-nisan-5779/
END:VEVENT
BEGIN:VEVENT
DTSTART;TZID=Asia/Jerusalem:20190409T000000
DTEND;TZID=Asia/Jerusalem:20190409T000000
DTSTAMP:20260421T051534
CREATED:20181105T191659Z
LAST-MODIFIED:20181105T191659Z
UID:4348-1554768000-1554768000@www.kharel.org.il
SUMMARY:4th of Nisan 5779
DESCRIPTION:
URL:https://www.kharel.org.il/en-us/event/4th-of-nisan-5779/
END:VEVENT
BEGIN:VEVENT
DTSTART;TZID=Asia/Jerusalem:20190410T000000
DTEND;TZID=Asia/Jerusalem:20190410T000000
DTSTAMP:20260421T051534
CREATED:20181105T191659Z
LAST-MODIFIED:20181105T191659Z
UID:4349-1554854400-1554854400@www.kharel.org.il
SUMMARY:5th of Nisan 5779
DESCRIPTION:
URL:https://www.kharel.org.il/en-us/event/5th-of-nisan-5779/
END:VEVENT
BEGIN:VEVENT
DTSTART;TZID=Asia/Jerusalem:20190411T000000
DTEND;TZID=Asia/Jerusalem:20190411T000000
DTSTAMP:20260421T051534
CREATED:20181105T191659Z
LAST-MODIFIED:20181105T191659Z
UID:4350-1554940800-1554940800@www.kharel.org.il
SUMMARY:6th of Nisan 5779
DESCRIPTION:
URL:https://www.kharel.org.il/en-us/event/6th-of-nisan-5779/
END:VEVENT
BEGIN:VEVENT
DTSTART;TZID=Asia/Jerusalem:20190412T000000
DTEND;TZID=Asia/Jerusalem:20190412T000000
DTSTAMP:20260421T051534
CREATED:20181105T191701Z
LAST-MODIFIED:20181105T191701Z
UID:4351-1555027200-1555027200@www.kharel.org.il
SUMMARY:7th of Nisan 5779
DESCRIPTION:
URL:https://www.kharel.org.il/en-us/event/7th-of-nisan-5779/
END:VEVENT
BEGIN:VEVENT
DTSTART;TZID=Asia/Jerusalem:20190412T193000
DTEND;TZID=Asia/Jerusalem:20190412T210000
DTSTAMP:20260421T051534
CREATED:20181106T084113Z
LAST-MODIFIED:20181106T084113Z
UID:4977-1555097400-1555102800@www.kharel.org.il
SUMMARY:Dinner with Synagogue Group from the USA
DESCRIPTION:Following Kabbalat Shabbat\, a communal dinner with be held with the members of Temple Beth El from Providence\, Rhode Island (USA).
URL:https://www.kharel.org.il/en-us/event/dinner-with-synagogue-group-from-the-usa/
LOCATION:Kehilat Har-El\, 16 Shmuel Hanagid Street\, Jerusalem\, Israel
END:VEVENT
BEGIN:VEVENT
DTSTART;TZID=Asia/Jerusalem:20190413T000000
DTEND;TZID=Asia/Jerusalem:20190413T000000
DTSTAMP:20260421T051534
CREATED:20181105T191701Z
LAST-MODIFIED:20181105T191701Z
UID:4352-1555113600-1555113600@www.kharel.org.il
SUMMARY:8th of Nisan 5779
DESCRIPTION:
URL:https://www.kharel.org.il/en-us/event/8th-of-nisan-5779/
END:VEVENT
BEGIN:VEVENT
DTSTART;TZID=Asia/Jerusalem:20190413T093000
DTEND;TZID=Asia/Jerusalem:20190413T093000
DTSTAMP:20260421T051534
CREATED:20180819T193325Z
LAST-MODIFIED:20180819T193325Z
UID:3898-1555147800-1555147800@www.kharel.org.il
SUMMARY:Bat Mitzvah - Elena Faiola
DESCRIPTION:Bat mitzvah of Elena Failo during Shabbat morning services\, here at Har-El
URL:https://www.kharel.org.il/en-us/event/bat-mitzvah-elena-faiola/
LOCATION:Kehilat Har-El\, 16 Shmuel Hanagid Street\, Jerusalem\, Israel
END:VEVENT
BEGIN:VEVENT
DTSTART;TZID=Asia/Jerusalem:20190414T000000
DTEND;TZID=Asia/Jerusalem:20190414T000000
DTSTAMP:20260421T051534
CREATED:20181105T191702Z
LAST-MODIFIED:20181105T191702Z
UID:4353-1555200000-1555200000@www.kharel.org.il
SUMMARY:9th of Nisan 5779
DESCRIPTION:
URL:https://www.kharel.org.il/en-us/event/9th-of-nisan-5779/
END:VEVENT
BEGIN:VEVENT
DTSTART;TZID=Asia/Jerusalem:20190415T000000
DTEND;TZID=Asia/Jerusalem:20190415T000000
DTSTAMP:20260421T051534
CREATED:20181105T191702Z
LAST-MODIFIED:20181105T191702Z
UID:4354-1555286400-1555286400@www.kharel.org.il
SUMMARY:10th of Nisan 5779
DESCRIPTION:
URL:https://www.kharel.org.il/en-us/event/10th-of-nisan-5779/
END:VEVENT
BEGIN:VEVENT
DTSTART;TZID=Asia/Jerusalem:20190415T103000
DTEND;TZID=Asia/Jerusalem:20190415T120000
DTSTAMP:20260421T051534
CREATED:20190105T191333Z
LAST-MODIFIED:20190105T191333Z
UID:5094-1555324200-1555329600@www.kharel.org.il
SUMMARY:Bat Mitzvah - Gari Lenkowsky
DESCRIPTION:Bat mitzvah of Gari Lenkowsky from Upper Saddle River\, New Jersey at the Egalitarian Kotel
URL:https://www.kharel.org.il/en-us/event/bat-mitzvah-gari-lenkowsky/
LOCATION:Egalitarian Kotel
END:VEVENT
BEGIN:VEVENT
DTSTART;TZID=Asia/Jerusalem:20190415T120000
DTEND;TZID=Asia/Jerusalem:20190415T133000
DTSTAMP:20260421T051534
CREATED:20181015T201243Z
LAST-MODIFIED:20181015T201243Z
UID:3978-1555329600-1555335000@www.kharel.org.il
SUMMARY:Bar Mitzvah Caleb Tuckman
DESCRIPTION:Bar mitzvah of Caleb Tuckman at the Egalitarian Kotel
URL:https://www.kharel.org.il/en-us/event/bar-mitzvah-caleb-tuckman/
LOCATION:Kehilat Har-El\, 16 Shmuel Hanagid Street\, Jerusalem\, Israel
END:VEVENT
BEGIN:VEVENT
DTSTART;TZID=Asia/Jerusalem:20190416T000000
DTEND;TZID=Asia/Jerusalem:20190416T000000
DTSTAMP:20260421T051534
CREATED:20181105T191702Z
LAST-MODIFIED:20181105T191702Z
UID:4355-1555372800-1555372800@www.kharel.org.il
SUMMARY:11th of Nisan 5779
DESCRIPTION:
URL:https://www.kharel.org.il/en-us/event/11th-of-nisan-5779/
END:VEVENT
BEGIN:VEVENT
DTSTART;TZID=Asia/Jerusalem:20190417T000000
DTEND;TZID=Asia/Jerusalem:20190417T000000
DTSTAMP:20260421T051534
CREATED:20181105T191704Z
LAST-MODIFIED:20181105T191704Z
UID:4356-1555459200-1555459200@www.kharel.org.il
SUMMARY:12th of Nisan 5779
DESCRIPTION:
URL:https://www.kharel.org.il/en-us/event/12th-of-nisan-5779/
END:VEVENT
BEGIN:VEVENT
DTSTART;TZID=Asia/Jerusalem:20190417T103000
DTEND;TZID=Asia/Jerusalem:20190417T120000
DTSTAMP:20260421T051534
CREATED:20180620T201820Z
LAST-MODIFIED:20180620T201820Z
UID:3589-1555497000-1555502400@www.kharel.org.il
SUMMARY:Bar Mitzvah - Jory Moscoe
DESCRIPTION:Bar mitzvah of Jory Moscoe at the Egalitarian Kotel.
URL:https://www.kharel.org.il/en-us/event/bar-mitzvah-jory-moscoe/
LOCATION:Egalitarian Kotel
END:VEVENT
BEGIN:VEVENT
DTSTART;TZID=Asia/Jerusalem:20190418T000000
DTEND;TZID=Asia/Jerusalem:20190418T000000
DTSTAMP:20260421T051534
CREATED:20181105T191704Z
LAST-MODIFIED:20181105T191704Z
UID:4357-1555545600-1555545600@www.kharel.org.il
SUMMARY:13th of Nisan 5779
DESCRIPTION:
URL:https://www.kharel.org.il/en-us/event/13th-of-nisan-5779/
END:VEVENT
BEGIN:VEVENT
DTSTART;TZID=Asia/Jerusalem:20190419T000000
DTEND;TZID=Asia/Jerusalem:20190419T000000
DTSTAMP:20260421T051534
CREATED:20181105T191704Z
LAST-MODIFIED:20181105T191704Z
UID:4358-1555632000-1555632000@www.kharel.org.il
SUMMARY:14th of Nisan 5779
DESCRIPTION:
URL:https://www.kharel.org.il/en-us/event/14th-of-nisan-5779/
END:VEVENT
BEGIN:VEVENT
DTSTART;TZID=Asia/Jerusalem:20190419T000000
DTEND;TZID=Asia/Jerusalem:20190419T000000
DTSTAMP:20260421T051534
CREATED:20181105T191704Z
LAST-MODIFIED:20181105T191704Z
UID:4359-1555632000-1555632000@www.kharel.org.il
SUMMARY:Erev Pesach
DESCRIPTION:
URL:https://www.kharel.org.il/en-us/event/erev-pesach/
END:VEVENT
BEGIN:VEVENT
DTSTART;VALUE=DATE:20190419
DTEND;VALUE=DATE:20190420
DTSTAMP:20260421T051534
CREATED:20180806T200927Z
LAST-MODIFIED:20181101T090533Z
UID:3726-1555632000-1555718399@www.kharel.org.il
SUMMARY:First Night of Pesach - No Services at Har-El
DESCRIPTION:
URL:https://www.kharel.org.il/en-us/event/kabbalat-shabbat-4-2019-04-19/
LOCATION:Kehilat Har-El\, 16 Shmuel Hanagid Street\, Jerusalem\, Israel
END:VEVENT
BEGIN:VEVENT
DTSTART;TZID=Asia/Jerusalem:20190420T000000
DTEND;TZID=Asia/Jerusalem:20190420T000000
DTSTAMP:20260421T051534
CREATED:20181105T191705Z
LAST-MODIFIED:20181105T191705Z
UID:4360-1555718400-1555718400@www.kharel.org.il
SUMMARY:15th of Nisan 5779
DESCRIPTION:
URL:https://www.kharel.org.il/en-us/event/15th-of-nisan-5779/
END:VEVENT
BEGIN:VEVENT
DTSTART;TZID=Asia/Jerusalem:20190420T000000
DTEND;TZID=Asia/Jerusalem:20190420T000000
DTSTAMP:20260421T051534
CREATED:20181105T191707Z
LAST-MODIFIED:20181105T191707Z
UID:4361-1555718400-1555718400@www.kharel.org.il
SUMMARY:Pesach I
DESCRIPTION:
URL:https://www.kharel.org.il/en-us/event/pesach-i/
END:VEVENT
BEGIN:VEVENT
DTSTART;TZID=Asia/Jerusalem:20190420T100000
DTEND;TZID=Asia/Jerusalem:20190420T121500
DTSTAMP:20260421T051534
CREATED:20181101T084611Z
LAST-MODIFIED:20190414T122920Z
UID:4020-1555754400-1555762500@www.kharel.org.il
SUMMARY:Classical Reform Festival Morning Service
DESCRIPTION:Saturday\, April 20\, the first day of Pesach: Shabbat and Festival services at 10 AM (and not at 9:30 AM)\, accompanied by pianist Anastasia Sobolev\, including t’filat hatal (the prayer for dew) sung as a duet by Cantor Evan and cantorial student Emily Houlihan\, and readings from the “Song of Songs”.
URL:https://www.kharel.org.il/en-us/event/classical-reform-festival-morning-service/
LOCATION:Kehilat Har-El\, 16 Shmuel Hanagid Street\, Jerusalem\, Israel
END:VEVENT
BEGIN:VEVENT
DTSTART;TZID=Asia/Jerusalem:20190421T000000
DTEND;TZID=Asia/Jerusalem:20190421T000000
DTSTAMP:20260421T051534
CREATED:20181105T191707Z
LAST-MODIFIED:20181105T191707Z
UID:4362-1555804800-1555804800@www.kharel.org.il
SUMMARY:16th of Nisan 5779
DESCRIPTION:
URL:https://www.kharel.org.il/en-us/event/16th-of-nisan-5779/
END:VEVENT
END:VCALENDAR