BEGIN:VCALENDAR
VERSION:2.0
PRODID:-//Kehilat Har-El - ECPv6.15.17//NONSGML v1.0//EN
CALSCALE:GREGORIAN
METHOD:PUBLISH
X-WR-CALNAME:Kehilat Har-El
X-ORIGINAL-URL:https://www.kharel.org.il/en-us
X-WR-CALDESC:Events for Kehilat Har-El
REFRESH-INTERVAL;VALUE=DURATION:PT1H
X-Robots-Tag:noindex
X-PUBLISHED-TTL:PT1H
BEGIN:VTIMEZONE
TZID:Asia/Jerusalem
BEGIN:DAYLIGHT
TZOFFSETFROM:+0200
TZOFFSETTO:+0300
TZNAME:IDT
DTSTART:20250328T000000
END:DAYLIGHT
BEGIN:STANDARD
TZOFFSETFROM:+0300
TZOFFSETTO:+0200
TZNAME:IST
DTSTART:20251025T230000
END:STANDARD
BEGIN:DAYLIGHT
TZOFFSETFROM:+0200
TZOFFSETTO:+0300
TZNAME:IDT
DTSTART:20260327T000000
END:DAYLIGHT
BEGIN:STANDARD
TZOFFSETFROM:+0300
TZOFFSETTO:+0200
TZNAME:IST
DTSTART:20261024T230000
END:STANDARD
BEGIN:DAYLIGHT
TZOFFSETFROM:+0200
TZOFFSETTO:+0300
TZNAME:IDT
DTSTART:20270326T000000
END:DAYLIGHT
BEGIN:STANDARD
TZOFFSETFROM:+0300
TZOFFSETTO:+0200
TZNAME:IST
DTSTART:20271030T230000
END:STANDARD
END:VTIMEZONE
BEGIN:VEVENT
DTSTART;VALUE=DATE:20260302
DTEND;VALUE=DATE:20260303
DTSTAMP:20260420T131946
CREATED:20260219T210901Z
LAST-MODIFIED:20260219T210901Z
UID:17794-1772409600-1772495999@www.kharel.org.il
SUMMARY:Taanit Esther
DESCRIPTION:
URL:https://www.kharel.org.il/en-us/event/taanit-esther-4/
END:VEVENT
BEGIN:VEVENT
DTSTART;TZID=Asia/Jerusalem:20260302T173000
DTEND;TZID=Asia/Jerusalem:20260302T183000
DTSTAMP:20260420T131946
CREATED:20260219T211841Z
LAST-MODIFIED:20260219T211901Z
UID:17829-1772472600-1772476200@www.kharel.org.il
SUMMARY:Study w/Rabbi Ada on Zoom
DESCRIPTION:  \n \nThis year we are studying the Second Book of Samuel.  There’s no need for prior knowledge\, and all are invited to participate. \nThe class is held in Hebrew. \nTo receive the Zoom link\, please contact Cantor Evan at cantorevan@gmail.com .
URL:https://www.kharel.org.il/en-us/event/study-w-rabbi-ada-on-zoom-3-copy-copy-copy-copy-copy-copy-copy-copy-copy-copy-copy-copy-copy/
END:VEVENT
END:VCALENDAR