BEGIN:VCALENDAR
VERSION:2.0
PRODID:-//Kehilat Har-El - ECPv6.15.17//NONSGML v1.0//EN
CALSCALE:GREGORIAN
METHOD:PUBLISH
X-WR-CALNAME:Kehilat Har-El
X-ORIGINAL-URL:https://www.kharel.org.il/en-us
X-WR-CALDESC:Events for Kehilat Har-El
REFRESH-INTERVAL;VALUE=DURATION:PT1H
X-Robots-Tag:noindex
X-PUBLISHED-TTL:PT1H
BEGIN:VTIMEZONE
TZID:Asia/Jerusalem
BEGIN:DAYLIGHT
TZOFFSETFROM:+0200
TZOFFSETTO:+0300
TZNAME:IDT
DTSTART:20240329T000000
END:DAYLIGHT
BEGIN:STANDARD
TZOFFSETFROM:+0300
TZOFFSETTO:+0200
TZNAME:IST
DTSTART:20241026T230000
END:STANDARD
BEGIN:DAYLIGHT
TZOFFSETFROM:+0200
TZOFFSETTO:+0300
TZNAME:IDT
DTSTART:20250328T000000
END:DAYLIGHT
BEGIN:STANDARD
TZOFFSETFROM:+0300
TZOFFSETTO:+0200
TZNAME:IST
DTSTART:20251025T230000
END:STANDARD
BEGIN:DAYLIGHT
TZOFFSETFROM:+0200
TZOFFSETTO:+0300
TZNAME:IDT
DTSTART:20260327T000000
END:DAYLIGHT
BEGIN:STANDARD
TZOFFSETFROM:+0300
TZOFFSETTO:+0200
TZNAME:IST
DTSTART:20261024T230000
END:STANDARD
END:VTIMEZONE
BEGIN:VEVENT
DTSTART;TZID=Asia/Jerusalem:20250620T180000
DTEND;TZID=Asia/Jerusalem:20250620T193000
DTSTAMP:20260422T025928
CREATED:20250618T185134Z
LAST-MODIFIED:20250618T185159Z
UID:17220-1750442400-1750447800@www.kharel.org.il
SUMMARY:Kabbalat Shabbat
DESCRIPTION:In light of the security situation and according to Home Front Command guidelines\, our Shabbat services this weekend (Friday and Saturday) will not be held at Kehilat Har-El\, but will instead be livestreamed from the homes of Rabbi Ada and Cantor Evan.\n\n\n\nYou are invited to join us for services —Friday evening starting at 6 PM and Saturday morning starting at 9:30 AM via the following links:\nYouTube: https://www.youtube.com/c/KehilatHarEl/live\nFacebook: https://www.facebook.com/kehilat.har.el/\n\n\n\nShabbat Shalom u’Mevorach — with prayers for the safe return of all our aircraft\, the welfare of all our soldiers\, the success of the operation to defend Israel\, and the immediate return home of all the hostages!\n\n\n\n\n\n\n\n\n\n\n\n\n\n\n\n\n\n\n\n\n\n 
URL:https://www.kharel.org.il/en-us/event/kabbalat-shabbat-34-copy-4-copy-5-copy-3-copy-copy-4-copy-4-copy-5-copy-copy-5-copy-copy-copy-copy-copy-copy-copy-2-copy-copy-copy/
LOCATION:Kehilat Har-El\, 16 Shmuel Hanagid Street\, Jerusalem\, Israel
END:VEVENT
END:VCALENDAR