BEGIN:VCALENDAR
VERSION:2.0
PRODID:-//Kehilat Har-El - ECPv6.15.17//NONSGML v1.0//EN
CALSCALE:GREGORIAN
METHOD:PUBLISH
X-WR-CALNAME:Kehilat Har-El
X-ORIGINAL-URL:https://www.kharel.org.il/en-us
X-WR-CALDESC:Events for Kehilat Har-El
REFRESH-INTERVAL;VALUE=DURATION:PT1H
X-Robots-Tag:noindex
X-PUBLISHED-TTL:PT1H
BEGIN:VTIMEZONE
TZID:Asia/Jerusalem
BEGIN:DAYLIGHT
TZOFFSETFROM:+0200
TZOFFSETTO:+0300
TZNAME:IDT
DTSTART:20240329T000000
END:DAYLIGHT
BEGIN:STANDARD
TZOFFSETFROM:+0300
TZOFFSETTO:+0200
TZNAME:IST
DTSTART:20241026T230000
END:STANDARD
BEGIN:DAYLIGHT
TZOFFSETFROM:+0200
TZOFFSETTO:+0300
TZNAME:IDT
DTSTART:20250328T000000
END:DAYLIGHT
BEGIN:STANDARD
TZOFFSETFROM:+0300
TZOFFSETTO:+0200
TZNAME:IST
DTSTART:20251025T230000
END:STANDARD
BEGIN:DAYLIGHT
TZOFFSETFROM:+0200
TZOFFSETTO:+0300
TZNAME:IDT
DTSTART:20260327T000000
END:DAYLIGHT
BEGIN:STANDARD
TZOFFSETFROM:+0300
TZOFFSETTO:+0200
TZNAME:IST
DTSTART:20261024T230000
END:STANDARD
END:VTIMEZONE
BEGIN:VEVENT
DTSTART;TZID=Asia/Jerusalem:20250603T093000
DTEND;TZID=Asia/Jerusalem:20250603T093000
DTSTAMP:20260422T030032
CREATED:20250424T160328Z
LAST-MODIFIED:20250522T143209Z
UID:17086-1748943000-1748943000@www.kharel.org.il
SUMMARY:Guided Tour of the Botanical Gardens
DESCRIPTION:Har-El members and their friends are invited to a guided tour (in Hebrew) of the Botanical Gardens in bloom by Har-El member Orli Shevach\, who volunteers there.  \nDuring the tour we will ride the “train” through the paths of the gardens\, learn from Orli about the “benefits of the ecological system to humanity” and hold a picnic with light refreshments organized by the congregation (no need to bring food apart from water). \nEntrance to the botanical gardens is 40 NIS for general admission\, 35 NIS for senior citizens. Payment will be made at the site that day. \nThose interested in participating are asked to register with Har-El administrator Shany Shlomo by phone/whatsapp at 053-649-9584 or by email at shany@kharel.org.il. 
URL:https://www.kharel.org.il/en-us/event/guided-tour-of-the-botanical-gardens/
LOCATION:Botanical Gardens\, 1 Zalman Shneur\, Jerusalem
END:VEVENT
BEGIN:VEVENT
DTSTART;TZID=Asia/Jerusalem:20250603T163000
DTEND;TZID=Asia/Jerusalem:20250603T180000
DTSTAMP:20260422T030032
CREATED:20250508T144106Z
LAST-MODIFIED:20250508T144158Z
UID:17112-1748968200-1748973600@www.kharel.org.il
SUMMARY:English Speakers' Beit Midrash
DESCRIPTION:A beit midrash in English led by Har-El member Rabbi Helen Bar-Yaacov is held at Kehilat Har-El on Tuesdays from 4:30 -6 PM.  The topic is “Journeying Through the Tanakh.” \nInvited to participate are native English speakers together those who are comfortable studying in English\, even if it is not their native language.  For more details and registration\, please contact Har-El administrator Shany Shlomo at 053-649-9584 or at shany@kharel.org.il. 
URL:https://www.kharel.org.il/en-us/event/english-speakers-beit-midrash-4-2021-08-31-2021-10-05-2024-11-05-copy-3-copy-6-copy-copy-copy-copy-2-copy-copy-copy/
LOCATION:Kehilat Har-El\, 16 Shmuel Hanagid Street\, Jerusalem\, Israel
END:VEVENT
END:VCALENDAR