BEGIN:VCALENDAR
VERSION:2.0
PRODID:-//Kehilat Har-El - ECPv6.15.17//NONSGML v1.0//EN
CALSCALE:GREGORIAN
METHOD:PUBLISH
X-ORIGINAL-URL:https://www.kharel.org.il/en-us
X-WR-CALDESC:Events for Kehilat Har-El
REFRESH-INTERVAL;VALUE=DURATION:PT1H
X-Robots-Tag:noindex
X-PUBLISHED-TTL:PT1H
BEGIN:VTIMEZONE
TZID:Asia/Jerusalem
BEGIN:DAYLIGHT
TZOFFSETFROM:+0200
TZOFFSETTO:+0300
TZNAME:IDT
DTSTART:20210326T000000
END:DAYLIGHT
BEGIN:STANDARD
TZOFFSETFROM:+0300
TZOFFSETTO:+0200
TZNAME:IST
DTSTART:20211030T230000
END:STANDARD
BEGIN:DAYLIGHT
TZOFFSETFROM:+0200
TZOFFSETTO:+0300
TZNAME:IDT
DTSTART:20220325T000000
END:DAYLIGHT
BEGIN:STANDARD
TZOFFSETFROM:+0300
TZOFFSETTO:+0200
TZNAME:IST
DTSTART:20221029T230000
END:STANDARD
BEGIN:DAYLIGHT
TZOFFSETFROM:+0200
TZOFFSETTO:+0300
TZNAME:IDT
DTSTART:20230324T000000
END:DAYLIGHT
BEGIN:STANDARD
TZOFFSETFROM:+0300
TZOFFSETTO:+0200
TZNAME:IST
DTSTART:20231028T230000
END:STANDARD
END:VTIMEZONE
BEGIN:VEVENT
DTSTART;VALUE=DATE:20220711
DTEND;VALUE=DATE:20220712
DTSTAMP:20260424T161507
CREATED:20200824T120252Z
LAST-MODIFIED:20211031T160732Z
UID:8263-1657497600-1657583999@www.kharel.org.il
SUMMARY:12th of Tamuz 5782
DESCRIPTION:
URL:https://www.kharel.org.il/en-us/event/12th-of-tamuz-5782/
END:VEVENT
BEGIN:VEVENT
DTSTART;TZID=Asia/Jerusalem:20220711T103000
DTEND;TZID=Asia/Jerusalem:20220711T120000
DTSTAMP:20260424T161507
CREATED:20220516T081209Z
LAST-MODIFIED:20220516T081209Z
UID:13698-1657535400-1657540800@www.kharel.org.il
SUMMARY:Bat Mitzvah
DESCRIPTION:Bat Mitzvah of Ella Taylor at the Egalitarian Kotel
URL:https://www.kharel.org.il/en-us/event/bat-mitzvah-4/
LOCATION:Egalitarian Kotel
END:VEVENT
END:VCALENDAR