BEGIN:VCALENDAR
VERSION:2.0
PRODID:-//Kehilat Har-El - ECPv6.15.17//NONSGML v1.0//EN
CALSCALE:GREGORIAN
METHOD:PUBLISH
X-ORIGINAL-URL:https://www.kharel.org.il/en-us
X-WR-CALDESC:Events for Kehilat Har-El
REFRESH-INTERVAL;VALUE=DURATION:PT1H
X-Robots-Tag:noindex
X-PUBLISHED-TTL:PT1H
BEGIN:VTIMEZONE
TZID:Asia/Jerusalem
BEGIN:DAYLIGHT
TZOFFSETFROM:+0200
TZOFFSETTO:+0300
TZNAME:IDT
DTSTART:20180323T000000
END:DAYLIGHT
BEGIN:STANDARD
TZOFFSETFROM:+0300
TZOFFSETTO:+0200
TZNAME:IST
DTSTART:20181027T230000
END:STANDARD
BEGIN:DAYLIGHT
TZOFFSETFROM:+0200
TZOFFSETTO:+0300
TZNAME:IDT
DTSTART:20190329T000000
END:DAYLIGHT
BEGIN:STANDARD
TZOFFSETFROM:+0300
TZOFFSETTO:+0200
TZNAME:IST
DTSTART:20191026T230000
END:STANDARD
BEGIN:DAYLIGHT
TZOFFSETFROM:+0200
TZOFFSETTO:+0300
TZNAME:IDT
DTSTART:20200327T000000
END:DAYLIGHT
BEGIN:STANDARD
TZOFFSETFROM:+0300
TZOFFSETTO:+0200
TZNAME:IST
DTSTART:20201024T230000
END:STANDARD
END:VTIMEZONE
BEGIN:VEVENT
DTSTART;TZID=Asia/Jerusalem:20190902T083000
DTEND;TZID=Asia/Jerusalem:20190902T153000
DTSTAMP:20260421T204808
CREATED:20190809T085026Z
LAST-MODIFIED:20190809T085812Z
UID:5288-1567413000-1567438200@www.kharel.org.il
SUMMARY:Congregational Tour of the Hiriya Recycling Park
DESCRIPTION:On Monday\, September 2\, we will go on a congregational day-trip to the Hiriya Recycling Park. \nThe Program:\n8:30 AM: Depart Har-El on a private bus.\n10 AM – 1 PM: Guided tour (in Hebrew) of the park.\n1-2 PM: A light lunch at the “Hiriya Café”\, a social-environmental project employing youth-at-risk from a local youth-advancement unit.\n3:30 PM: Estimated return to Har-El. \nCost: 140 NIS per person\, including round-trip transportation\, entrance to the site\, guided tour\, and lunch.  Payment can be made in cash the day of the tour or in advance by credit card (the fee can be made in payments). \nAll are invited\, both members and non-members. \nFor more details\, registration\, and payment\, please promptly contact Har-El’s administrator\, Shany\, at 053-649-9584. \n\nFor additional information about the site\, please click here.\n\nCome sign up quickly for this interesting tour!
URL:https://www.kharel.org.il/en-us/event/congregational-tour-of-the-hiriya-recycling-park/
LOCATION:Hiriyah Recycling Center\, Israel
END:VEVENT
END:VCALENDAR