BEGIN:VCALENDAR
VERSION:2.0
PRODID:-//Kehilat Har-El - ECPv6.15.17//NONSGML v1.0//EN
CALSCALE:GREGORIAN
METHOD:PUBLISH
X-WR-CALNAME:Kehilat Har-El
X-ORIGINAL-URL:https://www.kharel.org.il/en-us
X-WR-CALDESC:Events for Kehilat Har-El
REFRESH-INTERVAL;VALUE=DURATION:PT1H
X-Robots-Tag:noindex
X-PUBLISHED-TTL:PT1H
BEGIN:VTIMEZONE
TZID:Asia/Jerusalem
BEGIN:DAYLIGHT
TZOFFSETFROM:+0200
TZOFFSETTO:+0300
TZNAME:IDT
DTSTART:20180323T000000
END:DAYLIGHT
BEGIN:STANDARD
TZOFFSETFROM:+0300
TZOFFSETTO:+0200
TZNAME:IST
DTSTART:20181027T230000
END:STANDARD
BEGIN:DAYLIGHT
TZOFFSETFROM:+0200
TZOFFSETTO:+0300
TZNAME:IDT
DTSTART:20190329T000000
END:DAYLIGHT
BEGIN:STANDARD
TZOFFSETFROM:+0300
TZOFFSETTO:+0200
TZNAME:IST
DTSTART:20191026T230000
END:STANDARD
BEGIN:DAYLIGHT
TZOFFSETFROM:+0200
TZOFFSETTO:+0300
TZNAME:IDT
DTSTART:20200327T000000
END:DAYLIGHT
BEGIN:STANDARD
TZOFFSETFROM:+0300
TZOFFSETTO:+0200
TZNAME:IST
DTSTART:20201024T230000
END:STANDARD
END:VTIMEZONE
BEGIN:VEVENT
DTSTART;TZID=Asia/Jerusalem:20190816T100000
DTEND;TZID=Asia/Jerusalem:20190816T110000
DTSTAMP:20260421T175336
CREATED:20190809T084739Z
LAST-MODIFIED:20190809T084756Z
UID:5285-1565949600-1565953200@www.kharel.org.il
SUMMARY:Memorial Service to Mark Seven Years Since the Passing of Ido Aboody z"l
DESCRIPTION:The annual memorial service for Ido Aboody z”l\, son of Har-El members Alice and David Aboody\, will be held on Friday\, August 16 at 10 AM at the Dalet Amot civilian cemetery at Kibbutz Anavim\, officiated by Rabbi Ada and Cantor Evan.  Those interested in attending are asked to contact Cantor Evan.
URL:https://www.kharel.org.il/en-us/event/memorial-service-to-mark-seven-years-since-the-passing-of-ido-aboody-zl/
LOCATION:Dalet Amot Cemetery\, Kiryat Anavim Cemetery\, Israel
END:VEVENT
END:VCALENDAR