BEGIN:VCALENDAR
VERSION:2.0
PRODID:-//Kehilat Har-El - ECPv6.15.17//NONSGML v1.0//EN
CALSCALE:GREGORIAN
METHOD:PUBLISH
X-WR-CALNAME:Kehilat Har-El
X-ORIGINAL-URL:https://www.kharel.org.il/en-us
X-WR-CALDESC:Events for Kehilat Har-El
REFRESH-INTERVAL;VALUE=DURATION:PT1H
X-Robots-Tag:noindex
X-PUBLISHED-TTL:PT1H
BEGIN:VTIMEZONE
TZID:Asia/Jerusalem
BEGIN:DAYLIGHT
TZOFFSETFROM:+0200
TZOFFSETTO:+0300
TZNAME:IDT
DTSTART:20180323T000000
END:DAYLIGHT
BEGIN:STANDARD
TZOFFSETFROM:+0300
TZOFFSETTO:+0200
TZNAME:IST
DTSTART:20181027T230000
END:STANDARD
BEGIN:DAYLIGHT
TZOFFSETFROM:+0200
TZOFFSETTO:+0300
TZNAME:IDT
DTSTART:20190329T000000
END:DAYLIGHT
BEGIN:STANDARD
TZOFFSETFROM:+0300
TZOFFSETTO:+0200
TZNAME:IST
DTSTART:20191026T230000
END:STANDARD
BEGIN:DAYLIGHT
TZOFFSETFROM:+0200
TZOFFSETTO:+0300
TZNAME:IDT
DTSTART:20200327T000000
END:DAYLIGHT
BEGIN:STANDARD
TZOFFSETFROM:+0300
TZOFFSETTO:+0200
TZNAME:IST
DTSTART:20201024T230000
END:STANDARD
END:VTIMEZONE
BEGIN:VEVENT
DTSTART;TZID=Asia/Jerusalem:20190620T090000
DTEND;TZID=Asia/Jerusalem:20190620T103000
DTSTAMP:20260421T015132
CREATED:20180828T201839Z
LAST-MODIFIED:20180903T192508Z
UID:3902-1561021200-1561026600@www.kharel.org.il
SUMMARY:Bar Mitzvah - Matthew Moskovitz
DESCRIPTION:Bar mitzvah of Matthew Moskovitz at the Egalitarian Kotel
URL:https://www.kharel.org.il/en-us/event/bar-mitzvah-matthew-moskovitz/
LOCATION:Egalitarian Kotel
END:VEVENT
BEGIN:VEVENT
DTSTART;TZID=Asia/Jerusalem:20190620T170000
DTEND;TZID=Asia/Jerusalem:20190620T183000
DTSTAMP:20260421T015132
CREATED:20190116T201651Z
LAST-MODIFIED:20190116T201651Z
UID:5110-1561050000-1561055400@www.kharel.org.il
SUMMARY:Bat Mitzvah - Talia Kohn
DESCRIPTION:Bat mitzvah of Talia Kohn from New York City here at Kehilat Har-El
URL:https://www.kharel.org.il/en-us/event/bat-mitzvah-talia-kohn/
LOCATION:Kehilat Har-El\, 16 Shmuel Hanagid Street\, Jerusalem\, Israel
END:VEVENT
END:VCALENDAR