BEGIN:VCALENDAR
VERSION:2.0
PRODID:-//Kehilat Har-El - ECPv6.15.17//NONSGML v1.0//EN
CALSCALE:GREGORIAN
METHOD:PUBLISH
X-ORIGINAL-URL:https://www.kharel.org.il/en-us
X-WR-CALDESC:Events for Kehilat Har-El
REFRESH-INTERVAL;VALUE=DURATION:PT1H
X-Robots-Tag:noindex
X-PUBLISHED-TTL:PT1H
BEGIN:VTIMEZONE
TZID:Asia/Jerusalem
BEGIN:DAYLIGHT
TZOFFSETFROM:+0200
TZOFFSETTO:+0300
TZNAME:IDT
DTSTART:20180323T000000
END:DAYLIGHT
BEGIN:STANDARD
TZOFFSETFROM:+0300
TZOFFSETTO:+0200
TZNAME:IST
DTSTART:20181027T230000
END:STANDARD
BEGIN:DAYLIGHT
TZOFFSETFROM:+0200
TZOFFSETTO:+0300
TZNAME:IDT
DTSTART:20190329T000000
END:DAYLIGHT
BEGIN:STANDARD
TZOFFSETFROM:+0300
TZOFFSETTO:+0200
TZNAME:IST
DTSTART:20191026T230000
END:STANDARD
BEGIN:DAYLIGHT
TZOFFSETFROM:+0200
TZOFFSETTO:+0300
TZNAME:IDT
DTSTART:20200327T000000
END:DAYLIGHT
BEGIN:STANDARD
TZOFFSETFROM:+0300
TZOFFSETTO:+0200
TZNAME:IST
DTSTART:20201024T230000
END:STANDARD
END:VTIMEZONE
BEGIN:VEVENT
DTSTART;TZID=Asia/Jerusalem:20190617T073000
DTEND;TZID=Asia/Jerusalem:20190617T090000
DTSTAMP:20260421T014554
CREATED:20190105T200756Z
LAST-MODIFIED:20190105T200756Z
UID:5096-1560756600-1560762000@www.kharel.org.il
SUMMARY:Bat Mitzvah - Bailey Morales
DESCRIPTION:Bat mitzvah of Bailey Morales from Valencia\, California at the Egalitarian Kotel
URL:https://www.kharel.org.il/en-us/event/bat-mitzvah-bailey-morales/
LOCATION:Kehilat Har-El\, 16 Shmuel Hanagid Street\, Jerusalem\, Israel
END:VEVENT
BEGIN:VEVENT
DTSTART;TZID=Asia/Jerusalem:20190617T090000
DTEND;TZID=Asia/Jerusalem:20190617T103000
DTSTAMP:20260421T014554
CREATED:20181108T090128Z
LAST-MODIFIED:20181108T090128Z
UID:4979-1560762000-1560767400@www.kharel.org.il
SUMMARY:Bar Mitzvah - Josh Lipson
DESCRIPTION:Bar mitzvah of Josh Lipson from Florida at the Egalitarian Kotel
URL:https://www.kharel.org.il/en-us/event/bar-mitzvah-josh-lipson/
LOCATION:Egalitarian Kotel
END:VEVENT
END:VCALENDAR