BEGIN:VCALENDAR
VERSION:2.0
PRODID:-//Kehilat Har-El - ECPv6.15.17//NONSGML v1.0//EN
CALSCALE:GREGORIAN
METHOD:PUBLISH
X-ORIGINAL-URL:https://www.kharel.org.il/en-us
X-WR-CALDESC:Events for Kehilat Har-El
REFRESH-INTERVAL;VALUE=DURATION:PT1H
X-Robots-Tag:noindex
X-PUBLISHED-TTL:PT1H
BEGIN:VTIMEZONE
TZID:Asia/Jerusalem
BEGIN:DAYLIGHT
TZOFFSETFROM:+0200
TZOFFSETTO:+0300
TZNAME:IDT
DTSTART:20180323T000000
END:DAYLIGHT
BEGIN:STANDARD
TZOFFSETFROM:+0300
TZOFFSETTO:+0200
TZNAME:IST
DTSTART:20181027T230000
END:STANDARD
BEGIN:DAYLIGHT
TZOFFSETFROM:+0200
TZOFFSETTO:+0300
TZNAME:IDT
DTSTART:20190329T000000
END:DAYLIGHT
BEGIN:STANDARD
TZOFFSETFROM:+0300
TZOFFSETTO:+0200
TZNAME:IST
DTSTART:20191026T230000
END:STANDARD
BEGIN:DAYLIGHT
TZOFFSETFROM:+0200
TZOFFSETTO:+0300
TZNAME:IDT
DTSTART:20200327T000000
END:DAYLIGHT
BEGIN:STANDARD
TZOFFSETFROM:+0300
TZOFFSETTO:+0200
TZNAME:IST
DTSTART:20201024T230000
END:STANDARD
END:VTIMEZONE
BEGIN:VEVENT
DTSTART;TZID=Asia/Jerusalem:20190610T170000
DTEND;TZID=Asia/Jerusalem:20190610T183000
DTSTAMP:20260421T031636
CREATED:20190516T200635Z
LAST-MODIFIED:20190521T144801Z
UID:5228-1560186000-1560191400@www.kharel.org.il
SUMMARY:Annual General Meeting
DESCRIPTION:Har-El’s Annual General Meeting and Board Elections \nKehilat Har-El’s annual general meeting to confirm the balance sheet for 2018 and to elect the congregation’s board for a two-year term will be held on Monday\, June 10 at 5:00 PM in the sanctuary. \nMembers of the congregation are invited to submit their candidacy to the congregation’s board and committees by filling out a candidacy form and submitting it to the synagogue office by June 6. \nPlease click here to download the candidacy form.  Printed copies will be available in the synagogue at our Shabbat services and in the synagogue office Sundays-Thursdays. \nYour participation in the general meeting is important!
URL:https://www.kharel.org.il/en-us/event/annual-general-meeting-2/
LOCATION:Kehilat Har-El\, 16 Shmuel Hanagid Street\, Jerusalem\, Israel
END:VEVENT
END:VCALENDAR