BEGIN:VCALENDAR
VERSION:2.0
PRODID:-//Kehilat Har-El - ECPv6.15.17//NONSGML v1.0//EN
CALSCALE:GREGORIAN
METHOD:PUBLISH
X-ORIGINAL-URL:https://www.kharel.org.il/en-us
X-WR-CALDESC:Events for Kehilat Har-El
REFRESH-INTERVAL;VALUE=DURATION:PT1H
X-Robots-Tag:noindex
X-PUBLISHED-TTL:PT1H
BEGIN:VTIMEZONE
TZID:Asia/Jerusalem
BEGIN:DAYLIGHT
TZOFFSETFROM:+0200
TZOFFSETTO:+0300
TZNAME:IDT
DTSTART:20180323T000000
END:DAYLIGHT
BEGIN:STANDARD
TZOFFSETFROM:+0300
TZOFFSETTO:+0200
TZNAME:IST
DTSTART:20181027T230000
END:STANDARD
BEGIN:DAYLIGHT
TZOFFSETFROM:+0200
TZOFFSETTO:+0300
TZNAME:IDT
DTSTART:20190329T000000
END:DAYLIGHT
BEGIN:STANDARD
TZOFFSETFROM:+0300
TZOFFSETTO:+0200
TZNAME:IST
DTSTART:20191026T230000
END:STANDARD
BEGIN:DAYLIGHT
TZOFFSETFROM:+0200
TZOFFSETTO:+0300
TZNAME:IDT
DTSTART:20200327T000000
END:DAYLIGHT
BEGIN:STANDARD
TZOFFSETFROM:+0300
TZOFFSETTO:+0200
TZNAME:IST
DTSTART:20201024T230000
END:STANDARD
END:VTIMEZONE
BEGIN:VEVENT
DTSTART;TZID=Asia/Jerusalem:20190427T113000
DTEND;TZID=Asia/Jerusalem:20190427T123000
DTSTAMP:20260421T065657
CREATED:20181115T102223Z
LAST-MODIFIED:20181115T102238Z
UID:5011-1556364600-1556368200@www.kharel.org.il
SUMMARY:Lecture (in Hebrew) Following Services
DESCRIPTION:Lecturer: Tzila Ben-Ari\, senior guide and lecturer at Yad Vashem and at the Herzl Center for Education and Zionism\, on: “Sparks of Light – Stories of the ‘Righteous Among the Nations'”
URL:https://www.kharel.org.il/en-us/event/lecture-in-hebrew-following-services-5/
LOCATION:Kehilat Har-El\, 16 Shmuel Hanagid Street\, Jerusalem\, Israel
END:VEVENT
END:VCALENDAR