BEGIN:VCALENDAR
VERSION:2.0
PRODID:-//Kehilat Har-El - ECPv6.15.17//NONSGML v1.0//EN
CALSCALE:GREGORIAN
METHOD:PUBLISH
X-WR-CALNAME:Kehilat Har-El
X-ORIGINAL-URL:https://www.kharel.org.il/en-us
X-WR-CALDESC:Events for Kehilat Har-El
REFRESH-INTERVAL;VALUE=DURATION:PT1H
X-Robots-Tag:noindex
X-PUBLISHED-TTL:PT1H
BEGIN:VTIMEZONE
TZID:Asia/Jerusalem
BEGIN:DAYLIGHT
TZOFFSETFROM:+0200
TZOFFSETTO:+0300
TZNAME:IDT
DTSTART:20180323T000000
END:DAYLIGHT
BEGIN:STANDARD
TZOFFSETFROM:+0300
TZOFFSETTO:+0200
TZNAME:IST
DTSTART:20181027T230000
END:STANDARD
BEGIN:DAYLIGHT
TZOFFSETFROM:+0200
TZOFFSETTO:+0300
TZNAME:IDT
DTSTART:20190329T000000
END:DAYLIGHT
BEGIN:STANDARD
TZOFFSETFROM:+0300
TZOFFSETTO:+0200
TZNAME:IST
DTSTART:20191026T230000
END:STANDARD
BEGIN:DAYLIGHT
TZOFFSETFROM:+0200
TZOFFSETTO:+0300
TZNAME:IDT
DTSTART:20200327T000000
END:DAYLIGHT
BEGIN:STANDARD
TZOFFSETFROM:+0300
TZOFFSETTO:+0200
TZNAME:IST
DTSTART:20201024T230000
END:STANDARD
END:VTIMEZONE
BEGIN:VEVENT
DTSTART;TZID=Asia/Jerusalem:20190415T103000
DTEND;TZID=Asia/Jerusalem:20190415T120000
DTSTAMP:20260421T065215
CREATED:20190105T191333Z
LAST-MODIFIED:20190105T191333Z
UID:5094-1555324200-1555329600@www.kharel.org.il
SUMMARY:Bat Mitzvah - Gari Lenkowsky
DESCRIPTION:Bat mitzvah of Gari Lenkowsky from Upper Saddle River\, New Jersey at the Egalitarian Kotel
URL:https://www.kharel.org.il/en-us/event/bat-mitzvah-gari-lenkowsky/
LOCATION:Egalitarian Kotel
END:VEVENT
BEGIN:VEVENT
DTSTART;TZID=Asia/Jerusalem:20190415T120000
DTEND;TZID=Asia/Jerusalem:20190415T133000
DTSTAMP:20260421T065215
CREATED:20181015T201243Z
LAST-MODIFIED:20181015T201243Z
UID:3978-1555329600-1555335000@www.kharel.org.il
SUMMARY:Bar Mitzvah Caleb Tuckman
DESCRIPTION:Bar mitzvah of Caleb Tuckman at the Egalitarian Kotel
URL:https://www.kharel.org.il/en-us/event/bar-mitzvah-caleb-tuckman/
LOCATION:Kehilat Har-El\, 16 Shmuel Hanagid Street\, Jerusalem\, Israel
END:VEVENT
END:VCALENDAR